BEGIN:VCALENDAR
VERSION:2.0
PRODID:-//Župnija Lj.-Trnovo - ECPv5.10.1//NONSGML v1.0//EN
CALSCALE:GREGORIAN
METHOD:PUBLISH
X-WR-CALNAME:Župnija Lj.-Trnovo
X-ORIGINAL-URL:https://zupnija.trnovo.info
X-WR-CALDESC:Events for Župnija Lj.-Trnovo
BEGIN:VTIMEZONE
TZID:Europe/Ljubljana
BEGIN:DAYLIGHT
TZOFFSETFROM:+0100
TZOFFSETTO:+0200
TZNAME:CEST
DTSTART:20210328T010000
END:DAYLIGHT
BEGIN:STANDARD
TZOFFSETFROM:+0200
TZOFFSETTO:+0100
TZNAME:CET
DTSTART:20211031T010000
END:STANDARD
END:VTIMEZONE
BEGIN:VEVENT
DTSTART;TZID=Europe/Ljubljana:20210519T180000
DTEND;TZID=Europe/Ljubljana:20210519T200000
DTSTAMP:20260422T121628
CREATED:20211214T164829Z
LAST-MODIFIED:20211214T164949Z
UID:15981-1621447200-1621454400@zupnija.trnovo.info
SUMMARY:RAZGALJENA – Gaja Velušček\, razstava slik
DESCRIPTION:
URL:https://zupnija.trnovo.info/dogodek/razgaljena-gaja-veluscek-razstava-slik/
CATEGORIES:Finžgarjeva galerija,IZPOSTAVLJENO,Kultura in druženje
ATTACH;FMTTYPE=image/jpeg:https://zupnija.trnovo.info/wp-content/uploads/2021/12/FG_RAZGALJENA_Gaja-Veluscek-scaled.jpg
END:VEVENT
END:VCALENDAR