BEGIN:VCALENDAR
VERSION:2.0
PRODID:-//Župnija Lj.-Trnovo - ECPv5.10.1//NONSGML v1.0//EN
CALSCALE:GREGORIAN
METHOD:PUBLISH
X-WR-CALNAME:Župnija Lj.-Trnovo
X-ORIGINAL-URL:https://zupnija.trnovo.info
X-WR-CALDESC:Events for Župnija Lj.-Trnovo
BEGIN:VTIMEZONE
TZID:Europe/Ljubljana
BEGIN:DAYLIGHT
TZOFFSETFROM:+0100
TZOFFSETTO:+0200
TZNAME:CEST
DTSTART:20210328T010000
END:DAYLIGHT
BEGIN:STANDARD
TZOFFSETFROM:+0200
TZOFFSETTO:+0100
TZNAME:CET
DTSTART:20211031T010000
END:STANDARD
END:VTIMEZONE
BEGIN:VEVENT
DTSTART;TZID=Europe/Ljubljana:20211002T083000
DTEND;TZID=Europe/Ljubljana:20211002T123000
DTSTAMP:20260422T224317
CREATED:20210925T145622Z
LAST-MODIFIED:20210926T055450Z
UID:13532-1633163400-1633177800@zupnija.trnovo.info
SUMMARY:Romanje k cerkvi sv. Jožefa na Mlečniku
DESCRIPTION:V soboto\, 2. oktobra začnemo z letošnjimi romanji po cerkvah na okoliških gričih. Ker je leto posvečeno sv. Jožefu\, bomo najprej romali k cerkvi sv. Jožefa na Mlečniku. Pot je zelo kratka\, zato bomo obiskali še zelo znano Sveto Ano. \n\n\n\nZbor je ob 8.30 pred našo župnijsko cerkvijo. Do izhodišča se peljemo s svojimi avtomobili. \n\n\n\nPrisrčno vabljeni. \n\n\n\n \n\n\n\n vir slike: vnaravi.si \n\n\n\n\n\n\n\nSpremljajte nas na povezavi >>
URL:https://zupnija.trnovo.info/dogodek/romanje-k-cerkvi-sv-jozefa-na-mlecniku/
CATEGORIES:Romanja po cerkvah na okoliških gričih
ATTACH;FMTTYPE=image/jpeg:https://zupnija.trnovo.info/wp-content/uploads/2021/09/Cerkev-sv.-Jozefa-na-Mlecniku.jpg
END:VEVENT
END:VCALENDAR