BEGIN:VCALENDAR
VERSION:2.0
PRODID:-//Župnija Lj.-Trnovo - ECPv5.10.1//NONSGML v1.0//EN
CALSCALE:GREGORIAN
METHOD:PUBLISH
X-WR-CALNAME:Župnija Lj.-Trnovo
X-ORIGINAL-URL:https://zupnija.trnovo.info
X-WR-CALDESC:Events for Župnija Lj.-Trnovo
BEGIN:VTIMEZONE
TZID:Europe/Ljubljana
BEGIN:DAYLIGHT
TZOFFSETFROM:+0100
TZOFFSETTO:+0200
TZNAME:CEST
DTSTART:20220327T010000
END:DAYLIGHT
BEGIN:STANDARD
TZOFFSETFROM:+0200
TZOFFSETTO:+0100
TZNAME:CET
DTSTART:20221030T010000
END:STANDARD
END:VTIMEZONE
BEGIN:VEVENT
DTSTART;TZID=Europe/Ljubljana:20221008T083000
DTEND;TZID=Europe/Ljubljana:20221008T130000
DTSTAMP:20260424T104136
CREATED:20221004T063114Z
LAST-MODIFIED:20221004T063410Z
UID:22397-1665217800-1665234000@zupnija.trnovo.info
SUMMARY:Romanje na sv. Miklavža na Jančah
DESCRIPTION:V soboto\, 8. oktobra bomo otvorili naša letošnja romanja po cerkvah in okoliških gričih.Obiskali bomo sv. Miklavža na vrhu\, kjer ne deli jabolk ampak kostanje\, na Jančah.Dobimo se v Trnovem ob 8.30. \n\n\n\nVabljeni! \n\n\n\nSpremljajte nas na strani Romanja po cerkvah na okoliških gričih
URL:https://zupnija.trnovo.info/dogodek/romanje-na-sv-miklavza-na-jancah/
CATEGORIES:Romanja po cerkvah na okoliških gričih
ATTACH;FMTTYPE=image/jpeg:https://zupnija.trnovo.info/wp-content/uploads/2022/10/IMG_9015.jpg
END:VEVENT
END:VCALENDAR