BEGIN:VCALENDAR
VERSION:2.0
PRODID:-//Župnija Lj.-Trnovo - ECPv5.10.1//NONSGML v1.0//EN
CALSCALE:GREGORIAN
METHOD:PUBLISH
X-WR-CALNAME:Župnija Lj.-Trnovo
X-ORIGINAL-URL:https://zupnija.trnovo.info
X-WR-CALDESC:Events for Župnija Lj.-Trnovo
BEGIN:VTIMEZONE
TZID:Europe/Ljubljana
BEGIN:DAYLIGHT
TZOFFSETFROM:+0100
TZOFFSETTO:+0200
TZNAME:CEST
DTSTART:20240331T010000
END:DAYLIGHT
BEGIN:STANDARD
TZOFFSETFROM:+0200
TZOFFSETTO:+0100
TZNAME:CET
DTSTART:20241027T010000
END:STANDARD
END:VTIMEZONE
BEGIN:VEVENT
DTSTART;TZID=Europe/Ljubljana:20241006T140000
DTEND;TZID=Europe/Ljubljana:20241006T160000
DTSTAMP:20260420T112800
CREATED:20241006T120000Z
LAST-MODIFIED:20240927T161547Z
UID:32296-1728223200-1728230400@zupnija.trnovo.info
SUMMARY:Rožni venec na ulicah Trnovega
DESCRIPTION:Nadaljujemo z molitvijo rožnega venca na ulicah Trnovega. Dobimo se v cerkvi ob 14. uri nedeljah: \n\n\n\n6. oktobra \n\n\n\n13. oktobra \n\n\n\n20. oktobra \n\n\n\n27. oktobra \n\n\n\nVabljeni!
URL:https://zupnija.trnovo.info/dogodek/rozni-venec-na-ulicah-trnovega/2024-10-06/
CATEGORIES:Duhovnost in druženje
ATTACH;FMTTYPE=image/jpeg:https://zupnija.trnovo.info/wp-content/uploads/2024/09/IMG_20240926_225134-–-kopija.jpg
END:VEVENT
END:VCALENDAR