BEGIN:VCALENDAR
VERSION:2.0
PRODID:-//Župnija Lj.-Trnovo - ECPv5.10.1//NONSGML v1.0//EN
CALSCALE:GREGORIAN
METHOD:PUBLISH
X-WR-CALNAME:Župnija Lj.-Trnovo
X-ORIGINAL-URL:https://zupnija.trnovo.info
X-WR-CALDESC:Events for Župnija Lj.-Trnovo
BEGIN:VTIMEZONE
TZID:Europe/Ljubljana
BEGIN:DAYLIGHT
TZOFFSETFROM:+0100
TZOFFSETTO:+0200
TZNAME:CEST
DTSTART:20230326T010000
END:DAYLIGHT
BEGIN:STANDARD
TZOFFSETFROM:+0200
TZOFFSETTO:+0100
TZNAME:CET
DTSTART:20231029T010000
END:STANDARD
END:VTIMEZONE
BEGIN:VEVENT
DTSTART;TZID=Europe/Ljubljana:20230929T190000
DTEND;TZID=Europe/Ljubljana:20230929T210000
DTSTAMP:20260425T030151
CREATED:20230920T083452Z
LAST-MODIFIED:20230920T083453Z
UID:28336-1696014000-1696021200@zupnija.trnovo.info
SUMMARY:Seja ŽGS
DESCRIPTION:
URL:https://zupnija.trnovo.info/dogodek/seja-zgs-8/
CATEGORIES:Seje župnijskih delovnih teles
END:VEVENT
END:VCALENDAR