BEGIN:VCALENDAR
VERSION:2.0
PRODID:-//Župnija Lj.-Trnovo - ECPv5.10.1//NONSGML v1.0//EN
CALSCALE:GREGORIAN
METHOD:PUBLISH
X-WR-CALNAME:Župnija Lj.-Trnovo
X-ORIGINAL-URL:https://zupnija.trnovo.info
X-WR-CALDESC:Events for Župnija Lj.-Trnovo
BEGIN:VTIMEZONE
TZID:Europe/Ljubljana
BEGIN:DAYLIGHT
TZOFFSETFROM:+0100
TZOFFSETTO:+0200
TZNAME:CEST
DTSTART:20240331T010000
END:DAYLIGHT
BEGIN:STANDARD
TZOFFSETFROM:+0200
TZOFFSETTO:+0100
TZNAME:CET
DTSTART:20241027T010000
END:STANDARD
END:VTIMEZONE
BEGIN:VEVENT
DTSTART;TZID=Europe/Ljubljana:20240305T190000
DTEND;TZID=Europe/Ljubljana:20240305T210000
DTSTAMP:20260421T111725
CREATED:20240223T145902Z
LAST-MODIFIED:20240223T145904Z
UID:30415-1709665200-1709672400@zupnija.trnovo.info
SUMMARY:Seja ŽPS
DESCRIPTION: V torek\, 5. marca ob 19.00 bo seja Župnijskega pastoralnega sveta.
URL:https://zupnija.trnovo.info/dogodek/seja-zps-10/
CATEGORIES:Seje župnijskih delovnih teles
END:VEVENT
END:VCALENDAR