BEGIN:VCALENDAR
VERSION:2.0
PRODID:-//Župnija Lj.-Trnovo - ECPv5.10.1//NONSGML v1.0//EN
CALSCALE:GREGORIAN
METHOD:PUBLISH
X-WR-CALNAME:Župnija Lj.-Trnovo
X-ORIGINAL-URL:https://zupnija.trnovo.info
X-WR-CALDESC:Events for Župnija Lj.-Trnovo
BEGIN:VTIMEZONE
TZID:Europe/Ljubljana
BEGIN:DAYLIGHT
TZOFFSETFROM:+0100
TZOFFSETTO:+0200
TZNAME:CEST
DTSTART:20250330T010000
END:DAYLIGHT
BEGIN:STANDARD
TZOFFSETFROM:+0200
TZOFFSETTO:+0100
TZNAME:CET
DTSTART:20251026T010000
END:STANDARD
END:VTIMEZONE
BEGIN:VEVENT
DTSTART;TZID=Europe/Ljubljana:20250507T190000
DTEND;TZID=Europe/Ljubljana:20250507T210000
DTSTAMP:20260420T162836
CREATED:20250505T064345Z
LAST-MODIFIED:20250505T064347Z
UID:33610-1746644400-1746651600@zupnija.trnovo.info
SUMMARY:Seja ŽPS
DESCRIPTION:
URL:https://zupnija.trnovo.info/dogodek/seja-zps-12/
CATEGORIES:Seje župnijskih delovnih teles
END:VEVENT
END:VCALENDAR