BEGIN:VCALENDAR
VERSION:2.0
PRODID:-//Župnija Lj.-Trnovo - ECPv5.10.1//NONSGML v1.0//EN
CALSCALE:GREGORIAN
METHOD:PUBLISH
X-WR-CALNAME:Župnija Lj.-Trnovo
X-ORIGINAL-URL:https://zupnija.trnovo.info
X-WR-CALDESC:Events for Župnija Lj.-Trnovo
BEGIN:VTIMEZONE
TZID:Europe/Ljubljana
BEGIN:DAYLIGHT
TZOFFSETFROM:+0100
TZOFFSETTO:+0200
TZNAME:CEST
DTSTART:20210328T010000
END:DAYLIGHT
BEGIN:STANDARD
TZOFFSETFROM:+0200
TZOFFSETTO:+0100
TZNAME:CET
DTSTART:20211031T010000
END:STANDARD
END:VTIMEZONE
BEGIN:VEVENT
DTSTART;TZID=Europe/Ljubljana:20210420T194500
DTEND;TZID=Europe/Ljubljana:20210420T210000
DTSTAMP:20260425T043707
CREATED:20210403T193752Z
LAST-MODIFIED:20210403T194010Z
UID:7430-1618947900-1618952400@zupnija.trnovo.info
SUMMARY:Seja ŽPS
DESCRIPTION:V torek\, 20. aprila\, bo po večerni maši seja ŽPS. Srečanje bo v cerkvi.
URL:https://zupnija.trnovo.info/dogodek/seja-zps-3/
CATEGORIES:Seje župnijskih delovnih teles
END:VEVENT
END:VCALENDAR