BEGIN:VCALENDAR
VERSION:2.0
PRODID:-//Župnija Lj.-Trnovo - ECPv5.10.1//NONSGML v1.0//EN
CALSCALE:GREGORIAN
METHOD:PUBLISH
X-WR-CALNAME:Župnija Lj.-Trnovo
X-ORIGINAL-URL:https://zupnija.trnovo.info
X-WR-CALDESC:Events for Župnija Lj.-Trnovo
BEGIN:VTIMEZONE
TZID:Europe/Ljubljana
BEGIN:DAYLIGHT
TZOFFSETFROM:+0100
TZOFFSETTO:+0200
TZNAME:CEST
DTSTART:20240331T010000
END:DAYLIGHT
BEGIN:STANDARD
TZOFFSETFROM:+0200
TZOFFSETTO:+0100
TZNAME:CET
DTSTART:20241027T010000
END:STANDARD
END:VTIMEZONE
BEGIN:VEVENT
DTSTART;TZID=Europe/Ljubljana:20241104T190000
DTEND;TZID=Europe/Ljubljana:20241104T210000
DTSTAMP:20260421T011451
CREATED:20241025T051926Z
LAST-MODIFIED:20241025T052700Z
UID:32462-1730746800-1730754000@zupnija.trnovo.info
SUMMARY:Seja Župnijskega pastoralnega sveta
DESCRIPTION:Seja župnijskega pastoralnega sveta bo v ponedeljek\, 4. novembra. Lepo je\, da člani vedno bolj razumete in upoštevate\, da je pastoralne dogodke najlepše opraviti\, če jih začnemo s sveto mašo.
URL:https://zupnija.trnovo.info/dogodek/seja-zupnijskega-pastoralnega-sveta-4/
CATEGORIES:Seje župnijskih delovnih teles
END:VEVENT
END:VCALENDAR