BEGIN:VCALENDAR
VERSION:2.0
PRODID:-//Župnija Lj.-Trnovo - ECPv5.10.1//NONSGML v1.0//EN
CALSCALE:GREGORIAN
METHOD:PUBLISH
X-WR-CALNAME:Župnija Lj.-Trnovo
X-ORIGINAL-URL:https://zupnija.trnovo.info
X-WR-CALDESC:Events for Župnija Lj.-Trnovo
BEGIN:VTIMEZONE
TZID:Europe/Ljubljana
BEGIN:DAYLIGHT
TZOFFSETFROM:+0100
TZOFFSETTO:+0200
TZNAME:CEST
DTSTART:20200329T010000
END:DAYLIGHT
BEGIN:STANDARD
TZOFFSETFROM:+0200
TZOFFSETTO:+0100
TZNAME:CET
DTSTART:20201025T010000
END:STANDARD
END:VTIMEZONE
BEGIN:VEVENT
DTSTART;TZID=Europe/Ljubljana:20200918T200000
DTEND;TZID=Europe/Ljubljana:20200918T230000
DTSTAMP:20260422T203542
CREATED:20220410T193733Z
LAST-MODIFIED:20220410T193734Z
UID:18441-1600459200-1600470000@zupnija.trnovo.info
SUMMARY:SLOVENIJA DANES\, SLOVENIJA JUTRI?
DESCRIPTION:Prijazno vabljeni na pogovorni večer z zgodovinarjem in literatom prof. ddr. Igorjem Grdino. Dogodek bo 18. septembra ob 20. uri pod paviljonom Agape.
URL:https://zupnija.trnovo.info/dogodek/slovenija-danes-slovenija-jutri/
CATEGORIES:Duhovnost in druženje,IZPOSTAVLJENO,Kultura in druženje,Trnovski večer
ATTACH;FMTTYPE=image/jpeg:https://zupnija.trnovo.info/wp-content/uploads/2022/04/Trnovski-vecer_VABILO.jpg
END:VEVENT
END:VCALENDAR