BEGIN:VCALENDAR
VERSION:2.0
PRODID:-//Župnija Lj.-Trnovo - ECPv5.10.1//NONSGML v1.0//EN
CALSCALE:GREGORIAN
METHOD:PUBLISH
X-WR-CALNAME:Župnija Lj.-Trnovo
X-ORIGINAL-URL:https://zupnija.trnovo.info
X-WR-CALDESC:Events for Župnija Lj.-Trnovo
BEGIN:VTIMEZONE
TZID:Europe/Ljubljana
BEGIN:DAYLIGHT
TZOFFSETFROM:+0100
TZOFFSETTO:+0200
TZNAME:CEST
DTSTART:20240331T010000
END:DAYLIGHT
BEGIN:STANDARD
TZOFFSETFROM:+0200
TZOFFSETTO:+0100
TZNAME:CET
DTSTART:20241027T010000
END:STANDARD
END:VTIMEZONE
BEGIN:VEVENT
DTSTART;TZID=Europe/Ljubljana:20240208T000000
DTEND;TZID=Europe/Ljubljana:20240208T235959
DTSTAMP:20260424T205100
CREATED:20240129T072157Z
LAST-MODIFIED:20240129T072919Z
UID:30224-1707350400-1707436799@zupnija.trnovo.info
SUMMARY:Slovenski kulturni dan
DESCRIPTION:8. februarja bomo praznovali Slovenski kulturni praznik in pripravili primerno obeležje tudi v cerkvi in v Župnijskem listu. \n\n\n\nIzobesimo zastave.
URL:https://zupnija.trnovo.info/dogodek/slovenski-kulturni-dan/
END:VEVENT
END:VCALENDAR