BEGIN:VCALENDAR
VERSION:2.0
PRODID:-//Župnija Lj.-Trnovo - ECPv5.10.1//NONSGML v1.0//EN
CALSCALE:GREGORIAN
METHOD:PUBLISH
X-WR-CALNAME:Župnija Lj.-Trnovo
X-ORIGINAL-URL:https://zupnija.trnovo.info
X-WR-CALDESC:Events for Župnija Lj.-Trnovo
BEGIN:VTIMEZONE
TZID:Europe/Ljubljana
BEGIN:DAYLIGHT
TZOFFSETFROM:+0100
TZOFFSETTO:+0200
TZNAME:CEST
DTSTART:20250330T010000
END:DAYLIGHT
BEGIN:STANDARD
TZOFFSETFROM:+0200
TZOFFSETTO:+0100
TZNAME:CET
DTSTART:20251026T010000
END:STANDARD
END:VTIMEZONE
BEGIN:VEVENT
DTSTART;TZID=Europe/Ljubljana:20251013T160000
DTEND;TZID=Europe/Ljubljana:20251013T170000
DTSTAMP:20260420T112736
CREATED:20251009T080830Z
LAST-MODIFIED:20251009T081558Z
UID:35044-1760371200-1760374800@zupnija.trnovo.info
SUMMARY:Srečanje z igralko VESNO PERNARČIČ
DESCRIPTION:Vabljeni v ponedeljek\, 13. oktobra 2025\, ob 16. uri v Finžgarjevo galerijo na srečanje z igralko Vesno Pernarčič\, ki ga organizira društvo Karel Jeraj.   \n\n\n\n \n\n\n\nvir slike: splet
URL:https://zupnija.trnovo.info/dogodek/srecanje-z-igralko-vesno-pernarcic/
CATEGORIES:DFG,Finžgarjeva galerija,Pogovorni večer
ATTACH;FMTTYPE=image/jpeg:https://zupnija.trnovo.info/wp-content/uploads/2025/10/o_Kultura-djvu-1825997-tanja-hires-jpeg0_1024.jpg
END:VEVENT
END:VCALENDAR