BEGIN:VCALENDAR
VERSION:2.0
PRODID:-//Župnija Lj.-Trnovo - ECPv5.10.1//NONSGML v1.0//EN
CALSCALE:GREGORIAN
METHOD:PUBLISH
X-WR-CALNAME:Župnija Lj.-Trnovo
X-ORIGINAL-URL:https://zupnija.trnovo.info
X-WR-CALDESC:Events for Župnija Lj.-Trnovo
BEGIN:VTIMEZONE
TZID:Europe/Ljubljana
BEGIN:DAYLIGHT
TZOFFSETFROM:+0100
TZOFFSETTO:+0200
TZNAME:CEST
DTSTART:20200329T010000
END:DAYLIGHT
BEGIN:STANDARD
TZOFFSETFROM:+0200
TZOFFSETTO:+0100
TZNAME:CET
DTSTART:20201025T010000
END:STANDARD
END:VTIMEZONE
BEGIN:VEVENT
DTSTART;TZID=Europe/Ljubljana:20201227T000000
DTEND;TZID=Europe/Ljubljana:20201227T235959
DTSTAMP:20260422T235254
CREATED:20201120T193146Z
LAST-MODIFIED:20210102T120929Z
UID:1152-1609027200-1609113599@zupnija.trnovo.info
SUMMARY:Sv. Družina
DESCRIPTION:
URL:https://zupnija.trnovo.info/dogodek/sv-druzina/
LOCATION:Kolezijska ulica 1\, Ljubljana
CATEGORIES:Nedelje in prazniki
ATTACH;FMTTYPE=image/jpeg:https://zupnija.trnovo.info/wp-content/uploads/2020/12/17b9cb1422b077678a089390fdb12c4d5befd4b6.jpg
END:VEVENT
END:VCALENDAR