BEGIN:VCALENDAR
VERSION:2.0
PRODID:-//Župnija Lj.-Trnovo - ECPv5.10.1//NONSGML v1.0//EN
CALSCALE:GREGORIAN
METHOD:PUBLISH
X-WR-CALNAME:Župnija Lj.-Trnovo
X-ORIGINAL-URL:https://zupnija.trnovo.info
X-WR-CALDESC:Events for Župnija Lj.-Trnovo
BEGIN:VTIMEZONE
TZID:Europe/Ljubljana
BEGIN:DAYLIGHT
TZOFFSETFROM:+0100
TZOFFSETTO:+0200
TZNAME:CEST
DTSTART:20230326T010000
END:DAYLIGHT
BEGIN:STANDARD
TZOFFSETFROM:+0200
TZOFFSETTO:+0100
TZNAME:CET
DTSTART:20231029T010000
END:STANDARD
END:VTIMEZONE
BEGIN:VEVENT
DTSTART;TZID=Europe/Ljubljana:20231226T000000
DTEND;TZID=Europe/Ljubljana:20231226T235959
DTSTAMP:20260420T220321
CREATED:20231203T194300Z
LAST-MODIFIED:20231203T194904Z
UID:29320-1703548800-1703635199@zupnija.trnovo.info
SUMMARY:Sv. Štefan in Dan samostojnosti
DESCRIPTION:V torek\, 26. decembra\, goduje diakon sv. Štefan\, ta dan je tudi Dan samostojnosti\, na katero smo zelo ponosni. Maši ob 8.00 in ob 19.00.
URL:https://zupnija.trnovo.info/dogodek/sv-stefan-in-dan-samostojnosti/
CATEGORIES:Praznik
END:VEVENT
END:VCALENDAR