BEGIN:VCALENDAR
VERSION:2.0
PRODID:-//Župnija Lj.-Trnovo - ECPv5.10.1//NONSGML v1.0//EN
CALSCALE:GREGORIAN
METHOD:PUBLISH
X-WR-CALNAME:Župnija Lj.-Trnovo
X-ORIGINAL-URL:https://zupnija.trnovo.info
X-WR-CALDESC:Events for Župnija Lj.-Trnovo
BEGIN:VTIMEZONE
TZID:Europe/Ljubljana
BEGIN:DAYLIGHT
TZOFFSETFROM:+0100
TZOFFSETTO:+0200
TZNAME:CEST
DTSTART:20250330T010000
END:DAYLIGHT
BEGIN:STANDARD
TZOFFSETFROM:+0200
TZOFFSETTO:+0100
TZNAME:CET
DTSTART:20251026T010000
END:STANDARD
END:VTIMEZONE
BEGIN:VEVENT
DTSTART;TZID=Europe/Ljubljana:20251211T170000
DTEND;TZID=Europe/Ljubljana:20251211T190000
DTSTAMP:20260420T112754
CREATED:20251204T085355Z
LAST-MODIFIED:20251204T085633Z
UID:35551-1765472400-1765479600@zupnija.trnovo.info
SUMMARY:SVET MED TIŠINO IN GLASOVI
DESCRIPTION:Spoštovani\,\n\n\n\nprisrčno vabljeni na besedno-glasbene utrinke\, ki jih bodo člani Kulturno-prosvetnega in športno rekreativnega društva slepih in slabovidnih »Karel Jeraj« uprizorili v četrtek\,\n\n\n\n11. decembra 2025  ob 17. uri \n\n\n\nv Finžgarjevi galeriji\, Kolezijska cesta 1\, Ljubljana \n\n\n\nDogodek Svet med tišino in glasovi je posvečen ustvarjalnosti slepih in slabovidnih\, tako avtorjev kot nastopajočih. \n\n\n\nČastna gostja: gospa Aksinja Kermauner\, pisateljica\, profesorica in tiflopedagoginja.Program bo povezovala: priznana voditeljica gospa Tajda Lekše. \n\n\n\nNastopajoči: \n\n\n\nValter Čučkovič\, Mirjana Šernek\, Lidi Klebučar\, Duo Simi- Simona in Miha Jakopin\, Irena Temlin\, Ana Oražem in  Anica Putre. \n\n\n\nB e s e d a   p o v e z u j e \,  k u l t u r a   z d r u ž u j e.
URL:https://zupnija.trnovo.info/dogodek/svet-med-tisino-in-glasovi/
CATEGORIES:DFG,Kultura in druženje
ATTACH;FMTTYPE=image/jpeg:https://zupnija.trnovo.info/wp-content/uploads/2025/12/Nastopajoci-KJ_pop.jpeg
END:VEVENT
END:VCALENDAR