BEGIN:VCALENDAR
VERSION:2.0
PRODID:-//Župnija Lj.-Trnovo - ECPv5.10.1//NONSGML v1.0//EN
CALSCALE:GREGORIAN
METHOD:PUBLISH
X-WR-CALNAME:Župnija Lj.-Trnovo
X-ORIGINAL-URL:https://zupnija.trnovo.info
X-WR-CALDESC:Events for Župnija Lj.-Trnovo
BEGIN:VTIMEZONE
TZID:Europe/Ljubljana
BEGIN:DAYLIGHT
TZOFFSETFROM:+0100
TZOFFSETTO:+0200
TZNAME:CEST
DTSTART:20250330T010000
END:DAYLIGHT
BEGIN:STANDARD
TZOFFSETFROM:+0200
TZOFFSETTO:+0100
TZNAME:CET
DTSTART:20251026T010000
END:STANDARD
END:VTIMEZONE
BEGIN:VEVENT
DTSTART;TZID=Europe/Ljubljana:20251125T190000
DTEND;TZID=Europe/Ljubljana:20251125T210000
DTSTAMP:20260420T162523
CREATED:20251124T055506Z
LAST-MODIFIED:20251124T055510Z
UID:35189-1764097200-1764104400@zupnija.trnovo.info
SUMMARY:Svet veroučne šole
DESCRIPTION:
URL:https://zupnija.trnovo.info/dogodek/svet-veroucne-sole-15/
CATEGORIES:Seje župnijskih delovnih teles
END:VEVENT
END:VCALENDAR