BEGIN:VCALENDAR
VERSION:2.0
PRODID:-//Župnija Lj.-Trnovo - ECPv5.10.1//NONSGML v1.0//EN
CALSCALE:GREGORIAN
METHOD:PUBLISH
X-WR-CALNAME:Župnija Lj.-Trnovo
X-ORIGINAL-URL:https://zupnija.trnovo.info
X-WR-CALDESC:Events for Župnija Lj.-Trnovo
BEGIN:VTIMEZONE
TZID:Europe/Ljubljana
BEGIN:DAYLIGHT
TZOFFSETFROM:+0100
TZOFFSETTO:+0200
TZNAME:CEST
DTSTART:20250330T010000
END:DAYLIGHT
BEGIN:STANDARD
TZOFFSETFROM:+0200
TZOFFSETTO:+0100
TZNAME:CET
DTSTART:20251026T010000
END:STANDARD
END:VTIMEZONE
BEGIN:VEVENT
DTSTART;TZID=Europe/Ljubljana:20250106T000000
DTEND;TZID=Europe/Ljubljana:20250106T235959
DTSTAMP:20260423T190513
CREATED:20241230T112451Z
LAST-MODIFIED:20241230T112452Z
UID:32771-1736121600-1736207999@zupnija.trnovo.info
SUMMARY:Sveti trije kralji\, Gospodovo razglašenje
DESCRIPTION:Sveti trije kralji\, Gospodovo razglašenje; maši ob 8.00 in ob 19.00.
URL:https://zupnija.trnovo.info/dogodek/sveti-trije-kralji-gospodovo-razglasenje-2/
END:VEVENT
END:VCALENDAR