BEGIN:VCALENDAR
VERSION:2.0
PRODID:-//Župnija Lj.-Trnovo - ECPv5.10.1//NONSGML v1.0//EN
CALSCALE:GREGORIAN
METHOD:PUBLISH
X-WR-CALNAME:Župnija Lj.-Trnovo
X-ORIGINAL-URL:https://zupnija.trnovo.info
X-WR-CALDESC:Events for Župnija Lj.-Trnovo
BEGIN:VTIMEZONE
TZID:Europe/Ljubljana
BEGIN:DAYLIGHT
TZOFFSETFROM:+0100
TZOFFSETTO:+0200
TZNAME:CEST
DTSTART:20240331T010000
END:DAYLIGHT
BEGIN:STANDARD
TZOFFSETFROM:+0200
TZOFFSETTO:+0100
TZNAME:CET
DTSTART:20241027T010000
END:STANDARD
END:VTIMEZONE
BEGIN:VEVENT
DTSTART;TZID=Europe/Ljubljana:20241224T190000
DTEND;TZID=Europe/Ljubljana:20241224T235900
DTSTAMP:20260423T200518
CREATED:20241224T055944Z
LAST-MODIFIED:20241224T060910Z
UID:32733-1735066800-1735084740@zupnija.trnovo.info
SUMMARY:SVETI VEČER
DESCRIPTION:»Aleluja. Oznanjam vam veliko veselje. Danes se nam je rodil Odrešenik\, ki je Kristus Gospod. Aleluja.« Lk 2\,1–14 \n\n\n\nLetošnje praznovanje Jezusovega rojstva bo v nekem smislu nekaj posebnega. Te priložnosti ne smemo spregledati. Na sveti večer v družinah blagoslovimo prostore in prosimo\, da bi SVETOST\, ki se bo ob Božiču naselila med nami\, ostala pri nas vse dni leta. Blagoslov v krščanskih družinah opravlja oče kot družinski duhovnik na vse tri svete večere. Njegova naloga je\, da to svojo službo dobro opravi. Nanjo se mora tudi temeljito pripraviti. Oče zadolži družinske člane in jim razdeli vloge. Oče vodi obred in cela družina naj občuduje njegovo zrelost in moškost. Vsako leto imamo ob 19. uri prvo božično mašo. Po maši v župnišče povabimo tiste\, ki nimajo možnosti za skupno praznovanje v družini\, ker je nimajo. Vsako leto smo hvaležni nekaterim župljanom\, ki pri tem dogodku pomagate in sodelujete do 22. ure\, ko gremo v cerkev k jaslicam in tam s pesmijo in molitvami zaključimo sveti večer. Pol ure pred polnočnico naš mešani cerkveni pevski zbor ob sodelovanju povezovalca besedila med pesmimi pripravi duhovni uvod v praznovanje polnočnice. Pri polnočni maši je lepo\, če so izbrane pesmi\, ki jih tudi ljudstvo lahko poje in da tudi tisti\, ki ne pridejo redno v cerkev\, poprimejo in obudijo otroško in mladostno sveto božično razpoloženje. Ostale božične maše bodo še ob 8.00\, ob 10.00\, ob 15.00 v Domu Janeza Krstnika in ob 19.00 zopet v cerkvi. \n\n\n\nPredlog: Ali bo kdo sklenil\, da bo redno obiskoval nedeljske maše med letom? To bi bila velika izbira in najpomembnejši božični dar.
URL:https://zupnija.trnovo.info/dogodek/sveti-vecer-3/
ATTACH;FMTTYPE=image/jpeg:https://zupnija.trnovo.info/wp-content/uploads/2023/12/maxresdefault-1.jpg
END:VEVENT
END:VCALENDAR