BEGIN:VCALENDAR
VERSION:2.0
PRODID:-//Župnija Lj.-Trnovo - ECPv5.10.1//NONSGML v1.0//EN
CALSCALE:GREGORIAN
METHOD:PUBLISH
X-WR-CALNAME:Župnija Lj.-Trnovo
X-ORIGINAL-URL:https://zupnija.trnovo.info
X-WR-CALDESC:Events for Župnija Lj.-Trnovo
BEGIN:VTIMEZONE
TZID:Europe/Ljubljana
BEGIN:DAYLIGHT
TZOFFSETFROM:+0100
TZOFFSETTO:+0200
TZNAME:CEST
DTSTART:20220327T010000
END:DAYLIGHT
BEGIN:STANDARD
TZOFFSETFROM:+0200
TZOFFSETTO:+0100
TZNAME:CET
DTSTART:20221030T010000
END:STANDARD
END:VTIMEZONE
BEGIN:VEVENT
DTSTART;TZID=Europe/Ljubljana:20221224T190000
DTEND;TZID=Europe/Ljubljana:20221225T013000
DTSTAMP:20260425T142612
CREATED:20221130T062454Z
LAST-MODIFIED:20221213T193600Z
UID:23632-1671908400-1671931800@zupnija.trnovo.info
SUMMARY:SVETI VEČER IN ZAČETEK BOŽIČNEGA ČASA
DESCRIPTION:Na ta sveti večer\, polnem veselega\, svečanega pričakovanja\, bomo opravili blagoslov svojih domov\, hiš\, stanovanj in družin.Maša: 7.30\, ob 16.30 blagoslov župnišča in Doma Janeza Krstnika\, prva božična maša s programom za mlade ob 19.00\, ob 20.30 večerja za osamljene in uboge\, ob 23.30 program pred polnočnico in polnočnica.
URL:https://zupnija.trnovo.info/dogodek/sveti-vecer-in-zacetek-bozicnega-casa/
CATEGORIES:Nedelje in prazniki
ATTACH;FMTTYPE=image/jpeg:https://zupnija.trnovo.info/wp-content/uploads/2021/12/IMG_20211225_013909-1.jpg
END:VEVENT
END:VCALENDAR