BEGIN:VCALENDAR
VERSION:2.0
PRODID:-//Župnija Lj.-Trnovo - ECPv5.10.1//NONSGML v1.0//EN
CALSCALE:GREGORIAN
METHOD:PUBLISH
X-WR-CALNAME:Župnija Lj.-Trnovo
X-ORIGINAL-URL:https://zupnija.trnovo.info
X-WR-CALDESC:Events for Župnija Lj.-Trnovo
BEGIN:VTIMEZONE
TZID:Europe/Ljubljana
BEGIN:DAYLIGHT
TZOFFSETFROM:+0100
TZOFFSETTO:+0200
TZNAME:CEST
DTSTART:20250330T010000
END:DAYLIGHT
BEGIN:STANDARD
TZOFFSETFROM:+0200
TZOFFSETTO:+0100
TZNAME:CET
DTSTART:20251026T010000
END:STANDARD
END:VTIMEZONE
BEGIN:VEVENT
DTSTART;TZID=Europe/Ljubljana:20250129T194500
DTEND;TZID=Europe/Ljubljana:20250129T210000
DTSTAMP:20260421T093106
CREATED:20250113T071324Z
LAST-MODIFIED:20250113T071325Z
UID:32807-1738179900-1738184400@zupnija.trnovo.info
SUMMARY:SVETOPISEMSKI MARATON 2025
DESCRIPTION:26.1. – 30.1. – Svetopisemski maraton 2025. V naši župniji bomo brali v sredo\, 29.1. od 19.45-21.00 ure v okviru biblične skupine\, pridruži se! \n\n\n\n\n\n\n\n\n\n\n\n\n\n\nVeč na strani >>
URL:https://zupnija.trnovo.info/dogodek/svetopisemski-maraton-2025/
ATTACH;FMTTYPE=image/jpeg:https://zupnija.trnovo.info/wp-content/uploads/2025/01/SPM25-feature.jpg
END:VEVENT
END:VCALENDAR