BEGIN:VCALENDAR
VERSION:2.0
PRODID:-//Župnija Lj.-Trnovo - ECPv5.10.1//NONSGML v1.0//EN
CALSCALE:GREGORIAN
METHOD:PUBLISH
X-WR-CALNAME:Župnija Lj.-Trnovo
X-ORIGINAL-URL:https://zupnija.trnovo.info
X-WR-CALDESC:Events for Župnija Lj.-Trnovo
BEGIN:VTIMEZONE
TZID:Europe/Ljubljana
BEGIN:DAYLIGHT
TZOFFSETFROM:+0100
TZOFFSETTO:+0200
TZNAME:CEST
DTSTART:20250330T010000
END:DAYLIGHT
BEGIN:STANDARD
TZOFFSETFROM:+0200
TZOFFSETTO:+0100
TZNAME:CET
DTSTART:20251026T010000
END:STANDARD
END:VTIMEZONE
BEGIN:VEVENT
DTSTART;TZID=Europe/Ljubljana:20250105T190000
DTEND;TZID=Europe/Ljubljana:20250105T200000
DTSTAMP:20260423T190249
CREATED:20241230T112344Z
LAST-MODIFIED:20241230T112347Z
UID:32767-1736103600-1736107200@zupnija.trnovo.info
SUMMARY:TRETJI SVETI VEČER
DESCRIPTION:Tretji sveti večer večer bomo obhajali 5. januarja 2025\, ko bomo praznovali praznik sv. treh kraljev. Imenujemo ga tudi Gospodovo razglašenje. Otroci bodo k večerni ob 19. uri v procesiji prinesli svoje zbrane prispevke za misijone. Odpovedi\, premagovanja in vse žrtve adventa bodo položili na oltar in jih poslali misijonarjem po svetu.
URL:https://zupnija.trnovo.info/dogodek/tretji-sveti-vecer-2/
CATEGORIES:Praznik
END:VEVENT
END:VCALENDAR