BEGIN:VCALENDAR
VERSION:2.0
PRODID:-//Župnija Lj.-Trnovo - ECPv5.10.1//NONSGML v1.0//EN
CALSCALE:GREGORIAN
METHOD:PUBLISH
X-WR-CALNAME:Župnija Lj.-Trnovo
X-ORIGINAL-URL:https://zupnija.trnovo.info
X-WR-CALDESC:Events for Župnija Lj.-Trnovo
BEGIN:VTIMEZONE
TZID:Europe/Ljubljana
BEGIN:DAYLIGHT
TZOFFSETFROM:+0100
TZOFFSETTO:+0200
TZNAME:CEST
DTSTART:20240331T010000
END:DAYLIGHT
BEGIN:STANDARD
TZOFFSETFROM:+0200
TZOFFSETTO:+0100
TZNAME:CET
DTSTART:20241027T010000
END:STANDARD
END:VTIMEZONE
BEGIN:VEVENT
DTSTART;TZID=Europe/Ljubljana:20240308T200000
DTEND;TZID=Europe/Ljubljana:20240308T230000
DTSTAMP:20260421T095042
CREATED:20240308T190000Z
LAST-MODIFIED:20240305T133320Z
UID:30378-1709928000-1709938800@zupnija.trnovo.info
SUMMARY:Trnovski večer - KAM PLOVEMO?
DESCRIPTION:Že vse leto čakamo na Trnovski večer. Tisti\, ki ste redno povezani z življenjem naše župnije veste\, da imamo že od misijona vsako leto Trnovski večer. Sprva je bil to večer za moške\, kasneje smo ga razširili na vse\, da bi vsako leto poglobljeno obdelali vsaj eno pomembnejšo vrednoto našega življenja. Letos bo Trnovski večer v petek\, 8. marca ob 20. 00 na Livadi. Povabili smo Borisa Tomašiča in dr. Jerneja Pikala\, pogovor pa bo povezoval Janez Zupan. Srčno vabljeni vsi\, ki Vam je mar za našo prihodnost. Za agape na večeru se priporočamo za kakšen kulinarični »prispevek«.
URL:https://zupnija.trnovo.info/dogodek/trnovski-vecer/
CATEGORIES:DFG,IZPOSTAVLJENO,Kultura in druženje,Pogovorni večer,Trnovski večer
ATTACH;FMTTYPE=image/jpeg:https://zupnija.trnovo.info/wp-content/uploads/2024/02/F013703-ljubljana_1003055-photo-m-–-kopija-2-–-kopija.jpg
END:VEVENT
END:VCALENDAR