BEGIN:VCALENDAR
VERSION:2.0
PRODID:-//Župnija Lj.-Trnovo - ECPv5.10.1//NONSGML v1.0//EN
CALSCALE:GREGORIAN
METHOD:PUBLISH
X-WR-CALNAME:Župnija Lj.-Trnovo
X-ORIGINAL-URL:https://zupnija.trnovo.info
X-WR-CALDESC:Events for Župnija Lj.-Trnovo
BEGIN:VTIMEZONE
TZID:Europe/Ljubljana
BEGIN:DAYLIGHT
TZOFFSETFROM:+0100
TZOFFSETTO:+0200
TZNAME:CEST
DTSTART:20240331T010000
END:DAYLIGHT
BEGIN:STANDARD
TZOFFSETFROM:+0200
TZOFFSETTO:+0100
TZNAME:CET
DTSTART:20241027T010000
END:STANDARD
END:VTIMEZONE
BEGIN:VEVENT
DTSTART;TZID=Europe/Ljubljana:20240119T200000
DTEND;TZID=Europe/Ljubljana:20240119T235900
DTSTAMP:20260421T130452
CREATED:20231227T105920Z
LAST-MODIFIED:20240104T055105Z
UID:29607-1705694400-1705708740@zupnija.trnovo.info
SUMMARY:VEČER ZA VAJU
DESCRIPTION:Večer za Vaju bo v petek\, 19. januarja ob 20.00 v Antonovem domu na Viču. Z nami bo družina Ceglar. Vabljeni zakonski pari in tisti\, ki ste zaročeni in se na poroko že lepo pripravljate. Večer bo za vse lepa spodbuda.
URL:https://zupnija.trnovo.info/dogodek/vecer-za-vaju-5/
CATEGORIES:Večer za Vaju
ATTACH;FMTTYPE=image/jpeg:https://zupnija.trnovo.info/wp-content/uploads/2023/12/Vecer-za-Vaju_vabilo-2024_fin_naslovna.jpg
END:VEVENT
END:VCALENDAR