BEGIN:VCALENDAR
VERSION:2.0
PRODID:-//Župnija Lj.-Trnovo - ECPv5.10.1//NONSGML v1.0//EN
CALSCALE:GREGORIAN
METHOD:PUBLISH
X-WR-CALNAME:Župnija Lj.-Trnovo
X-ORIGINAL-URL:https://zupnija.trnovo.info
X-WR-CALDESC:Events for Župnija Lj.-Trnovo
BEGIN:VTIMEZONE
TZID:Europe/Ljubljana
BEGIN:DAYLIGHT
TZOFFSETFROM:+0100
TZOFFSETTO:+0200
TZNAME:CEST
DTSTART:20250330T010000
END:DAYLIGHT
BEGIN:STANDARD
TZOFFSETFROM:+0200
TZOFFSETTO:+0100
TZNAME:CET
DTSTART:20251026T010000
END:STANDARD
END:VTIMEZONE
BEGIN:VEVENT
DTSTART;TZID=Europe/Ljubljana:20250124T200000
DTEND;TZID=Europe/Ljubljana:20250124T235900
DTSTAMP:20260421T093519
CREATED:20241230T114319Z
LAST-MODIFIED:20241230T114550Z
UID:32783-1737748800-1737763140@zupnija.trnovo.info
SUMMARY:VEČER ZA VAJU
DESCRIPTION:Večer za vaju bo letos v petek\, 24. januarja v Antonovem domu na Viču. Letos bo vsebina večera drugačna. Vabljeni vsi zakonski pari in tisti\, ki se že pripravljate na ta korak.
URL:https://zupnija.trnovo.info/dogodek/vecer-za-vaju-6/
CATEGORIES:DFG,Duhovnost in druženje,Večer za Vaju
ATTACH;FMTTYPE=image/jpeg:https://zupnija.trnovo.info/wp-content/uploads/2024/12/Vecer-za-Vaju_vabilo-2025_V1-–-naslovna-scaled.jpg
END:VEVENT
END:VCALENDAR