BEGIN:VCALENDAR
VERSION:2.0
PRODID:-//Župnija Lj.-Trnovo - ECPv5.10.1//NONSGML v1.0//EN
CALSCALE:GREGORIAN
METHOD:PUBLISH
X-WR-CALNAME:Župnija Lj.-Trnovo
X-ORIGINAL-URL:https://zupnija.trnovo.info
X-WR-CALDESC:Events for Župnija Lj.-Trnovo
BEGIN:VTIMEZONE
TZID:Europe/Ljubljana
BEGIN:DAYLIGHT
TZOFFSETFROM:+0100
TZOFFSETTO:+0200
TZNAME:CEST
DTSTART:20210328T010000
END:DAYLIGHT
BEGIN:STANDARD
TZOFFSETFROM:+0200
TZOFFSETTO:+0100
TZNAME:CET
DTSTART:20211031T010000
END:STANDARD
END:VTIMEZONE
BEGIN:VEVENT
DTSTART;TZID=Europe/Ljubljana:20210331T000000
DTEND;TZID=Europe/Ljubljana:20210331T235959
DTSTAMP:20260422T164843
CREATED:20210326T201820Z
LAST-MODIFIED:20210326T202226Z
UID:6481-1617148800-1617235199@zupnija.trnovo.info
SUMMARY:Velika sreda
DESCRIPTION:Prvi trije dnevi Velikega tedna sodijo še v postni čas. Ostali trije sveti dnevi so posebej ovrednoteni kot velikonočnaskrivnost zaradi Jezusove zadnje večerje\, zaradi strahotne smrti in zaradi počitka v grobu.6.30 – jutranja molitev hvalnic7.30 – jutranja maša – spovedovanje15.30 – priprava na spoved in spovedovanje za 5. razred Veroučne šole Trnovo16.30 – priprava na spoved in spovedovanje za 6. razred Veroučne šole Trnovo19.00 – večerna maša – spovedovanje
URL:https://zupnija.trnovo.info/dogodek/velika-sreda/
END:VEVENT
END:VCALENDAR