BEGIN:VCALENDAR
VERSION:2.0
PRODID:-//Župnija Lj.-Trnovo - ECPv5.10.1//NONSGML v1.0//EN
CALSCALE:GREGORIAN
METHOD:PUBLISH
X-WR-CALNAME:Župnija Lj.-Trnovo
X-ORIGINAL-URL:https://zupnija.trnovo.info
X-WR-CALDESC:Events for Župnija Lj.-Trnovo
BEGIN:VTIMEZONE
TZID:Europe/Ljubljana
BEGIN:DAYLIGHT
TZOFFSETFROM:+0100
TZOFFSETTO:+0200
TZNAME:CEST
DTSTART:20250330T010000
END:DAYLIGHT
BEGIN:STANDARD
TZOFFSETFROM:+0200
TZOFFSETTO:+0100
TZNAME:CET
DTSTART:20251026T010000
END:STANDARD
END:VTIMEZONE
BEGIN:VEVENT
DTSTART;TZID=Europe/Ljubljana:20250417T063000
DTEND;TZID=Europe/Ljubljana:20250417T070000
DTSTAMP:20260421T042541
CREATED:20250414T061147Z
LAST-MODIFIED:20250414T061148Z
UID:33391-1744871400-1744873200@zupnija.trnovo.info
SUMMARY:Veliki četrtek - jutranje hvalnice
DESCRIPTION:
URL:https://zupnija.trnovo.info/dogodek/veliki-cetrtek-jutranje-hvalnice/
END:VEVENT
END:VCALENDAR