BEGIN:VCALENDAR
VERSION:2.0
PRODID:-//Župnija Lj.-Trnovo - ECPv5.10.1//NONSGML v1.0//EN
CALSCALE:GREGORIAN
METHOD:PUBLISH
X-WR-CALNAME:Župnija Lj.-Trnovo
X-ORIGINAL-URL:https://zupnija.trnovo.info
X-WR-CALDESC:Events for Župnija Lj.-Trnovo
BEGIN:VTIMEZONE
TZID:Europe/Ljubljana
BEGIN:DAYLIGHT
TZOFFSETFROM:+0100
TZOFFSETTO:+0200
TZNAME:CEST
DTSTART:20250330T010000
END:DAYLIGHT
BEGIN:STANDARD
TZOFFSETFROM:+0200
TZOFFSETTO:+0100
TZNAME:CET
DTSTART:20251026T010000
END:STANDARD
END:VTIMEZONE
BEGIN:VEVENT
DTSTART;TZID=Europe/Ljubljana:20250415T190000
DTEND;TZID=Europe/Ljubljana:20250415T193000
DTSTAMP:20260421T080605
CREATED:20250414T060855Z
LAST-MODIFIED:20250414T060856Z
UID:33379-1744743600-1744745400@zupnija.trnovo.info
SUMMARY:Veliki torek - spovedovanje
DESCRIPTION:
URL:https://zupnija.trnovo.info/dogodek/veliki-torek-spovedovanje/
END:VEVENT
END:VCALENDAR