BEGIN:VCALENDAR
VERSION:2.0
PRODID:-//Župnija Lj.-Trnovo - ECPv5.10.1//NONSGML v1.0//EN
CALSCALE:GREGORIAN
METHOD:PUBLISH
X-WR-CALNAME:Župnija Lj.-Trnovo
X-ORIGINAL-URL:https://zupnija.trnovo.info
X-WR-CALDESC:Events for Župnija Lj.-Trnovo
BEGIN:VTIMEZONE
TZID:Europe/Ljubljana
BEGIN:DAYLIGHT
TZOFFSETFROM:+0100
TZOFFSETTO:+0200
TZNAME:CEST
DTSTART:20210328T010000
END:DAYLIGHT
BEGIN:STANDARD
TZOFFSETFROM:+0200
TZOFFSETTO:+0100
TZNAME:CET
DTSTART:20211031T010000
END:STANDARD
END:VTIMEZONE
BEGIN:VEVENT
DTSTART;TZID=Europe/Ljubljana:20210330T000000
DTEND;TZID=Europe/Ljubljana:20210330T235959
DTSTAMP:20260422T183758
CREATED:20210326T201610Z
LAST-MODIFIED:20210326T201611Z
UID:6478-1617062400-1617148799@zupnija.trnovo.info
SUMMARY:Veliki torek
DESCRIPTION:Tam\, kjer sem se srdil nad seboj\, v najskrivnejšem kotu mojega duha\, kjer me je kesanje razjedlo in sem starega človekav sebi daroval kot klavno žrtev\, kjer sem v zaupanju vate začel misliti na svoje prerojenje\, tam si mi dal okusiti svojosladkost in si vlil veselje v moje srce. (sv. Avguštin)6.30 – jutranja molitev brevirja7.30 – jutranja maša – spovedovanje15.30 – priprava na spoved in spovedovanje za 7. razred Veroučne šole Trnovo16.30 – priprava na spoved in spovedovanje za 8. in 9. razred Veroučne šole Trnovo19.00 – večerna maša – spovedovanje
URL:https://zupnija.trnovo.info/dogodek/veliki-torek/
END:VEVENT
END:VCALENDAR