BEGIN:VCALENDAR
VERSION:2.0
PRODID:-//Župnija Lj.-Trnovo - ECPv5.10.1//NONSGML v1.0//EN
CALSCALE:GREGORIAN
METHOD:PUBLISH
X-WR-CALNAME:Župnija Lj.-Trnovo
X-ORIGINAL-URL:https://zupnija.trnovo.info
X-WR-CALDESC:Events for Župnija Lj.-Trnovo
BEGIN:VTIMEZONE
TZID:Europe/Ljubljana
BEGIN:DAYLIGHT
TZOFFSETFROM:+0100
TZOFFSETTO:+0200
TZNAME:CEST
DTSTART:20240331T010000
END:DAYLIGHT
BEGIN:STANDARD
TZOFFSETFROM:+0200
TZOFFSETTO:+0100
TZNAME:CET
DTSTART:20241027T010000
END:STANDARD
END:VTIMEZONE
BEGIN:VEVENT
DTSTART;TZID=Europe/Ljubljana:20240926T180000
DTEND;TZID=Europe/Ljubljana:20240926T220000
DTSTAMP:20260420T094015
CREATED:20240902T142855Z
LAST-MODIFIED:20250223T210937Z
UID:32171-1727373600-1727388000@zupnija.trnovo.info
SUMMARY:Znameniti trnovčani - esejist in filozof Iztok Osojnik
DESCRIPTION:Vabljeni na pogovor s pesnikom\, pisateljem\, jezikoslovcem\, prevajalecem in esejistom IZTOKOM OSOJNIKOM\, ki bo v četrtek\, 26.9. 2024 ob 18 uri v Finžgarjevi galeriji. \n\n\n\n \n\n\n\nZ njim se bo pogovarjal Dušan Brešar.
URL:https://zupnija.trnovo.info/dogodek/znameniti-trnovcani-esejist-in-filozof-iztok-osojnik/
CATEGORIES:DFG,Dnevi Četrtne skupnosti Trnovo,Finžgarjeva galerija,Pogovorni večer
ATTACH;FMTTYPE=image/jpeg:https://zupnija.trnovo.info/wp-content/uploads/2024/09/Iztok-Osojnik.jpg
END:VEVENT
END:VCALENDAR