BEGIN:VCALENDAR
VERSION:2.0
PRODID:-//Župnija Lj.-Trnovo - ECPv5.10.1//NONSGML v1.0//EN
CALSCALE:GREGORIAN
METHOD:PUBLISH
X-WR-CALNAME:Župnija Lj.-Trnovo
X-ORIGINAL-URL:https://zupnija.trnovo.info
X-WR-CALDESC:Events for Župnija Lj.-Trnovo
BEGIN:VTIMEZONE
TZID:Europe/Ljubljana
BEGIN:DAYLIGHT
TZOFFSETFROM:+0100
TZOFFSETTO:+0200
TZNAME:CEST
DTSTART:20240331T010000
END:DAYLIGHT
BEGIN:STANDARD
TZOFFSETFROM:+0200
TZOFFSETTO:+0100
TZNAME:CET
DTSTART:20241027T010000
END:STANDARD
END:VTIMEZONE
BEGIN:VEVENT
DTSTART;TZID=Europe/Ljubljana:20240623T100000
DTEND;TZID=Europe/Ljubljana:20240623T120000
DTSTAMP:20260422T221733
CREATED:20240617T192116Z
LAST-MODIFIED:20240617T192121Z
UID:31281-1719136800-1719144000@zupnija.trnovo.info
SUMMARY:ŽUPNIJSKO ŽEGNANJE
DESCRIPTION:Blagoslov spomenika in praznovanje na vrtu.
URL:https://zupnija.trnovo.info/dogodek/zupnijsko-zegnanje-4/
CATEGORIES:Praznik
END:VEVENT
END:VCALENDAR