BEGIN:VCALENDAR
VERSION:2.0
PRODID:-//Župnija Lj.-Trnovo - ECPv5.10.1//NONSGML v1.0//EN
CALSCALE:GREGORIAN
METHOD:PUBLISH
X-WR-CALNAME:Župnija Lj.-Trnovo
X-ORIGINAL-URL:https://zupnija.trnovo.info
X-WR-CALDESC:Events for Župnija Lj.-Trnovo
BEGIN:VTIMEZONE
TZID:Europe/Ljubljana
BEGIN:DAYLIGHT
TZOFFSETFROM:+0100
TZOFFSETTO:+0200
TZNAME:CEST
DTSTART:20250330T010000
END:DAYLIGHT
BEGIN:STANDARD
TZOFFSETFROM:+0200
TZOFFSETTO:+0100
TZNAME:CET
DTSTART:20251026T010000
END:STANDARD
END:VTIMEZONE
BEGIN:VEVENT
DTSTART;TZID=Europe/Ljubljana:20251006T180000
DTEND;TZID=Europe/Ljubljana:20251006T200000
DTSTAMP:20260423T194959
CREATED:20250930T094320Z
LAST-MODIFIED:20250930T095107Z
UID:34904-1759773600-1759780800@zupnija.trnovo.info
SUMMARY:GNOJ JE ZLATO - otvoritev razstave posvečene Srečku Kosovelu
DESCRIPTION:Vabljeni!
URL:https://zupnija.trnovo.info/dogodek/gnoj-je-zlato-otvoritev-razstave-posvecene-srecku-kosovelu/
CATEGORIES:DFG,Finžgarjeva galerija,Kultura in druženje
ATTACH;FMTTYPE=image/jpeg:https://zupnija.trnovo.info/wp-content/uploads/2025/09/gnoj-je-zlato-25-dolg.jpg
END:VEVENT
END:VCALENDAR