BEGIN:VCALENDAR
VERSION:2.0
PRODID:-//Župnija Lj.-Trnovo - ECPv5.10.1//NONSGML v1.0//EN
CALSCALE:GREGORIAN
METHOD:PUBLISH
X-WR-CALNAME:Župnija Lj.-Trnovo
X-ORIGINAL-URL:https://zupnija.trnovo.info
X-WR-CALDESC:Events for Župnija Lj.-Trnovo
BEGIN:VTIMEZONE
TZID:Europe/Ljubljana
BEGIN:DAYLIGHT
TZOFFSETFROM:+0100
TZOFFSETTO:+0200
TZNAME:CEST
DTSTART:20260329T010000
END:DAYLIGHT
BEGIN:STANDARD
TZOFFSETFROM:+0200
TZOFFSETTO:+0100
TZNAME:CET
DTSTART:20261025T010000
END:STANDARD
END:VTIMEZONE
BEGIN:VEVENT
DTSTART;TZID=Europe/Ljubljana:20260218T000000
DTEND;TZID=Europe/Ljubljana:20260218T235959
DTSTAMP:20260423T011101
CREATED:20260218T060358Z
LAST-MODIFIED:20260218T060530Z
UID:35833-1771372800-1771459199@zupnija.trnovo.info
SUMMARY:PEPELNICA - začetek postnega časa
DESCRIPTION:Pepelnica\, 18. februar 2026\, začetek postnega časa \n\n\n\nPepelnica je prvi dan\, za katerega je Cerkev že od nekdaj uveljavila strogi post. To pomeni najbolj spokoren in resen dan v letu. Kristjan ali tudi nekristjan starejši od 14. leta je povabljen\, da se ta dan vzdrži vsake mesne jedi\, da se le enkrat na dan naje do sitega in da dan preživi v spokornem in molitvenem duhu\, ki naj bo poln ljubezni in veselja. Ta dan ne sme biti čemeren. Slaba volja mora proč\, pozornost do sočloveka mora biti največja v letu in tudi vsako najmanjše delo naj bo opravljeno z ljubeznijo. Iz tega so izvzeti otroci in odrasli od izpolnjenega 75. leta. Bolniki in starejši niso vezani\, čeprav je vse odvisno od posameznika\, kako se počuti in kaj želi prispevati v skupno duhovno dobro.Zelo pomembna je udeležba pri bogoslužju s pepeljenjem\, sveta spoved in prejem svetega obhajila. Vsebinsko bogata Pepelnica močno vpliva na vse dni postnega časa in izbrana postna vaja\, ki si jo vsak sam izbere\, dobi večjo moč in močnejši zagon.
URL:https://zupnija.trnovo.info/dogodek/pepelnica-zacetek-postnega-casa/
CATEGORIES:Praznik
ATTACH;FMTTYPE=image/png:https://zupnija.trnovo.info/wp-content/uploads/2026/02/pepelnica.png
END:VEVENT
END:VCALENDAR