BEGIN:VCALENDAR
VERSION:2.0
PRODID:-//Župnija Lj.-Trnovo - ECPv5.10.1//NONSGML v1.0//EN
CALSCALE:GREGORIAN
METHOD:PUBLISH
X-WR-CALNAME:Župnija Lj.-Trnovo
X-ORIGINAL-URL:https://zupnija.trnovo.info
X-WR-CALDESC:Events for Župnija Lj.-Trnovo
BEGIN:VTIMEZONE
TZID:Europe/Ljubljana
BEGIN:DAYLIGHT
TZOFFSETFROM:+0100
TZOFFSETTO:+0200
TZNAME:CEST
DTSTART:20260329T010000
END:DAYLIGHT
BEGIN:STANDARD
TZOFFSETFROM:+0200
TZOFFSETTO:+0100
TZNAME:CET
DTSTART:20261025T010000
END:STANDARD
END:VTIMEZONE
BEGIN:VEVENT
DTSTART;TZID=Europe/Ljubljana:20260310T190000
DTEND;TZID=Europe/Ljubljana:20260310T210000
DTSTAMP:20260424T121225
CREATED:20260307T080153Z
LAST-MODIFIED:20260307T080155Z
UID:35894-1773169200-1773176400@zupnija.trnovo.info
SUMMARY:Priprava na krst
DESCRIPTION:V torek\, 10. marca\, bo ob 19. uri priprava na krst.
URL:https://zupnija.trnovo.info/dogodek/priprava-na-krst-21/
END:VEVENT
END:VCALENDAR