BEGIN:VCALENDAR
VERSION:2.0
PRODID:-//Župnija Lj.-Trnovo - ECPv5.10.1//NONSGML v1.0//EN
CALSCALE:GREGORIAN
METHOD:PUBLISH
X-WR-CALNAME:Župnija Lj.-Trnovo
X-ORIGINAL-URL:https://zupnija.trnovo.info
X-WR-CALDESC:Events for Župnija Lj.-Trnovo
BEGIN:VTIMEZONE
TZID:Europe/Ljubljana
BEGIN:DAYLIGHT
TZOFFSETFROM:+0100
TZOFFSETTO:+0200
TZNAME:CEST
DTSTART:20260329T010000
END:DAYLIGHT
BEGIN:STANDARD
TZOFFSETFROM:+0200
TZOFFSETTO:+0100
TZNAME:CET
DTSTART:20261025T010000
END:STANDARD
END:VTIMEZONE
BEGIN:VEVENT
DTSTART;TZID=Europe/Ljubljana:20260319T000000
DTEND;TZID=Europe/Ljubljana:20260319T235959
DTSTAMP:20260422T214959
CREATED:20260307T080906Z
LAST-MODIFIED:20260307T080908Z
UID:35911-1773878400-1773964799@zupnija.trnovo.info
SUMMARY:Praznik sv. Jožefa\, Jezusovega rednika
DESCRIPTION:Lk 2\,41-51aSvete maše bodo ob 8.00\, ob 19.00.
URL:https://zupnija.trnovo.info/dogodek/praznik-sv-jozefa-jezusovega-rednika/
END:VEVENT
BEGIN:VEVENT
DTSTART;TZID=Europe/Ljubljana:20260319T180000
DTEND;TZID=Europe/Ljubljana:20260319T210000
DTSTAMP:20260422T214959
CREATED:20260311T064742Z
LAST-MODIFIED:20260316T055430Z
UID:35932-1773943200-1773954000@zupnija.trnovo.info
SUMMARY:Simbolika nageljnov v umetnosti
DESCRIPTION:Vabimo vas na zanimivo predavanje mag. Olge Paulič\, ki bo osvetlilo pomen in simboliko nageljnov v likovni umetnosti ter njihovo sporočilnost skozi čas. \n\n\n\nV četrtek\, 19. 3. 2026\, ob 18.00\, v Finžgarjevi galeriji. \n\n\n\nPrisrčno vabljeni!
URL:https://zupnija.trnovo.info/dogodek/simbolika-nageljnov-v-umetnosti/
CATEGORIES:DFG,Finžgarjeva galerija,Kultura in druženje,Predavanje
ATTACH;FMTTYPE=image/jpeg:https://zupnija.trnovo.info/wp-content/uploads/2026/03/SIMBOLIKA-NAGELJNOV-V-UMETNOSTI_Olga-Paulic_plakat_fin_naslovna-scaled.jpg
END:VEVENT
END:VCALENDAR