BEGIN:VCALENDAR
VERSION:2.0
PRODID:-//Župnija Lj.-Trnovo - ECPv5.10.1//NONSGML v1.0//EN
CALSCALE:GREGORIAN
METHOD:PUBLISH
X-WR-CALNAME:Župnija Lj.-Trnovo
X-ORIGINAL-URL:https://zupnija.trnovo.info
X-WR-CALDESC:Events for Župnija Lj.-Trnovo
BEGIN:VTIMEZONE
TZID:Europe/Ljubljana
BEGIN:DAYLIGHT
TZOFFSETFROM:+0100
TZOFFSETTO:+0200
TZNAME:CEST
DTSTART:20260329T010000
END:DAYLIGHT
BEGIN:STANDARD
TZOFFSETFROM:+0200
TZOFFSETTO:+0100
TZNAME:CET
DTSTART:20261025T010000
END:STANDARD
END:VTIMEZONE
BEGIN:VEVENT
DTSTART;TZID=Europe/Ljubljana:20260326T080000
DTEND;TZID=Europe/Ljubljana:20260509T170000
DTSTAMP:20260424T113813
CREATED:20260410T050720Z
LAST-MODIFIED:20260422T165153Z
UID:36074-1774512000-1778346000@zupnija.trnovo.info
SUMMARY:NOSIM TEŽO TELESA – Janez Bernik
DESCRIPTION:Vabljeni v Finžgarjevo galerijo\, na ogled razstave slikarja in akademika JANEZA BERNIKA.  \n\n\n\nRazstava je odprta ob sredah od 10.00 do 12.00 in četrtkih od 18.00 do 19.00\, oz. po dogovoru na 031 797 724 ali 031 724 148 (po 16. uri).  \n\n\n\nRazstava je podaljšana do 17. 5. 2026. \n\n\n\n\n\n\n\nKatalog razstave >> \n\n\n\n\n\n\n\nBernik v trnovski cerkvi – plakat >>
URL:https://zupnija.trnovo.info/dogodek/nosim-tezo-telesa-janez-bernik-2/
CATEGORIES:DFG,Finžgarjeva galerija,Kultura in druženje
ATTACH;FMTTYPE=image/jpeg:https://zupnija.trnovo.info/wp-content/uploads/2026/03/Janez-Bernik_NZ8_6726_pop_nalsovna-scaled.jpg
END:VEVENT
BEGIN:VEVENT
DTSTART;TZID=Europe/Ljubljana:20260329T000000
DTEND;TZID=Europe/Ljubljana:20260329T235959
DTSTAMP:20260424T113813
CREATED:20260324T202932Z
LAST-MODIFIED:20260324T202933Z
UID:35997-1774742400-1774828799@zupnija.trnovo.info
SUMMARY:Postna - cvetna nedelja
DESCRIPTION:Mt 26\,14-75;27\,1-66. \n\n\n\nDva dogodka sta značilna za Cvetno nedeljo: procesija in pasijon. Dogodka sta si nasprotujoča. Najprej navdušenje ljudi nad njim\, češ\, zdaj se bo pa zares začelo. Prišel je Mesija\, Navdušeno ga sprejemamo in mu dajemo podporo. Gorečneži so bili navdušeni. Prišli so na svoj račun. Toda: ker se njihova pričakovanja niso uresničila\, je to navdušenje prešlo v krutost: Križaj ga! Tak je človek. Vedno je bilo tako. Če gradi samo sam na sebi\, pade v nasprotje. Vsak človek mora predvsem delati na samem sebi. Sebe mora vzeti v roke\, ne se prilagajati in brezglavo posnemati druge. Blagoslovljene butarice in oljčne vejice ter drugo zelenje so včasih zatikali pod streho hiš\, da bi ljudi varovalo pred požarom ali pred drugimi nesrečami.
URL:https://zupnija.trnovo.info/dogodek/postna-cvetna-nedelja/
END:VEVENT
BEGIN:VEVENT
DTSTART;TZID=Europe/Ljubljana:20260329T190000
DTEND;TZID=Europe/Ljubljana:20260329T203000
DTSTAMP:20260424T113813
CREATED:20260323T062942Z
LAST-MODIFIED:20260323T063700Z
UID:35976-1774810800-1774816200@zupnija.trnovo.info
SUMMARY:Maša s klasično glasbo - ZADNJIH SEDEM BESED NAŠEGA ODREŠENIKA NA KRIŽU
DESCRIPTION:Joseph Haydn v izvedbi Pastel Kvarteta! Maša bo v nedeljo\, 29. 3. 2026 ob 19:00\, v cerkvi sv. Janeza Krstnika. Vabljeni! \n\n\n\n\n\n\n\nPROGRAM: \n\n\n\nDarovanje: M. Železnik: Pojdi na Golgoto\, verni kristjan \n\n\n\nObhajilo: Taizeiski napev \n\n\n\nZaključek in koncert: J. Haydn: Zadnjih sedem besed našega Odrešenika na križu \n\n\n\n\n\n\n\n\n\n\n\n\n\n\n\n\n\n\nPastel kvartet je godalni kvartet\, ki ga sestavljajo Klara Sečnik in Petra Burnik na violini\, Ema Poljanec na violi ter Manca Sečnik na violončelu. Od leta 2023 se skupaj izpopolnjujejo pod mentorstvom prof. Slavena Kulenovića. Kot komorna zasedba nastopajo na različnih prireditvah\, lansko leto pa so pripravile tudi svoj prvi samostojni celovečerni koncert. Posamezno se udejstvujejo na številnih tekmovanjih tako v Sloveniji kot v tujini. \n\n\n\nDanes bomo pri maši dali prednost bogatemu besednemu bogoslužju in bomo zato slišali samo darovanjsko Pojdi na Golgoto\, verni kristjan ((M. Železnik)\, med obhajilom Taizejski napev\, na koncu pa bomo prisluhnili malo daljšemu delu Josepha Haydna Zadnjih sedem besed našega Odrešenika na križu\, ki nam bo še glasbeno podprlo božjo besedo. \n\n\n\nGre za eno najbolj znanih in duhovno poglobljenih del avstrijskega skladatelja Josepha Haydna. Nastalo je leta 1786 na pobudo španskega duhovnika iz kraja Cádiz v Španiji\, kjer so po običaju ob obhajanju obredov velikega petka za poglobitev v Kristusovo trpljenje prebirali njegove zadnje besede pred smrtjo in jih v tišini premišljevali. Izvorno je bilo delo napisano za orkester\, Haydn sam pa ga je kasneje priredil še za druge zasedbe\, med njimi godalni kvartet. Vsak od stavkov\, ki prehajajo od kontemplativnega miru do globoke bolečine ter nazadnje do pretresljivega potresa\, popelje vernike v globoko stanje premišljevanja Kristusove daritve\, ki srca poslušalcev popelje bliže doživljanju Jezusovih zadnjih trenutkov pred daritvijo na križu.
URL:https://zupnija.trnovo.info/dogodek/masa-s-klasicno-glasbo-zadnjih-sedem-besed-nasega-odresenika-na-krizu/
CATEGORIES:DFG,Kultura in druženje,Maša s klasično glasbo
ATTACH;FMTTYPE=image/jpeg:https://zupnija.trnovo.info/wp-content/uploads/2026/03/IMG_0124-–-naslovna-scaled.jpeg
END:VEVENT
END:VCALENDAR