BEGIN:VCALENDAR
VERSION:2.0
PRODID:-//Župnija Lj.-Trnovo - ECPv5.10.1//NONSGML v1.0//EN
CALSCALE:GREGORIAN
METHOD:PUBLISH
X-WR-CALNAME:Župnija Lj.-Trnovo
X-ORIGINAL-URL:https://zupnija.trnovo.info
X-WR-CALDESC:Events for Župnija Lj.-Trnovo
BEGIN:VTIMEZONE
TZID:Europe/Ljubljana
BEGIN:DAYLIGHT
TZOFFSETFROM:+0100
TZOFFSETTO:+0200
TZNAME:CEST
DTSTART:20260329T010000
END:DAYLIGHT
BEGIN:STANDARD
TZOFFSETFROM:+0200
TZOFFSETTO:+0100
TZNAME:CET
DTSTART:20261025T010000
END:STANDARD
END:VTIMEZONE
BEGIN:VEVENT
DTSTART;TZID=Europe/Ljubljana:20260314T090000
DTEND;TZID=Europe/Ljubljana:20260315T170000
DTSTAMP:20260423T225531
CREATED:20260307T080543Z
LAST-MODIFIED:20260307T080544Z
UID:35903-1773478800-1773594000@zupnija.trnovo.info
SUMMARY:Duhovne vaje Veroučne šole
DESCRIPTION:V soboto\, 14. marca bo ob 9. uri začetek Duhovnih vaj za učence in učenke naše Veroučne šole v Prežganju.
URL:https://zupnija.trnovo.info/dogodek/duhovne-vaje-veroucne-sole/
CATEGORIES:Verouk
END:VEVENT
END:VCALENDAR