BEGIN:VCALENDAR
VERSION:2.0
PRODID:-//Župnija Lj.-Trnovo - ECPv5.10.1//NONSGML v1.0//EN
CALSCALE:GREGORIAN
METHOD:PUBLISH
X-WR-CALNAME:Župnija Lj.-Trnovo
X-ORIGINAL-URL:https://zupnija.trnovo.info
X-WR-CALDESC:Events for Župnija Lj.-Trnovo
BEGIN:VTIMEZONE
TZID:Europe/Ljubljana
BEGIN:DAYLIGHT
TZOFFSETFROM:+0100
TZOFFSETTO:+0200
TZNAME:CEST
DTSTART:20250330T010000
END:DAYLIGHT
BEGIN:STANDARD
TZOFFSETFROM:+0200
TZOFFSETTO:+0100
TZNAME:CET
DTSTART:20251026T010000
END:STANDARD
END:VTIMEZONE
BEGIN:VEVENT
DTSTART;TZID=Europe/Ljubljana:20250602T180000
DTEND;TZID=Europe/Ljubljana:20250602T190000
DTSTAMP:20260423T212433
CREATED:20250601T201219Z
LAST-MODIFIED:20250601T201221Z
UID:33793-1748887200-1748890800@zupnija.trnovo.info
SUMMARY:Obisk škofa birmovalca dr. Franca Šuštarja in srečanje z njim za vse
DESCRIPTION:
URL:https://zupnija.trnovo.info/dogodek/obisk-skofa-birmovalca-dr-franca-sustarja-in-srecanje-z-njim-za-vse/
END:VEVENT
BEGIN:VEVENT
DTSTART;TZID=Europe/Ljubljana:20250604T190000
DTEND;TZID=Europe/Ljubljana:20250604T210000
DTSTAMP:20260423T212433
CREATED:20250601T193226Z
LAST-MODIFIED:20250601T193631Z
UID:33783-1749063600-1749070800@zupnija.trnovo.info
SUMMARY:FG: Razporka do baroka
DESCRIPTION:Razstava Oddelka za restavratorstvo UL ALUO in projekta PUŠ v delovno okolje\, 2025 \n\n\n\n4. – 30. junij 2025 \n\n\n\nPred nami je predstavitev izbora del\, ki so nastala na programu Konserviranje-restavriranje likovnih del na Oddelku za restavratorstvo\, UL ALUO v Ljubljani ter v interdisciplinarnem projektu Štirje letni časi (v okviru javnega razpisa »Problemsko učenje mladih v delovno okolje: gospodarstvo\, negospodarstvo in neprofitni sektor v lokalnem/regionalnem okolju 2024-2027« (PUŠ v delovno okolje 2024-2027)\, kjer poleg partnerske ustanove ZRC SAZU ter  študentov/tk iz več oddelkov UL ALUO\, sodelujejo tudi mentorji in študentje/tke drugih članic (NTF\, AGRFT\, AG). \n\n\n\nGlede na to\, da je letos  v raznih muzejih po Sloveniji v ospredju predstavitev baročnega obdobja\, smo se tudi mi osredotočili na umetniška dela iz tega časa. \n\n\n\nZ naslovom Razpoka do baroka želimo poudariti raziskovanje umetnin iz obdobja baroka skozi vse plasti – od nosilca\, preko slikovnih\, do zaščitnih plasti. Razpoke nam po eni strani govorijo o materialni zgodovini umetnin\, po drugi strani pa o njihovi zgradbi in stanju.  Tako bomo na razstavo vključili študije tehnologije nastajanja baročnih umetnin\, lesene polikromirane plastike\, slik na platnu in stenskih slik Frančiška Karla Remba ter predstavili baročne slike Štirje letni časi iz fonda SAZU v Ljubljani in utrinke s konservatorsko-restavratorskega posega na teh slikah. Poseg smo nekaj let izvajali na našem oddelku pod vodstvom prof. mag. Lucija Močnik Ramovš\, zdaj pa so slike shranjene v Dvorani štirih letnih časov na ZRC SAZU. \n\n\n\nRazstava poteka v sklopu Konservatorsko-restavratorske transverzale (KRT) in je namenjena najširši publiki. Nekatere tehnološke študije poslikav v različnih materialih in študijo baročne draperije\, prevedeno iz lesene polikromirane plastike v glino\, je mogoče tudi potipati\, baročne slike Štirje letni časi pa smo skušali približati tako v obliki videov\, kot z zvočnimi interpretacijami. \n\n\n\nIdejna zasnova razstave in vodja projekta PUŠ v delovno okolje: Tamara Trček Pečak \n\n\n\nMentorice/ji razstavljenega gradiva: Gregor Kokalj\, Metoda Kokole\, Tamara Trček Pečak\, Lucija Močnik Ramovš\, Jurij Smole\, Blaž Šeme\, Martina Vuga\, Helena Gabrijelčič Tomc \n\n\n\nStrokovni sodelavke/ci: Martina Lesar Kikelj\, Ajda Mladenovič\, Vlasta Kuret\, Rado Zoubek\, Nika Zupančič \n\n\n\nRazstavljajo študentje in študentke Oddelka za restavratorstvo\, UL ALUO: Zala Debevc\, Julija Dodič\, Alina Helena Đorđević\, Eva Koren\, Nika Mlakar\, Viktorija Peternel\, Michelle Vidovič\, Aleksander Štumberger\, Ženja Vodnik \n\n\n\nŠtudentje/tke pri projektu Štirje letni časi (PUŠ v delovno okolje\, 2025): Sara Fučka\, Vitja Rodež\, Špela Šafarič (UL ALUO); Lan Mark Čerkez\, Matevž Nikolovski\, Nakić Patricija (UL NTF); Enej Lah (UL AG); Izidor Vogrinec (UL AGRFT) \n\n\n\nDrugi/e sodelujoči/če pri projektu Štirje letni časi (PUŠ v delovno okolje\, 2025): Lara Skukan\, Doroteja Jakop (UL ALUO);; Nuša Ceglar\, Jure Jelenc\, Eneja Pajntar\,  (UL NTF); Jan Ostanek\, Eneja Štemberger (UL AGRFT) \n\n\n\nSkrbnica projekta Štirje letni časi (PUŠ v delovno okolje\, 2025): Mateja Vidrajz \n\n\n\nSodelujoče ustanove: \n\n\n\nUL ALUO\, ZVKDS RC\, ZRC SAZU\, MVZI\, UL NTF\, UL AGRFT\, UL AG \n\n\n\n\n\n\n\nVabljeni!
URL:https://zupnija.trnovo.info/dogodek/fg-razporka-do-baroka/
CATEGORIES:DFG,Finžgarjeva galerija,Kultura in druženje
ATTACH;FMTTYPE=image/jpeg:https://zupnija.trnovo.info/wp-content/uploads/2025/06/plakat_razpoka_do_baroka_oblikovano-–-prikazna.jpg
END:VEVENT
BEGIN:VEVENT
DTSTART;TZID=Europe/Ljubljana:20250608T100000
DTEND;TZID=Europe/Ljubljana:20250608T113000
DTSTAMP:20260423T212433
CREATED:20250601T201346Z
LAST-MODIFIED:20250601T201347Z
UID:33797-1749376800-1749382200@zupnija.trnovo.info
SUMMARY:Praznik podelitve sv. birme
DESCRIPTION:
URL:https://zupnija.trnovo.info/dogodek/praznik-podelitve-sv-birme/
CATEGORIES:Praznik
END:VEVENT
BEGIN:VEVENT
DTSTART;TZID=Europe/Ljubljana:20250609T000000
DTEND;TZID=Europe/Ljubljana:20250609T235959
DTSTAMP:20260423T212433
CREATED:20250601T201439Z
LAST-MODIFIED:20250601T201440Z
UID:33801-1749427200-1749513599@zupnija.trnovo.info
SUMMARY:Praznik Marije Matere Cerkve
DESCRIPTION:
URL:https://zupnija.trnovo.info/dogodek/praznik-marije-matere-cerkve/
CATEGORIES:Praznik
END:VEVENT
BEGIN:VEVENT
DTSTART;TZID=Europe/Ljubljana:20250611T180000
DTEND;TZID=Europe/Ljubljana:20250611T200000
DTSTAMP:20260423T212433
CREATED:20250609T200717Z
LAST-MODIFIED:20250609T200743Z
UID:33918-1749664800-1749672000@zupnija.trnovo.info
SUMMARY:Si?zif
DESCRIPTION:Društvo Finžgarjeva galerija in Združenje prijateljev slepih vabita na predstavitev pesniške zbirke Vlada Skaleta Si?zif\, ki bo v sredo\, 11. 6. 2025 ob 18 uri na vrtu Trnovske cerkve pod Agape. \n\n\n\n\n\n\n\n\n\n\n\n\n\n\nSi?zif je že šesta pesniška zbirka\, ki jo je izdal Vlado Skale. »Delo je nastajalo leta\, saj sem bil zelo izbirčen pri tem\, kaj želim\, da je notri\,« je pojasnil pesnik. Vlado Skale piše že 50 let in je vsestranski umetnik\, saj je v skupinah SRP in Kladivo\, konj in voda igral tolkala. Glasbo je poučeval je na velenjski\, šoštanjski\, žalski in škofjeloški glasbeni šoli. \n\n\n\nAktualno delo nima dodane vrednosti le za slepe in slabovidne\, temveč za celotno slovensko kulturo. Knjigo je oblikovala močno slabovidna umetnica Rosana Lorbek\, ki je oblikovala že več knjig in z Združenjem prijateljev slepih Slovenije izpeljala dve razstavi. \n\n\n\n»Ljudje se sploh ne zavedajo\, koliko truda človek s tako hudo izgubo vida mora vložiti\, da nastane takšno delo.«
URL:https://zupnija.trnovo.info/dogodek/sizif/
CATEGORIES:Finžgarjeva galerija,Kultura in druženje
ATTACH;FMTTYPE=image/jpeg:https://zupnija.trnovo.info/wp-content/uploads/2025/06/Sizif-–-kopija.jpg
END:VEVENT
BEGIN:VEVENT
DTSTART;TZID=Europe/Ljubljana:20250615T100000
DTEND;TZID=Europe/Ljubljana:20250615T160000
DTSTAMP:20260423T212433
CREATED:20250601T201538Z
LAST-MODIFIED:20250604T081135Z
UID:33805-1749981600-1750003200@zupnija.trnovo.info
SUMMARY:DAN DRUŽIN\, zaključek veroučnega leta
DESCRIPTION:Vabljeni!
URL:https://zupnija.trnovo.info/dogodek/dan-druzin-zakljucek-veroucnega-leta/
CATEGORIES:Duhovnost in druženje,Praznik
ATTACH;FMTTYPE=image/jpeg:https://zupnija.trnovo.info/wp-content/uploads/2025/06/DAN-DRUZIN-2025_plakat-–-naslovna-scaled.jpg
END:VEVENT
BEGIN:VEVENT
DTSTART;TZID=Europe/Ljubljana:20250619T000000
DTEND;TZID=Europe/Ljubljana:20250619T235959
DTSTAMP:20260423T212433
CREATED:20250601T201617Z
LAST-MODIFIED:20250601T201618Z
UID:33809-1750291200-1750377599@zupnija.trnovo.info
SUMMARY:Celonočno in celodnevno čaščenje sv. Rešnjega telesa
DESCRIPTION:
URL:https://zupnija.trnovo.info/dogodek/celonocno-in-celodnevno-cascenje-sv-resnjega-telesa/
END:VEVENT
BEGIN:VEVENT
DTSTART;TZID=Europe/Ljubljana:20250622T100000
DTEND;TZID=Europe/Ljubljana:20250622T113000
DTSTAMP:20260423T212433
CREATED:20250601T201658Z
LAST-MODIFIED:20250601T201659Z
UID:33813-1750586400-1750591800@zupnija.trnovo.info
SUMMARY:ŽUPNIJSKO Žegnanje
DESCRIPTION:
URL:https://zupnija.trnovo.info/dogodek/zupnijsko-zegnanje-5/
CATEGORIES:Praznik
END:VEVENT
BEGIN:VEVENT
DTSTART;TZID=Europe/Ljubljana:20250624T190000
DTEND;TZID=Europe/Ljubljana:20250624T233000
DTSTAMP:20260423T212433
CREATED:20250601T201759Z
LAST-MODIFIED:20250604T080724Z
UID:33817-1750791600-1750807800@zupnija.trnovo.info
SUMMARY: Župnijski praznik in KRESOVANJE
DESCRIPTION:Vabljeni!
URL:https://zupnija.trnovo.info/dogodek/zupnijski-praznik-in-kresovanje/
CATEGORIES:DFG,Finžgarjeva galerija,Kultura in druženje,Nedelje in prazniki,Praznik
ATTACH;FMTTYPE=image/jpeg:https://zupnija.trnovo.info/wp-content/uploads/2025/06/Kresovanje_PLAKAT_2025_fin-–-naslovna-scaled.jpg
END:VEVENT
BEGIN:VEVENT
DTSTART;TZID=Europe/Ljubljana:20250627T190000
DTEND;TZID=Europe/Ljubljana:20250627T210000
DTSTAMP:20260423T212433
CREATED:20250601T201906Z
LAST-MODIFIED:20250618T131053Z
UID:33821-1751050800-1751058000@zupnija.trnovo.info
SUMMARY:Maša s klasično  glasbo
DESCRIPTION:Vabljeni! \n\n\n\n\n\n\n\n\n\n\n\n\n\n\n \n\n\n\nZAČETEK \n\n\n\nJohann Sebastian Bach (1685 – 1750) \n\n\n\n            Jesus bleibet meine Freude iz kantate Herz und Mund und Tat und Leben\, BWV 147 (za violino in orgle je uredil Bernard Dewagtere) \n\n\n\nDAROVANJE \n\n\n\nArcangelo Corelli (1653 – 1713) \n\n\n\n            Sarabande iz sonate za violino v e mollu\, op. 5\, No. 8 \n\n\n\nOBHAJILO \n\n\n\nJohann Sebastian Bach (1685 – 1750) \n\n\n\n            Aria iz suite No. 3 v D duru\, BWV 1068 (za violino in orgle je uredil Bernard Dewagtere) \n\n\n\nZAKLJUČEK \n\n\n\nGeorg Friedrich Händel (1685 – 1759) \n\n\n\n            Air iz suite No.1 Water Music/Glasba na vodi v F duru\, HWV 348 (za violino in orgle je uredil Daniele Russo) \n\n\n\nKONCERT \n\n\n\nGottfried Kirchhoff (1685 – 1746) \n\n\n\n            Preludij in fuga v c mollu za orgle \n\n\n\nGiulio Caccini (1551 – 1618) \n\n\n\n            Tu ch’hai le penne\, amore iz opere Euridice (za violino in orgle je uredil Bernard Dewagtere) \n\n\n\nGirolamo Frescobaldi (1583 – 1643) \n\n\n\n            Capriccio pastorale\, F. 2.3 za orgle \n\n\n\nAntonio Vivaldi (1678 – 1741) \n\n\n\n            Aria in Corrente iz sonate za violino v G duru\, RV 23
URL:https://zupnija.trnovo.info/dogodek/masa-s-klasicno-glasbo-17/
CATEGORIES:DFG,Maša s klasično glasbo
ATTACH;FMTTYPE=image/jpeg:https://zupnija.trnovo.info/wp-content/uploads/2025/06/20250627_Lana-Savic-in-Elina-Fistravec-–-naslovna.jpg
END:VEVENT
END:VCALENDAR