BEGIN:VCALENDAR
VERSION:2.0
PRODID:-//Župnija Lj.-Trnovo - ECPv5.10.1//NONSGML v1.0//EN
CALSCALE:GREGORIAN
METHOD:PUBLISH
X-WR-CALNAME:Župnija Lj.-Trnovo
X-ORIGINAL-URL:https://zupnija.trnovo.info
X-WR-CALDESC:Events for Župnija Lj.-Trnovo
BEGIN:VTIMEZONE
TZID:Europe/Ljubljana
BEGIN:DAYLIGHT
TZOFFSETFROM:+0100
TZOFFSETTO:+0200
TZNAME:CEST
DTSTART:20250330T010000
END:DAYLIGHT
BEGIN:STANDARD
TZOFFSETFROM:+0200
TZOFFSETTO:+0100
TZNAME:CET
DTSTART:20251026T010000
END:STANDARD
END:VTIMEZONE
BEGIN:VEVENT
DTSTART;TZID=Europe/Ljubljana:20250901T080000
DTEND;TZID=Europe/Ljubljana:20250902T170000
DTSTAMP:20260423T170702
CREATED:20250830T202756Z
LAST-MODIFIED:20250830T202758Z
UID:34012-1756713600-1756832400@zupnija.trnovo.info
SUMMARY:VPIS V VEROUČNO ŠOLO
DESCRIPTION:in 2. septembra bo vpis v Veroučno šolo. Pripravite se: vrnite spričevala\, izpolnite vpisnico ali prijavnico\, posebej zabeležite\, katero delavnico bo obiskoval otrok.
URL:https://zupnija.trnovo.info/dogodek/vpis-v-veroucno-solo-2/
CATEGORIES:Verouk
END:VEVENT
BEGIN:VEVENT
DTSTART;TZID=Europe/Ljubljana:20250906T080000
DTEND;TZID=Europe/Ljubljana:20250906T170000
DTSTAMP:20260423T170702
CREATED:20250830T202609Z
LAST-MODIFIED:20250830T202610Z
UID:34008-1757145600-1757178000@zupnija.trnovo.info
SUMMARY:DUHOVNA PRIPRAVA NA PASTORALNO LETO V RADOVNI
DESCRIPTION:
URL:https://zupnija.trnovo.info/dogodek/duhovna-priprava-na-pastoralno-leto-v-radovni/
CATEGORIES:Verouk
END:VEVENT
BEGIN:VEVENT
DTSTART;TZID=Europe/Ljubljana:20250907T100000
DTEND;TZID=Europe/Ljubljana:20250907T110000
DTSTAMP:20260423T170702
CREATED:20250830T205806Z
LAST-MODIFIED:20250830T205908Z
UID:34016-1757239200-1757242800@zupnija.trnovo.info
SUMMARY:ZAČETEK VEROUČNEGA LETA OB 10. URI
DESCRIPTION:septembra bo ob 10. uri slovesna maša za začetek veroučnega leta. Otroci naj prinesejo svoje šolske torbe k blagoslovu.
URL:https://zupnija.trnovo.info/dogodek/zacetek-veroucnega-leta-ob-10-uri/
CATEGORIES:Verouk
END:VEVENT
BEGIN:VEVENT
DTSTART;TZID=Europe/Ljubljana:20250908T000000
DTEND;TZID=Europe/Ljubljana:20250908T235959
DTSTAMP:20260423T170702
CREATED:20250830T210012Z
LAST-MODIFIED:20250830T210014Z
UID:34025-1757289600-1757375999@zupnija.trnovo.info
SUMMARY:PRAZNIK MARIJINEGA ROJSTVA – MALI ŠMAREN
DESCRIPTION:Maše bodo ob 8. uri in ob 19. uri.
URL:https://zupnija.trnovo.info/dogodek/praznik-marijinega-rojstva-mali-smaren/
END:VEVENT
BEGIN:VEVENT
DTSTART;TZID=Europe/Ljubljana:20250909T190000
DTEND;TZID=Europe/Ljubljana:20250909T210000
DTSTAMP:20260423T170702
CREATED:20250830T210113Z
LAST-MODIFIED:20250830T210115Z
UID:34029-1757444400-1757451600@zupnija.trnovo.info
SUMMARY:Seja Župnijskega pastoralnega sveta.
DESCRIPTION:
URL:https://zupnija.trnovo.info/dogodek/seja-zupnijskega-pastoralnega-sveta-6/
CATEGORIES:Seje župnijskih delovnih teles
END:VEVENT
BEGIN:VEVENT
DTSTART;TZID=Europe/Ljubljana:20250911T200000
DTEND;TZID=Europe/Ljubljana:20250911T220000
DTSTAMP:20260423T170702
CREATED:20250830T210603Z
LAST-MODIFIED:20250929T193301Z
UID:34033-1757620800-1757628000@zupnija.trnovo.info
SUMMARY:DIALOG (NE) MOGOČ - KLEMEN BALAŽIČ  vs.  ZLATKO - Konzerva v Trnovem
DESCRIPTION:V četrtek\, 11. septembra ob 20.00 lepo vabljeni pod paviljon Agape na tradicionalni pogovorni večer Konzerva v Trnovem\, DIALOG (NE) MOGOČ.  \n\n\n\nGosta: Klemen Balažič in Zlatan Čordić – Zlatko \n\n\n\nVoditelj: Janez Zupan \n\n\n\nPogovorni večer\, na katerem bodo različno misleči razpravljali in razdelovali stopnje in faze dialoga v katerih se nahajamo. Stanje v družbi je vedno bolj alarmantno. Ne moremo se več zediniti v praktično nobeni niti najpomembnejši družbeni temi\, ki bi nas lahko pripeljala iz zagate nedialoškosti. Ali je to sploh možno preseči? Kakšne so lahko kratkoročne in kakšne dolgoročne rešitve? Je pravi izhod iz zagate getoizacija različnih svetovnih nazorov? Kakšen pomen ima sploh še cerkev\, kakšnega država in državotvornost? \n\n\n\nKonzerva v Trnovem je odprt koncept pogovora. Sodelujoči v razpravi na poljuden način razpravljajo o pomembnih tematikah\, z osnovno premiso dialoga. Strpnost seveda ni dovolj\, potreben je dialog in v spontanem pogovoru se rojevajo zamislice\, ki lahko pomagajo družbi prebroditi turbulentne čase. Pretekli dogodki: \n\n\n\nPosnetek pogovornega večera 2022 >>  \n\n\n\nPosnetek pogovornega večera 2023 >> Spremljajte Konzervo na strani https://www.youtube.com/@konzerva9616 .
URL:https://zupnija.trnovo.info/dogodek/konzerva-v-trnovem/
CATEGORIES:Konzerva v Trnovem,Pogovorni večer
ATTACH;FMTTYPE=image/jpeg:https://zupnija.trnovo.info/wp-content/uploads/2025/08/2025-trnovo-konzerva_low.jpg
END:VEVENT
BEGIN:VEVENT
DTSTART;TZID=Europe/Ljubljana:20250915T190000
DTEND;TZID=Europe/Ljubljana:20250915T210000
DTSTAMP:20260423T170702
CREATED:20250830T210809Z
LAST-MODIFIED:20250901T184522Z
UID:34039-1757962800-1757970000@zupnija.trnovo.info
SUMMARY:ZAČETEK KATEHUMENATA
DESCRIPTION:TUDI V LETOŠNJEM LETU STE POVABLJENI V KATEHUMENAT\, KI BO VSAK PONEDELJEK OB 19.00 uri. Začnemo\, 15. septembra s sv. mašo ob 19.00 uri in nadaljujemo v župnišču. \n\n\n\nŠe zgodba \, ki osvetli pomen in smisel. \n\n\n\nKATEHUMENAT\, KAJ JE TO ? \n\n\n\nNeredko se pogovarjam z različnimi odraslimi osebami v različnih okoliščinah. Na vrsto pride tudi vprašanje o krstu. Predstava o uvajanju v krščanstvo je pri ljudeh pogosto nepopolna. \n\n\n\nPrimer: V naši cerkvi se je pred tednom dni ustavil moški petdesetih let. V prezbiteriju sem se pripravljal na mašo. Stopil sem k njemu in ga pozdravil. Pogovor je stekel. Na vprašanje\, ali je krščen\, je odgovoril\, da ne. Pojasnil je \, da so bili starši drugače usmerjeni. Kaj pa vi? Na to vprašanje je odgovoril\, da je že v letih. Pojasnil sem mu \, da so njegova leta zelo primerna za osebno odločitev\, še bolj kot otroštvo. Ker živi v bližini trnovske cerkve\, sem ga povabil\, naj pride v PONEDELJEK\, 15. septembra 2025 ob 19.00 uri v župnijsko cerkev k maši. Po maši bomo začeli z letošnjim katehumenatom. To je odlična priprava za uvajanje v krščanstvo. Pripravljali se bomo na zakrament sv. krsta. To pomeni osebno\, zavestno in svobodno odločitev za življenje z Jezusom Kristusom. Povedal mi je da je bil v Indiji\, da se je zanimal za budizem\, jogo ipd. Odgovoril sem mu: “ Vse to je lepo\, vendar Jezus Kristus presega vse duhovnosti. Človeku daje polno vrednost in večno svobodo. Zaključil sem: “ PRIDITE\, NE BO VAM ŽAL. “
URL:https://zupnija.trnovo.info/dogodek/zacetek-katehumenata-2/
END:VEVENT
BEGIN:VEVENT
DTSTART;TZID=Europe/Ljubljana:20250916T190000
DTEND;TZID=Europe/Ljubljana:20250916T210000
DTSTAMP:20260423T170702
CREATED:20250830T210857Z
LAST-MODIFIED:20250830T210858Z
UID:34043-1758049200-1758056400@zupnija.trnovo.info
SUMMARY:PRIPRAVA NA SVETI KRST
DESCRIPTION:
URL:https://zupnija.trnovo.info/dogodek/priprava-na-sveti-krst-2/
END:VEVENT
BEGIN:VEVENT
DTSTART;TZID=Europe/Ljubljana:20250917T200000
DTEND;TZID=Europe/Ljubljana:20250917T210000
DTSTAMP:20260423T170702
CREATED:20250830T211014Z
LAST-MODIFIED:20250910T194651Z
UID:34047-1758139200-1758142800@zupnija.trnovo.info
SUMMARY:ZNAMENITI TRNOVČANI -pesnica Meta Kušar in lutnjar Boris Šinigoj
DESCRIPTION:V sredo\, 17. septembra ob 20.00 lepo vabljeni v Finžgarjevo galerijo na glasbeno literarni večer z naslovom Z MEHKIM NEŽNIM GLASOM\, ki ga bosta oblikovala pesnica META KUŠAR in lutnjar BORIS ŠINIGOJ.  \n\n\n\n» A slišim tvoje srce? \n\n\n\nCvet cveti\, čeprav ga ne vidim. \n\n\n\nNenehno blizu od bogve kdaj.«
URL:https://zupnija.trnovo.info/dogodek/znameniti-trnovcani-pesnica-meta-kusar-in-lutnjar-boris-sinigoj/
CATEGORIES:DFG,Finžgarjeva galerija,Kultura in druženje
ATTACH;FMTTYPE=image/jpeg:https://zupnija.trnovo.info/wp-content/uploads/2025/08/20250917_Z-mehkim-resnim-glasom_naslovna.jpg
END:VEVENT
BEGIN:VEVENT
DTSTART;TZID=Europe/Ljubljana:20250924T190000
DTEND;TZID=Europe/Ljubljana:20250924T210000
DTSTAMP:20260423T170702
CREATED:20250917T055011Z
LAST-MODIFIED:20250917T055013Z
UID:34139-1758740400-1758747600@zupnija.trnovo.info
SUMMARY:SESTANEK SVETA VEROUČNE ŠOLE
DESCRIPTION:
URL:https://zupnija.trnovo.info/dogodek/sestanek-sveta-veroucne-sole-2/
CATEGORIES:Seje župnijskih delovnih teles
END:VEVENT
BEGIN:VEVENT
DTSTART;TZID=Europe/Ljubljana:20250925T180000
DTEND;TZID=Europe/Ljubljana:20250925T210000
DTSTAMP:20260423T170702
CREATED:20250917T055136Z
LAST-MODIFIED:20250923T224638Z
UID:34143-1758823200-1758834000@zupnija.trnovo.info
SUMMARY:OTVORITEV RAZSTAVE OB MEDNARODNEM DNEVU TURIZMA
DESCRIPTION:V četrtek\, 25. septembra ob 18.00 lepo vabljeni v Finžgarjevo galerijo na otvoritev razstave ob MEDNARODNEM DNEVU TURIZMA\, ki je namenjena ozaveščanju javnosti k ogljično nevtralnemu mestu. 
URL:https://zupnija.trnovo.info/dogodek/razstave-ob-mednarodnem-letu-turizma/
CATEGORIES:Finžgarjeva galerija,Kultura in druženje
ATTACH;FMTTYPE=image/jpeg:https://zupnija.trnovo.info/wp-content/uploads/2025/09/IMG_5953_pop.jpg
END:VEVENT
BEGIN:VEVENT
DTSTART;TZID=Europe/Ljubljana:20250928T190000
DTEND;TZID=Europe/Ljubljana:20250928T203000
DTSTAMP:20260423T170702
CREATED:20250922T072722Z
LAST-MODIFIED:20250922T072757Z
UID:34161-1759086000-1759091400@zupnija.trnovo.info
SUMMARY:Maša s klasično glasbo - ELINA FISTRAVEC\, orgle
DESCRIPTION:Vabljeni k maši s klasično glasbo v izvedbi Eline Fistravec na orglah. \n\n\n\n \n\n\n\nNa današnji maši s klasično glasbo bomo slišali: \n\n\n\nCarl Philipp Emanuel Bach (1714 – 1788): Koral – Jesus\, meine Zuversicht\, H 336/3 \n\n\n\nCarl Philipp Emanuel Bach (1714 – 1788) : Koral – O Gott\, du frommer Gott\, H 336/1 \n\n\n\nJohann Pachelbel (1653 – 1706): Koral – Herzlich tut mich verlangen\, P. 378 \n\n\n\nJohann Pachelbel (1653 – 1706): Koral – Alle Menschen müssen sterben\, P. 377a \n\n\n\nMaši bo sledil krajši concert: \n\n\n\nGirolamo Frescobaldi (1583 – 1643): Toccata quinta sopra i pedali per l’organo e senza\, F. 3.05 \n\n\n\nCarson Cooman (1982): Hymnus \n\n\n\nCharles Piroye (1670 – 1730): L’Allégresse (Veselje) \n\n\n\nCraig A. Penfield (1948): Crucifixus\, Proclamation on ‘O filii et filiae’ \n\n\n\n\n\n\n\n\n\n\n\n\n\n\nElina Fistravec je svojo glasbeno pot začela s šestimi leti pri profesorici Regini Kamenščikovi v razredu klavirja. In nato na Glasbeni šoli Jāzepa Mediņa pri prof. Antri Vīksne (Riga). Po končani nižji glasbeni šoli se je vpisala na oddelek glasbene zgodovine in teorije na Srednji glasbeni šoli Jāzepa Mediņa v Rigi. Študij je nadaljevala na Akademiji za glasbo Jāzepa Vītola v Rigi na oddelku muzikologije\, tam je začela tudi študij orgel pri profesorici Larise Bulave. Znanje je tekom študija dopolnila na Univerzi za glasbo\, gledališče in medije (Hochschule für Musik\, Theater und Medien Hannover) v Hannovru (Nemčija) pri profesorju Corneliusu Schneider-Pungsu. Obiskovala je seminarje pri raznih orgelskih mojstrih kot so Martin Sander (Nemčija)\, Christopher Stembridge (Velika Britanija)\, Leonard Schick (Švica) in Paolo Oreni (Italija). Nastopa kot solistka po Sloveniji in v tujini\, pogosto pa sodeluje tudi z drugimi instrumentalisti in pevci ter se aktivno ukvarja s koncertno dejavnostjo. Trenutno deluje kot organistka v cerkvi sv. Jakoba v Ljubljani.
URL:https://zupnija.trnovo.info/dogodek/masa-s-klasicno-glasbo-elina-fistravec-orgle/
CATEGORIES:DFG,Duhovnost in druženje,Maša s klasično glasbo
ATTACH;FMTTYPE=image/jpeg:https://zupnija.trnovo.info/wp-content/uploads/2025/09/20250928_Elina-Fistravec_naslovna.jpg
END:VEVENT
BEGIN:VEVENT
DTSTART;TZID=Europe/Ljubljana:20250928T200000
DTEND;TZID=Europe/Ljubljana:20250928T220000
DTSTAMP:20260423T170702
CREATED:20250917T055309Z
LAST-MODIFIED:20250922T072950Z
UID:34147-1759089600-1759096800@zupnija.trnovo.info
SUMMARY:Predavanje mag. Olge Paulič o KRAKOVEM
DESCRIPTION:Vabljeni na umetnostno zgodovinsko predavanje o Krakovem pod vodstvom mag. Olga Paulič. Ob slikovni projekciji bo predstaviljena zgodovinska in umetnostna dediščina. Predavanje bo osvetlilo pomen Krakovega od poselitve naprej.
URL:https://zupnija.trnovo.info/dogodek/predavanje-o-krakovem/
CATEGORIES:Finžgarjeva galerija,Kultura in druženje
ATTACH;FMTTYPE=image/jpeg:https://zupnija.trnovo.info/wp-content/uploads/2025/09/20250928_predavanje-o-Krakovem_mag.-Olga-Paulic_naslovna-scaled.jpg
END:VEVENT
END:VCALENDAR