BEGIN:VCALENDAR
VERSION:2.0
PRODID:-//Župnija Lj.-Trnovo - ECPv5.10.1//NONSGML v1.0//EN
CALSCALE:GREGORIAN
METHOD:PUBLISH
X-WR-CALNAME:Župnija Lj.-Trnovo
X-ORIGINAL-URL:https://zupnija.trnovo.info
X-WR-CALDESC:Events for Župnija Lj.-Trnovo
BEGIN:VTIMEZONE
TZID:Europe/Ljubljana
BEGIN:DAYLIGHT
TZOFFSETFROM:+0100
TZOFFSETTO:+0200
TZNAME:CEST
DTSTART:20240331T010000
END:DAYLIGHT
BEGIN:STANDARD
TZOFFSETFROM:+0200
TZOFFSETTO:+0100
TZNAME:CET
DTSTART:20241027T010000
END:STANDARD
END:VTIMEZONE
BEGIN:VEVENT
DTSTART;TZID=Europe/Ljubljana:20240728T100000
DTEND;TZID=Europe/Ljubljana:20240728T120000
DTSTAMP:20260424T154907
CREATED:20240715T083345Z
LAST-MODIFIED:20240723T050756Z
UID:31750-1722160800-1722168000@zupnija.trnovo.info
SUMMARY:Delo misionarke Polone Dominik
DESCRIPTION:V nedeljo\,28.7.24 ob 10.45\, bo laiška misijonarka Polona Dominik predstavila svoje delo v Etiopiji. \n\n\n\nPrijazno vabljeni!
URL:https://zupnija.trnovo.info/dogodek/delo-misionarke-polone-dominik/
CATEGORIES:Agape v Trnovem,DFG,Duhovnost in druženje
ATTACH;FMTTYPE=image/jpeg:https://zupnija.trnovo.info/wp-content/uploads/2024/07/IMG_20220909_135255-Polona-Dominik-–-naslovna.jpg
END:VEVENT
BEGIN:VEVENT
DTSTART;TZID=Europe/Ljubljana:20240630T190000
DTEND;TZID=Europe/Ljubljana:20240630T210000
DTSTAMP:20260424T154907
CREATED:20240625T114352Z
LAST-MODIFIED:20240625T114354Z
UID:31479-1719774000-1719781200@zupnija.trnovo.info
SUMMARY:Maša s klasično glasbo - v izvedbi učencev Orglarske šole v Ljubljani
DESCRIPTION:Vabljeni!
URL:https://zupnija.trnovo.info/dogodek/masa-s-klasicno-glasbo-v-izvedbi-ucencev-orglarske-sole-v-ljubljani/
CATEGORIES:DFG,Duhovnost in druženje,Kultura in druženje,Maša s klasično glasbo
ATTACH;FMTTYPE=image/jpeg:https://zupnija.trnovo.info/wp-content/uploads/2024/06/20240630_ucenci-Orglarske-sole-v-Ljubljani_naslovna.jpg
END:VEVENT
BEGIN:VEVENT
DTSTART;TZID=Europe/Ljubljana:20240624T190000
DTEND;TZID=Europe/Ljubljana:20240624T233000
DTSTAMP:20260424T154907
CREATED:20240617T192723Z
LAST-MODIFIED:20240617T193424Z
UID:31284-1719255600-1719271800@zupnija.trnovo.info
SUMMARY:KRESOVANJE
DESCRIPTION:KRESOVANJE\, maša ob 19.00\, kulturni program in praznovanje ob kresu.
URL:https://zupnija.trnovo.info/dogodek/kresovanje-2/
CATEGORIES:Praznik
ATTACH;FMTTYPE=image/jpeg:https://zupnija.trnovo.info/wp-content/uploads/2024/06/Kresovanje_PLAKAT_2024_naslovna.jpg
END:VEVENT
BEGIN:VEVENT
DTSTART;TZID=Europe/Ljubljana:20240623T100000
DTEND;TZID=Europe/Ljubljana:20240623T120000
DTSTAMP:20260424T154907
CREATED:20240617T192116Z
LAST-MODIFIED:20240617T192121Z
UID:31281-1719136800-1719144000@zupnija.trnovo.info
SUMMARY:ŽUPNIJSKO ŽEGNANJE
DESCRIPTION:Blagoslov spomenika in praznovanje na vrtu.
URL:https://zupnija.trnovo.info/dogodek/zupnijsko-zegnanje-4/
CATEGORIES:Praznik
END:VEVENT
BEGIN:VEVENT
DTSTART;TZID=Europe/Ljubljana:20240618T190000
DTEND;TZID=Europe/Ljubljana:20240618T210000
DTSTAMP:20260424T154907
CREATED:20240617T191838Z
LAST-MODIFIED:20240617T191858Z
UID:31278-1718737200-1718744400@zupnija.trnovo.info
SUMMARY:Pogovor z odraslimi – diakon Matej Križanič
DESCRIPTION:Vabljeni!
URL:https://zupnija.trnovo.info/dogodek/pogovor-z-odraslimi-diakon-matej-krizanic/
END:VEVENT
BEGIN:VEVENT
DTSTART;TZID=Europe/Ljubljana:20240616T190000
DTEND;TZID=Europe/Ljubljana:20240616T210000
DTSTAMP:20260424T154907
CREATED:20240611T181214Z
LAST-MODIFIED:20240611T181216Z
UID:31221-1718564400-1718571600@zupnija.trnovo.info
SUMMARY:Maša s klasično glasbo in zaključni koncert MPZ
DESCRIPTION:Mladinski pevski zbor Župnije Trnovo že vrsto let združuje srednješolce\, študente in mlade starše\, ki s svojim petjem bogatijo nedeljska bogoslužja. Zbor je bil ustanovljen leta 2004 in je dolgo časa deloval pod vodstvom Maje Krevs in kasneje Martine Rot. S sodelovanjem pri mašah\, na duhovnih vajah in dobrodelnih koncertih je zbor postal ena izmed najbolj stanovitnih skupin v naši župniji. Kljub različnim življenskim potem vse člane druži ljubezen do zborovskega petja in prepevanja Bogu v čast. Od sezone 2022/2023 pevski zbor vodita Ana in Manca Kosmač. \n\n\n\nRdeča nit današnje maše s klasično glasbo je duhovna glasba angleško govorečega prostora. Nekatere izmed pesmi so zaradi priljubljenosti prevedene v slovenščino\, nekatere pa bomo zapeli v angleškem jeziku. Deep River in  Nihče ne ve za moje skrbi sta črnski duhovni skladbi\, ki opisujeta trpljenje sužnjev na ameriških plantažah v času nasilja in zlorab\, ki so jih bili deležni. V težkih trenutkih so svoje odrešenje našli v blagozvočnih napevih\, s katerimi so klicali Boga in poglabljali svojo vero.  Med najbolj pogosto izvajane skladbe bi lahko uvrstili tudi Irish blessing. Z blagoslovom\, ki ga pesem izraža\, želimo sočloveku miru\, dobrte in nežnosti\, ki jo je slehernik deležen\, ko se zaupa v božje varstvo. Amazing Grace je angleška himna\, ki je vse od svoje uglasbitve 1772 ena izmed najbolj priljubljenih skladb nasploh. V izbranih harmonijah se zavedamo hvaležnosti in milosti\, da nas je Kristus odrešil. Končali bomo s skladbo If you’re happy\, skladbo\, ki jo uvrščamo v žanr gospla. \n\n\n\nVabljeni!
URL:https://zupnija.trnovo.info/dogodek/masa-s-klasicno-glasbo-in-zakljucni-koncert-mpz/
CATEGORIES:DFG,Maša s klasično glasbo
ATTACH;FMTTYPE=image/jpeg:https://zupnija.trnovo.info/wp-content/uploads/2024/06/20240616_MPZ_naslovna.jpg
END:VEVENT
BEGIN:VEVENT
DTSTART;TZID=Europe/Ljubljana:20240613T193000
DTEND;TZID=Europe/Ljubljana:20240613T210000
DTSTAMP:20260424T154907
CREATED:20240609T170254Z
LAST-MODIFIED:20240611T181848Z
UID:31218-1718307000-1718312400@zupnija.trnovo.info
SUMMARY:Koncert študentov Akademije za glasbo
DESCRIPTION:Lepo vabljeni na koncert študentov Akademije za glasbo iz razreda kitaristke prof. Katje Porovne Silič in flavtistke Jurke Zoroja.
URL:https://zupnija.trnovo.info/dogodek/koncert-studentov-akademije-za-glasbo/
CATEGORIES:DFG,Koncert
END:VEVENT
BEGIN:VEVENT
DTSTART;TZID=Europe/Ljubljana:20240605T180000
DTEND;TZID=Europe/Ljubljana:20240605T210000
DTSTAMP:20260424T154907
CREATED:20240601T195900Z
LAST-MODIFIED:20240601T195902Z
UID:31176-1717610400-1717621200@zupnija.trnovo.info
SUMMARY:STIK – DOTIK – STIK\, razstava Oddelka za restavratorstvo
DESCRIPTION:Vljudno vabljeni na otvoritev razstave študentov Oddelka za restavratorstvo ALUO. Pred nami je postavitev del\, ki nastajajo pri kiparskih in konservatorsko restavratorskih predmetih na Oddelku za restavratorstvo\, UL ALUO v Ljubljani. Namen umetniških predmetov študija restavratorstva-konservatorstva je\, uvesti bodoče strokovnjake v čutenje in razumevanje materialov\, tehnik in izraznih možnosti v umetninah s katerimi se srečujejo kasneje v profesionalnem življenju. Da bi bil študij kar najbolj nazoren\, kombiniramo spoznavanje predmetnosti v kiparstvu: od notranjih konstrukcij do uporabe prefinjenih tehnik obdelave različnih materialov. Ker začenjamo iz skromnega predznanja\, je naša tematika zelo obsežna in dobro strateško usmerjena\, saj pri vsaki nalogi\, ki se je lotimo\, orkestriramo zgodovino umetnosti\, materiale in spretnosti\, s katerimi pridemo do rezultatov. Vse pri kiparskih predmetih pridobljene izkušnje in tehnološke vaje pri spoznavanju stenskih slikarskih tehnik\, štuka\, štuk marmorja in mozaikov ustvarjajo poligon za kreativno razmišljanje tako v smeri ustvarjanja novih del\, kot tudi v smeri iskanja inovativnih rešitev pri konserviranju-restavriranju umetnin. V tem pregledu s svojimi dosežki sodelujejo študenti petnajstih generacij\, ki so se kalile najprej v nemogočih pogojih ateljeja na Svetčevi ulici in sedaj v dobro opremljenem in prostornem ateljeju na Tobačni. Vsako od razstavljenih del nosi osebno noto avtorja in mnogih pogovorov\, korektur in pomoči mentorja. Skupaj v resnici ustvarimo pogoje\, v katerih se dela\, ki so pred vami\, porodijo iz »materie prime« v izkušnjo\, ki pušča materialne sledi. Stik s kreativnim in dotik materiala se spojita v različne oblike\, barve in teksture. Naša želja je\, da dotik obiskovalcu sproži val kreativnega in navdihujočega razmišljanja in ga poveže s svetom umetnosti. \n\n\n\nRazstava bo obprta 5. – 30. junij 2024  \n\n\n\nIdejna zasnova: Jurij Smole\, Tamara Trček Pečak  \n\n\n\nMentorice/ji študentkam/om: Jurij Smole\, Tamara Trček Pečak\, Lucija Močnik Ramovš\, Blaž Šeme\, Martina Vuga  \n\n\n\nRazstavljalke/ci: Študentje in študentke Oddelka za restavratorstvo
URL:https://zupnija.trnovo.info/dogodek/stik-dotik-stik-razstava-oddelka-za-restavratorstvo/
CATEGORIES:Finžgarjeva galerija,Kultura in druženje
ATTACH;FMTTYPE=image/jpeg:https://zupnija.trnovo.info/wp-content/uploads/2024/06/Plakat-FG-24-A3-t_naslovna-scaled.jpg
END:VEVENT
BEGIN:VEVENT
DTSTART;TZID=Europe/Ljubljana:20240603T193000
DTEND;TZID=Europe/Ljubljana:20240603T210000
DTSTAMP:20260424T154907
CREATED:20240603T141437Z
LAST-MODIFIED:20240603T141749Z
UID:31181-1717443000-1717448400@zupnija.trnovo.info
SUMMARY:HARMONIKA\, NIKOLA HRUPEK - KONCERT
DESCRIPTION:Vabljeni! \n\n\n\nPROGRAM: \n\n\n\nPonedeljek\, 3. 6. 2024 ob 19:30hNikola Hrupek – harmonika\, koncert klasične glasbe \n\n\n\n\nJ. S. Bach: Preludij in fuga v f-molu\, BWV 857\n\n\n\nC. del Rosario: Elusive Dialogues\n\n\n\nP. Busseuil: Zračni tokovi v deželi toplozračnih balonov (izbor stavkov)\n\n\n\nL. van Beethoven/C. Rojac: Adagio iz Tri komada za mehanične orgle WoO 33a
URL:https://zupnija.trnovo.info/dogodek/harmonika-nikola-hrupek-koncert/
CATEGORIES:DFG,Koncert,Koncert
ATTACH;FMTTYPE=image/jpeg:https://zupnija.trnovo.info/wp-content/uploads/2024/06/Nikola-Hrupek-koncert-harmonika_naslovna.jpg
END:VEVENT
BEGIN:VEVENT
DTSTART;TZID=Europe/Ljubljana:20240602T100000
DTEND;TZID=Europe/Ljubljana:20240602T160000
DTSTAMP:20260424T154907
CREATED:20240503T082115Z
LAST-MODIFIED:20240503T082349Z
UID:30884-1717322400-1717344000@zupnija.trnovo.info
SUMMARY:DAN DRUŽIN - Noetova barka ob osmih
DESCRIPTION:Ob Dnevu družin vas vabimo na lutkovno predstavo Noetova barka ob osmih. \n\n\n\nKdaj: 2.6.2024 ob 10.00 \n\n\n\nKje: Župnijski vrt Trnovo \n\n\n\nProgram:  \n\n\n\nZahvalna sv. maša ob 10.00 uri. Lutkovna predstava pod paviljonom ob 11.15. Enolončnica\, torta\, in vse dobrote z mize ob 12.00 uri. Podelitev spričeval in igre na igrišču od 13.ure dalje. \n\n\n\nPridite\, praznujmo skupaj!
URL:https://zupnija.trnovo.info/dogodek/dan-druzin-noetova-barka-ob-osmih/
ATTACH;FMTTYPE=image/jpeg:https://zupnija.trnovo.info/wp-content/uploads/2024/05/DAN-DRUZIN-2024_vabilo-plakat_naslovna-scaled.jpg
END:VEVENT
BEGIN:VEVENT
DTSTART;TZID=Europe/Ljubljana:20240530T000000
DTEND;TZID=Europe/Ljubljana:20240530T235959
DTSTAMP:20260424T154907
CREATED:20240503T080743Z
LAST-MODIFIED:20240531T032157Z
UID:30879-1717027200-1717113599@zupnija.trnovo.info
SUMMARY:Celonočno in celodnevno čaščenje in zapovedan praznik Svetega Rešnjega telesa in krvi
DESCRIPTION:
URL:https://zupnija.trnovo.info/dogodek/celonocno-in-celodnevno-cascenje-in-zapovedan-praznik-svetega-resnjega-telesa-in-krvi/
CATEGORIES:Praznik
END:VEVENT
BEGIN:VEVENT
DTSTART;TZID=Europe/Ljubljana:20240526T100000
DTEND;TZID=Europe/Ljubljana:20240526T113000
DTSTAMP:20260424T154907
CREATED:20240503T080459Z
LAST-MODIFIED:20240503T080502Z
UID:30876-1716717600-1716723000@zupnija.trnovo.info
SUMMARY:PRVO SVETO OBHAJILO
DESCRIPTION:
URL:https://zupnija.trnovo.info/dogodek/prvo-sveto-obhajilo-3/
END:VEVENT
BEGIN:VEVENT
DTSTART;TZID=Europe/Ljubljana:20240523T080000
DTEND;TZID=Europe/Ljubljana:20240525T170000
DTSTAMP:20260424T154907
CREATED:20240503T080348Z
LAST-MODIFIED:20240503T080350Z
UID:30873-1716451200-1716656400@zupnija.trnovo.info
SUMMARY:Tridnevnica pred prvim obhajilom
DESCRIPTION:Tridnevnica pred prvim obhajilom – vsak večer ob 19.00.
URL:https://zupnija.trnovo.info/dogodek/tridnevnica-pred-prvim-obhajilom/
END:VEVENT
BEGIN:VEVENT
DTSTART;TZID=Europe/Ljubljana:20240520T180000
DTEND;TZID=Europe/Ljubljana:20240520T190000
DTSTAMP:20260424T154907
CREATED:20240518T204420Z
LAST-MODIFIED:20240518T204517Z
UID:31134-1716228000-1716231600@zupnija.trnovo.info
SUMMARY:V OBJEMU ZVOKA IN SLIKE - razstava likovnega natečaja za osnovnošolce 2023 v FG
DESCRIPTION:Vabljeni v ponedeljek\, 20. 5. ob 18.00 v Finžgarjevo galerijo na otvoritev razstave likovnega natečaja za osnovnošolce 2023\, V OBJEMU ZVOK IN SLIKE.
URL:https://zupnija.trnovo.info/dogodek/v-objemu-zvoka-in-slike-razstava-likovnega-natecaja-za-osnovnosolce-2023/
CATEGORIES:DFG,Finžgarjeva galerija,Kultura in druženje
ATTACH;FMTTYPE=image/jpeg:https://zupnija.trnovo.info/wp-content/uploads/2024/05/PLAKAT_razstava-v-FG_2024_naslovna.jpg
END:VEVENT
BEGIN:VEVENT
DTSTART;TZID=Europe/Ljubljana:20240519T000000
DTEND;TZID=Europe/Ljubljana:20240519T235959
DTSTAMP:20260424T154907
CREATED:20240503T080241Z
LAST-MODIFIED:20240503T083914Z
UID:30870-1716076800-1716163199@zupnija.trnovo.info
SUMMARY:BINKOŠTI
DESCRIPTION:Sklep velikonočnega časa bomo obhajali na Binkošti\, 19. maja. Sv. Duha bomo prosili\, naj ostane pri nas vse leto in nas vodi pri vseh naših odločitvah. Naslednji dan\, 20. maja\, bo praznik Marije Matere Cerkve. Včasih je bil ta praznik Binkoštni ponedeljek.
URL:https://zupnija.trnovo.info/dogodek/binkosti/
CATEGORIES:Praznik
ATTACH;FMTTYPE=image/webp:https://zupnija.trnovo.info/wp-content/uploads/2024/05/web3-holy-spirit-dove-light-sunyu-unsplash-cc0.webp
END:VEVENT
BEGIN:VEVENT
DTSTART;TZID=Europe/Ljubljana:20240516T180000
DTEND;TZID=Europe/Ljubljana:20240516T210000
DTSTAMP:20260424T154907
CREATED:20240508T175938Z
LAST-MODIFIED:20240509T080630Z
UID:30916-1715882400-1715893200@zupnija.trnovo.info
SUMMARY:KAKO NAM ZNANJE BONTONA POMAGA V VSAKDANJEM ŽIVLJENJU?
DESCRIPTION:Poznavanje osnov bontona pripomore k večji samozavesti in boljši samopodobi vsakega. S svojim obnašanjem izražamo svojo osebnost\, omikanost\, sporočamo svoje vrednote in naš odnos do soljudi. \n\n\n\nO bontonu in še o čem se bomo pogovarjali z gospo Nevo Sosič Margon\, prof. angl. in franc. jezika s književnostjo. Petindvajset let je bila zaposlena v protokolu Vlade RS kot konsekutivni in simultani tolmač za angl. in franc. jezik. Sodelovala je tudi pri pripravi in izvedbi protokolarnih dogodkov na najvišji državni ravni. \n\n\n\nVabljeni! \n\n\n\nDruštvo Finžgarjeva galerija
URL:https://zupnija.trnovo.info/dogodek/kako-nam-znanje-bontona-pomaga-v-vsakdanjem-zivljenju/
CATEGORIES:DFG,Kultura in druženje,Pogovorni večer,Pogovorni večer
ATTACH;FMTTYPE=image/jpeg:https://zupnija.trnovo.info/wp-content/uploads/2024/05/20240516_KAKO-NAM-ZNANJE-BONTONA-POMAGA-V-VSAKDANJEM-ZIVLJENJU_naslovna.jpg
END:VEVENT
BEGIN:VEVENT
DTSTART;TZID=Europe/Ljubljana:20240514T190000
DTEND;TZID=Europe/Ljubljana:20240514T200000
DTSTAMP:20260424T154907
CREATED:20240503T080158Z
LAST-MODIFIED:20240503T083415Z
UID:30867-1715713200-1715716800@zupnija.trnovo.info
SUMMARY:Priprava na krst
DESCRIPTION:V torek\, 14. maja\, ob 19.00 bo priprava na krst za mesec maj.
URL:https://zupnija.trnovo.info/dogodek/priprava-na-krst-15/
END:VEVENT
BEGIN:VEVENT
DTSTART;TZID=Europe/Ljubljana:20240512T100000
DTEND;TZID=Europe/Ljubljana:20240512T140000
DTSTAMP:20260424T154907
CREATED:20240503T080047Z
LAST-MODIFIED:20240503T083244Z
UID:30864-1715508000-1715522400@zupnija.trnovo.info
SUMMARY:DAN SLUŽENJA in 15. obletnica delovanja Doma Janeza Krstnika
DESCRIPTION:V nedeljo\, 12. maja\, ob 10.00\, bomo praznovali Dan služenja\, ki bo lepo sovpadal s 15. obletnico delovanja doma Janeza Krstnika. Na to praznovanje bodite pozorni\, ker bomo izrekli Bogu zahvalo\, da nam je tako zelo naklonjen. K dvojnemu praznovanju vabljeni vsi stari\, bolni\, onemogli in invalidni bratje in sestre. Delovanje Doma Janeza Krstnika bomo obeležili tudi s programom v cerkvi in po maši s skupnim kosilom za vse brez razlike. Ob 15 letnici delovanja doma bo izšel zbornik\, v katerem boste lahko brali vsebino in utrip trenutnega stanja v zavodu.
URL:https://zupnija.trnovo.info/dogodek/dan-sluzenja-in-15-obletnica-delovanja-doma-janeza-krstnika/
CATEGORIES:Praznik
ATTACH;FMTTYPE=image/jpeg:https://zupnija.trnovo.info/wp-content/uploads/2024/05/20240512_15.obletnica-DJK_naslovna.jpg
END:VEVENT
BEGIN:VEVENT
DTSTART;TZID=Europe/Ljubljana:20240510T190000
DTEND;TZID=Europe/Ljubljana:20240510T200000
DTSTAMP:20260424T154907
CREATED:20240503T075922Z
LAST-MODIFIED:20240503T075924Z
UID:30861-1715367600-1715371200@zupnija.trnovo.info
SUMMARY:Začetek devet dnevnice v čast Svetemu Duhu
DESCRIPTION:
URL:https://zupnija.trnovo.info/dogodek/zacetek-devet-dnevnice-v-cast-svetemu-duhu/
END:VEVENT
BEGIN:VEVENT
DTSTART;TZID=Europe/Ljubljana:20240509T000000
DTEND;TZID=Europe/Ljubljana:20240509T235959
DTSTAMP:20260424T154907
CREATED:20240503T075809Z
LAST-MODIFIED:20240508T150020Z
UID:30858-1715212800-1715299199@zupnija.trnovo.info
SUMMARY:GOSPODOV VNEBOHOD\, praznik
DESCRIPTION:
URL:https://zupnija.trnovo.info/dogodek/gospodov-vnebohod-praznik-2/
CATEGORIES:Praznik
ATTACH;FMTTYPE=image/jpeg:https://zupnija.trnovo.info/wp-content/uploads/2024/05/8152_1589792632_vnebohod-1-1.jpg
END:VEVENT
BEGIN:VEVENT
DTSTART;TZID=Europe/Ljubljana:20240508T190000
DTEND;TZID=Europe/Ljubljana:20240508T210000
DTSTAMP:20260424T154907
CREATED:20240503T083102Z
LAST-MODIFIED:20240503T083103Z
UID:30897-1715194800-1715202000@zupnija.trnovo.info
SUMMARY:Svet veroučne šole
DESCRIPTION:Svet veroučne šole bo v sredo\, 8. maja\, po večerni maši. Pripravili se bomo na Dan družin\, ki bo 2. junija ob 10. uri\, ko bomo sklenili tudi veroučno leto. Binkoštna devet dnevnica se bo pričela 10. maja.
URL:https://zupnija.trnovo.info/dogodek/svet-veroucne-sole-9/
CATEGORIES:Seje župnijskih delovnih teles
END:VEVENT
BEGIN:VEVENT
DTSTART;TZID=Europe/Ljubljana:20240506T080000
DTEND;TZID=Europe/Ljubljana:20240508T190000
DTSTAMP:20260424T154907
CREATED:20240503T075714Z
LAST-MODIFIED:20240503T075716Z
UID:30855-1714982400-1715194800@zupnija.trnovo.info
SUMMARY:Prošnji dnevi
DESCRIPTION:
URL:https://zupnija.trnovo.info/dogodek/prosnji-dnevi/
END:VEVENT
BEGIN:VEVENT
DTSTART;TZID=Europe/Ljubljana:20240428T190000
DTEND;TZID=Europe/Ljubljana:20240428T213000
DTSTAMP:20260424T154907
CREATED:20240425T205704Z
LAST-MODIFIED:20240427T064006Z
UID:30843-1714330800-1714339800@zupnija.trnovo.info
SUMMARY:Sonate Domenica Scarlatija
DESCRIPTION:Maša s klasično glasbov izvedbi pianistke Rebeke Dobravec.  \n\n\n\nMaša bo v nedeljo\, 28. 4. 2024 ob 19:00\, v cerkvi sv. Janeza Krstnika.  \n\n\n\nVabljeni! \n\n\n\n\n\n\n\n\n\n\nItalijanski baročni skladatelj Domenico Scarlatti (1685-1757) je večino življenja preživel v Španiji\, kjer je ustvarjal za kraljevski dvor v Madridu. Bil je eden večjih virtuozov svojega časa na čembalu\, ta inštrument naj bi igral celo bolje kot G. F. Handel. Čeprav je skladal tudi opere\, cantate in liturgična dela\, je danes najbolj poznan po svojih 555 sonatah za inštrumente s tipkami\, večina katerih je napisana za čembalo. V sonatah sta stalno prisotna vpliv španske in portugalske ljudske glasbe ter oponašanje kitare. Kratke\, enostavčne\, skladbe so tipično dvodelne\, napisane v galantnem slogu. Nocoj bomo prisluhnili izboru zgodnjih Scarlattijevih sonat. Za nekatere od njih pravijo\, naj bi jih v resnici napisala kraljica Marija Barbara\, Scarlattijeva delodajalka in prijateljica. \n\n\n\nRebeka Dobravec (2000) študira klavir na Akademiji za glasbo v Ljubljani\, v razredu prof. Tatjane Ognjanovič. Pogosto nastopa kot solistka in kot članica različnih komornih skupin. V letih 2016 in 2020 se je predstavila v ciklu Ob klavirju. Od leta 2019 z Nežo Nahtigal in Taro Korica igra v klavirskem Triu TRN\, s katerim so bile mnogokrat nastopile doma in v tujini. \n\n\n\nRedno koncertira kot klavirska spremljevalka z mnogimi inštrumentalisti in pevci. V letošnji sezoni se je že predstavila s Pio Brodnik\, Markom Finkom\, Sabino Gruden\, Saro Hartman\, Talito Sofijo Komelj in drugimi. Od decembra 2023 kot korepetitorka sodeluje tudi s Slovenskim komornim glasbenim gledališčem. Je dolgoletna članica Komornega zbora KGBL\, ki ga vodi Ambrož Čopi. Z zborom se udeležuje turnej in tekmovanj po celem svetu (poleti 2023 so obiskali Francijo\, Italijo\, Tajvan). Zaradi svojih dosežkov je od leta 2018 štipendistka Mestne Občine Ljubljana.
URL:https://zupnija.trnovo.info/dogodek/sonate-domenica-scarlatija/
CATEGORIES:DFG,Maša s klasično glasbo
ATTACH;FMTTYPE=image/jpeg:https://zupnija.trnovo.info/wp-content/uploads/2024/04/20240428_Rebeka-Dobravec_prikazna.jpg
END:VEVENT
BEGIN:VEVENT
DTSTART;TZID=Europe/Ljubljana:20240425T000000
DTEND;TZID=Europe/Ljubljana:20240425T235959
DTSTAMP:20260424T154907
CREATED:20240404T051914Z
LAST-MODIFIED:20240404T051916Z
UID:30821-1714003200-1714089599@zupnija.trnovo.info
SUMMARY:Sv. Marko\, Markova procesija
DESCRIPTION:
URL:https://zupnija.trnovo.info/dogodek/sv-marko-markova-procesija/
END:VEVENT
BEGIN:VEVENT
DTSTART;TZID=Europe/Ljubljana:20240420T090000
DTEND;TZID=Europe/Ljubljana:20240420T100000
DTSTAMP:20260424T154907
CREATED:20240404T051753Z
LAST-MODIFIED:20240404T051755Z
UID:30818-1713603600-1713607200@zupnija.trnovo.info
SUMMARY:Prva sveta spoved za kandidate za prvo obhajilo
DESCRIPTION:
URL:https://zupnija.trnovo.info/dogodek/prva-sveta-spoved-za-kandidate-za-prvo-obhajilo/
END:VEVENT
BEGIN:VEVENT
DTSTART;TZID=Europe/Ljubljana:20240418T180000
DTEND;TZID=Europe/Ljubljana:20240418T210000
DTSTAMP:20260424T154907
CREATED:20240404T051516Z
LAST-MODIFIED:20240415T083353Z
UID:30815-1713463200-1713474000@zupnija.trnovo.info
SUMMARY:Otvoritev razstave ukrajinske umetnice Tetyane Donets Savko v Finžgarjevi galeriji
DESCRIPTION:Vabljeni v četrtek\, 18. 4. 2024 ob 18. uri\, v Finžgarjevo galerijo na otvoritev razstave slikarke Tetyane Donets\, IDENTITETA SLOVENIJE IDENTITETA MESTA. \n\n\n\n\n\n\n\n\n\n\nPrenesi katalog >>
URL:https://zupnija.trnovo.info/dogodek/otvoritev-razstave-ukrajinske-umetnice-tetyane-donets-savko-v-finzgarjevi-galeriji/
CATEGORIES:DFG,Finžgarjeva galerija,Kultura in druženje
ATTACH;FMTTYPE=image/jpeg:https://zupnija.trnovo.info/wp-content/uploads/2024/04/20240418_Identiteta-Slovenije-Identiteta-mesta_Tetyana-Donets_naslovna.jpg
END:VEVENT
BEGIN:VEVENT
DTSTART;TZID=Europe/Ljubljana:20240416T100000
DTEND;TZID=Europe/Ljubljana:20240416T110000
DTSTAMP:20260424T154907
CREATED:20240404T051343Z
LAST-MODIFIED:20240404T051344Z
UID:30812-1713261600-1713265200@zupnija.trnovo.info
SUMMARY:Priprava na krst
DESCRIPTION:
URL:https://zupnija.trnovo.info/dogodek/priprava-na-krst-14/
END:VEVENT
BEGIN:VEVENT
DTSTART;TZID=Europe/Ljubljana:20240407T190000
DTEND;TZID=Europe/Ljubljana:20240407T210000
DTSTAMP:20260424T154907
CREATED:20240404T051051Z
LAST-MODIFIED:20240405T054358Z
UID:30807-1712516400-1712523600@zupnija.trnovo.info
SUMMARY:MAŠA S KLASIČNO GLASBO - Ana Novak\, Veronika Hrovat\, Grega Vauhnik\, Matej Prevc\, Katja Konvalinka
DESCRIPTION:Vabljeni na mašo s klasično glasbo. \n\n\n\n\n\n\n\n\n\n\n\n\n\n\nNastopili bodo: \n\n\n\nAna Novak\, sopran \n\n\n\nVeronika Hrovat\, sopran \n\n\n\nGrega Vauhnik\, bariton \n\n\n\nMatej Prevc\, bariton \n\n\n\nKatja Konvalinka\, klavir \n\n\n\nProgram: \n\n\n\n\nW. A:. Mozart: Vespere solennes: Laudamus te  …Ana Novak\n\n\n\nMaša: C. Gounod: Missa breve in C: Kyrie\, Gloria… vsi\n\n\n\nF. Mendelssohn: Elias: Lord God Of Abraham\, Isaac And Israel …Matej Prevc\n\n\n\nD. Novak: Z nami ostani\, gospod … Ana Novak in Grega Vauhnik (smo naredili kot duet\, da 1x eden poje\, 1x drugi)\n\n\n\nC. Gounod: Missa breve in C: O salutaris hostia\, Agnus Dei …vsi\n\n\n\nW. A: Mozart: Missa brevis: Benedictus … Veronika Hrovat\n\n\n\nF. Mendelssohn: Elias: For The Mountains Shall Depart … Grega Vauhnik\n\n\n\nA. Vavken: Razveseli se\, kraljica .. vsi
URL:https://zupnija.trnovo.info/dogodek/masa-s-klasicno-glasbo-ana-novak-veronika-hrovat-grega-vauhnik-matej-prevc-katja-konvalinka/
CATEGORIES:DFG,Duhovnost in druženje,Maša s klasično glasbo
ATTACH;FMTTYPE=image/jpeg:https://zupnija.trnovo.info/wp-content/uploads/2024/04/20240407_Ana-Novak-Veronika-Hrovat-Grega-Vauhnik-Matej-Prevc-Katja-Konvalinka_prikazna.jpg
END:VEVENT
BEGIN:VEVENT
DTSTART;TZID=Europe/Ljubljana:20240405T080000
DTEND;TZID=Europe/Ljubljana:20240405T170000
DTSTAMP:20260424T154907
CREATED:20240404T050305Z
LAST-MODIFIED:20240404T050306Z
UID:30804-1712304000-1712336400@zupnija.trnovo.info
SUMMARY:Prvi petek
DESCRIPTION:Prvi petek\, obhajilo bolnikov in starejših na domu.
URL:https://zupnija.trnovo.info/dogodek/prvi-petek-4/
END:VEVENT
BEGIN:VEVENT
DTSTART;TZID=Europe/Ljubljana:20240331T000000
DTEND;TZID=Europe/Ljubljana:20240331T235959
DTSTAMP:20260424T154907
CREATED:20240326T062425Z
LAST-MODIFIED:20240326T062456Z
UID:30640-1711843200-1711929599@zupnija.trnovo.info
SUMMARY:Velika noč
DESCRIPTION:Ob 7.30 izpostavitev Vstalega Jezusa\, slovesna velikonočna aleluja\, procesija in druga velikonočna maša. Velikonočne maše še ob 10:00\, ob 15:00 v Domu Janeza Krstnika in ob 19:00.
URL:https://zupnija.trnovo.info/dogodek/velika-noc-4/
CATEGORIES:Praznik
ATTACH;FMTTYPE=image/jpeg:https://zupnija.trnovo.info/wp-content/uploads/2024/03/velika-noc.jpg
END:VEVENT
END:VCALENDAR