BEGIN:VCALENDAR
VERSION:2.0
PRODID:-//Župnija Lj.-Trnovo - ECPv5.10.1//NONSGML v1.0//EN
CALSCALE:GREGORIAN
METHOD:PUBLISH
X-WR-CALNAME:Župnija Lj.-Trnovo
X-ORIGINAL-URL:https://zupnija.trnovo.info
X-WR-CALDESC:Events for Župnija Lj.-Trnovo
BEGIN:VTIMEZONE
TZID:Europe/Ljubljana
BEGIN:DAYLIGHT
TZOFFSETFROM:+0100
TZOFFSETTO:+0200
TZNAME:CEST
DTSTART:20210328T010000
END:DAYLIGHT
BEGIN:STANDARD
TZOFFSETFROM:+0200
TZOFFSETTO:+0100
TZNAME:CET
DTSTART:20211031T010000
END:STANDARD
END:VTIMEZONE
BEGIN:VEVENT
DTSTART;TZID=Europe/Ljubljana:20210403T000000
DTEND;TZID=Europe/Ljubljana:20210403T235959
DTSTAMP:20260425T031155
CREATED:20210321T202807Z
LAST-MODIFIED:20210403T075322Z
UID:6202-1617408000-1617494399@zupnija.trnovo.info
SUMMARY:Velika sobota\, blagoslov jedil\, vigilija
DESCRIPTION:Obhajanje »svete noči« od velike sobote na veliko nedeljo je višek vsega liturgičnega leta. Eden največjih pesnikov zadnjega časa Paul Claudel pravi o tej liturgiji\, da je odločilno vplivala na njegovo vrnitev k izgubljeni veri: »To je najgloblja in največja poezija … Obredi velikega tedna\, vzvišena pesem »Exultet«\, pred katero so se mi najbolj opojni glasovi Sofoklesa in Pindarja zdeli plehki – vse to me je navdajalo s spoštovanjem\, z veseljem\, s hvaležnostjo\, kesanjem in čaščenjem.« Za Tertulijana\, v prvi polovici 3. stoletja\, je ta »velikonočna« vigilija veljala za tako slovesno in pomembno\, da so se je bili dolžni udeležiti vsi kristjani. Posvečena je zadnji pripravi katehumenov na krst – obenem pa tudi pripravi že krščenih na obnovitev krstnih milosti in krstnih obljub. Vigilija z berili vsebuje resnobo obljub že krščenih. Toda kako sijajna obzorja odpira pred našimi očmi! »Obred velikonočne luči in obred blagoslovitve krstne vode\, ki ta pouk obdajata\, sta eno samo radovanje nad veličastvom odrešenja. Tu najde odmev tisto nadčloveško veselje\, ki mora biti trajno ozračje odrešene duše in odrešene Cerkve«.Izraz velikonočnega veselja – aleluja – je kristjanova nova pesem. Ta vriskajoči spev je kakor klic Svetega Duha iz srca in v krstu novorojenih otrok – prvi dih v njih prebivajočega troedinega božjega življenja. To je pesem veselja\, ki se je rodilo iz križa. To je luč\, ki priteka iz noči trpljenja. To je pesem vstajenja\, ki nosi kakor skrit pečat posvečenje križa. Nihče ne more peti prave aleluje\, kdor ni z Gospodom visel na križu in nosil svojega deleža pri trpljenju božjega Pevca\, ki je s svojo smrtjo premagal našo smrt in s svojim vstajenjem obnovil življenje.7.00 – Izpostavitev Najsvetejšega – jutranja molitev – blagoslov soli\, vode in ognja.12.00–17.00 – blagoslovi jedil ob vsaki polni uri17.00 – zadnji blagoslov v kapeli Doma Janeza Krstnika19.00 – velikonočna vigilija – sveto obhajilo
URL:https://zupnija.trnovo.info/dogodek/velika-sobota-blagoslov-jedil-vigilija/
CATEGORIES:IZPOSTAVLJENO,Nedelje in prazniki
ATTACH;FMTTYPE=image/jpeg:https://zupnija.trnovo.info/wp-content/uploads/2021/03/Velika-sobota_blagoslov-velikonocnih-jedi-kje-in-kdaj-01.jpg
END:VEVENT
BEGIN:VEVENT
DTSTART;TZID=Europe/Ljubljana:20210404T000000
DTEND;TZID=Europe/Ljubljana:20210404T235959
DTSTAMP:20260425T031155
CREATED:20210321T203036Z
LAST-MODIFIED:20210404T070104Z
UID:6204-1617494400-1617580799@zupnija.trnovo.info
SUMMARY:VELIKA NOČ
DESCRIPTION:Velika noč je praznik praznikov\, najbolj vesel vseh veselih praznikov\, kakor sonce med zvezdami. Zavoljo Kristusa bodimo podobni Bogu\, ker je Kristus zaradi nas postal človek. Ubog je postal\, da bi po njegovem uboštvu mi obogateli. Skušan je bil\, da bi bili mi zmagovalci. Zaničevan je bil\, da bi nas obdaroval s poveličanjem. Umrl je\, da bi nam prinesel odrešenje. Šel je v nebesa\, da bi pritegnil k sebi tiste\, ki jih je padec v greh vrgel na tla. Naj mu vse damo\, naj njemu\, ki je dal samega sebe za nas v odkupnino in zameno\, vse darujemo!8.00 – procesija in velikonočna maša\, – sveto obhajilo10.00 in 15.00 – maša v kapeli Doma Janeza Krstnika – sveto obhajilo19.00 – večerna velikonočna maša – sveto obhajilo
URL:https://zupnija.trnovo.info/dogodek/velika-noc/
CATEGORIES:IZPOSTAVLJENO,Nedelje in prazniki
ATTACH;FMTTYPE=image/jpeg:https://zupnija.trnovo.info/wp-content/uploads/2021/03/Velika-noc.jpg
END:VEVENT
BEGIN:VEVENT
DTSTART;TZID=Europe/Ljubljana:20210405T000000
DTEND;TZID=Europe/Ljubljana:20210405T235959
DTSTAMP:20260425T031155
CREATED:20210321T203346Z
LAST-MODIFIED:20210321T203348Z
UID:6207-1617580800-1617667199@zupnija.trnovo.info
SUMMARY:Velikonočni ponedeljek\, počitnice
DESCRIPTION:
URL:https://zupnija.trnovo.info/dogodek/velikonocni-ponedeljek-pocitnice/
END:VEVENT
BEGIN:VEVENT
DTSTART;TZID=Europe/Ljubljana:20210406T123000
DTEND;TZID=Europe/Ljubljana:20210406T190000
DTSTAMP:20260425T031155
CREATED:20210406T090957Z
LAST-MODIFIED:20210406T093033Z
UID:7602-1617712200-1617735600@zupnija.trnovo.info
SUMMARY:NUJNO OBVESTILO - Kidanje snega
DESCRIPTION:Pogled skozi okno da vedeti\, da bo potrebno spet vzeti v roke lopate za kidanje snega okoli cerkve in župnišča. Če ima kdo čas in voljo (in ni v službi)\, ga vabim\, da se mi pridruži od pribl. 12.30 naprej. (Staša)Vabljeni k sodelovanju vsi\, ki ste pripravljeni pomagati pri kidanju stopnišča in poti okoli cerkve ter župnišča. Kidanje je možno kadarkoli\, saj so lopate dostopne v odklenjeni shrambi na desni od vhoda zakristije. Prosim\, da pripravljenost potrdite z vpisom v skupino Kidanje snega\, košnja trave ipd.
URL:https://zupnija.trnovo.info/dogodek/nujno-obvestilo-kidanje-snega/
CATEGORIES:Nujno obvestilo
ATTACH;FMTTYPE=image/jpeg:https://zupnija.trnovo.info/wp-content/uploads/2020/12/metanje-snega-pri-kidanju-2.jpg
END:VEVENT
BEGIN:VEVENT
DTSTART;TZID=Europe/Ljubljana:20210409T110000
DTEND;TZID=Europe/Ljubljana:20210409T130000
DTSTAMP:20260425T031155
CREATED:20210403T193102Z
LAST-MODIFIED:20210403T193106Z
UID:7418-1617966000-1617973200@zupnija.trnovo.info
SUMMARY:Obletnica delovanja DJK
DESCRIPTION:
URL:https://zupnija.trnovo.info/dogodek/obletnica-delovanja-djk/
END:VEVENT
BEGIN:VEVENT
DTSTART;TZID=Europe/Ljubljana:20210411T000000
DTEND;TZID=Europe/Ljubljana:20210411T235959
DTSTAMP:20260425T031155
CREATED:20210403T193311Z
LAST-MODIFIED:20210403T193313Z
UID:7421-1618099200-1618185599@zupnija.trnovo.info
SUMMARY:Bela nedelja - ned. Božjega usmiljenja
DESCRIPTION:
URL:https://zupnija.trnovo.info/dogodek/bela-nedelja-ned-bozjega-usmiljenja/
END:VEVENT
BEGIN:VEVENT
DTSTART;TZID=Europe/Ljubljana:20210413T194500
DTEND;TZID=Europe/Ljubljana:20210413T210000
DTSTAMP:20260425T031155
CREATED:20210403T193413Z
LAST-MODIFIED:20210403T194123Z
UID:7424-1618343100-1618347600@zupnija.trnovo.info
SUMMARY:Priprava na sveti krst
DESCRIPTION:V torek\, 13. aprila\, bo po večerni maši priprava na sveti krst za kandidate v mesecu aprilu.
URL:https://zupnija.trnovo.info/dogodek/priprava-na-sveti-krst/
END:VEVENT
BEGIN:VEVENT
DTSTART;TZID=Europe/Ljubljana:20210415T194500
DTEND;TZID=Europe/Ljubljana:20210415T210000
DTSTAMP:20260425T031155
CREATED:20210407T071311Z
LAST-MODIFIED:20210413T120106Z
UID:7635-1618515900-1618520400@zupnija.trnovo.info
SUMMARY:FG: LITERARNI VEČER\, Ifigenija Simonović
DESCRIPTION:Večer s pesnico\, esejistko\, lončarko in bivšo predsednico slovenskega PEN-a Ifigenijo Simonović bo v četrtek\, 15. 4. 2021\, ob 19.45 uri v Finžgarjevi galeriji\, Kolezijska 1\, Ljubljana –Trnovo. Vstop je omejen na 10  ljudi.Pogovor bo potekal tudi preko Zoom povezave. (https://zoom.us/j/95848425141?pwd=aVRoR0cydEM5d2xPZjNnN29nZHFFUT09) \n\n\n\nLepo vabljeni tudi v prostore Finžgarjeve galerije na ogled razstave slikarja Milana Razborška vsak ponedeljek in sredo med 11. in 13. uro. Stalno zbirko si lahko ogledate tudi v virtualni Finžgarjevi galeriji.
URL:https://zupnija.trnovo.info/dogodek/fg-literarni-vecer-ifigenija-simonovic/
CATEGORIES:Finžgarjeva galerija,IZPOSTAVLJENO
ATTACH;FMTTYPE=image/jpeg:https://zupnija.trnovo.info/wp-content/uploads/2021/04/Ifigenija-Simonovic.jpg
END:VEVENT
BEGIN:VEVENT
DTSTART;TZID=Europe/Ljubljana:20210418T000000
DTEND;TZID=Europe/Ljubljana:20210418T235959
DTSTAMP:20260425T031155
CREATED:20210403T194244Z
LAST-MODIFIED:20210413T075349Z
UID:7436-1618704000-1618790399@zupnija.trnovo.info
SUMMARY:3. velikonočna ned.\, krščevanje
DESCRIPTION:
URL:https://zupnija.trnovo.info/dogodek/3-velikonocna-ned-krscevanje/
END:VEVENT
BEGIN:VEVENT
DTSTART;TZID=Europe/Ljubljana:20210419T203000
DTEND;TZID=Europe/Ljubljana:20210419T220000
DTSTAMP:20260425T031155
CREATED:20210413T093118Z
LAST-MODIFIED:20210417T203841Z
UID:7713-1618864200-1618869600@zupnija.trnovo.info
SUMMARY:info: OČE\, OČKA - 10+ hudih dilem o moških in očetih - dr. Miha Rutar in Benjamin Siter
DESCRIPTION:Lepo povabljeni na obetaven pogovor o očetih\, decih\, sesanju prahu in kurjenju žara\, ki ga na kanalu YouTube Sekular pripravlja g. Janez Zupan. Njegova gosta bosta en in edini Benjamin Siter iz Družina in Življenje ter en in edini dr. Miha Rutar iz Iskreni.net. Pogovor bo v ponedeljek\, 19.4.  s pričetkom ob 20.30 uri v živo\, zato lahko komentirate in sprašujete!
URL:https://zupnija.trnovo.info/dogodek/info-oce-ocka-10-hudih-dilem-o-moskih-in-ocetih-dr-miha-rutar-in-benjamin-siter/
CATEGORIES:Duhovnost in druženje,IZPOSTAVLJENO,Izredni dogodki
ATTACH;FMTTYPE=image/jpeg:https://zupnija.trnovo.info/wp-content/uploads/2021/04/maxresdefault_live.jpg
END:VEVENT
BEGIN:VEVENT
DTSTART;TZID=Europe/Ljubljana:20210420T194500
DTEND;TZID=Europe/Ljubljana:20210420T210000
DTSTAMP:20260425T031155
CREATED:20210403T193752Z
LAST-MODIFIED:20210403T194010Z
UID:7430-1618947900-1618952400@zupnija.trnovo.info
SUMMARY:Seja ŽPS
DESCRIPTION:V torek\, 20. aprila\, bo po večerni maši seja ŽPS. Srečanje bo v cerkvi.
URL:https://zupnija.trnovo.info/dogodek/seja-zps-3/
CATEGORIES:Seje župnijskih delovnih teles
END:VEVENT
BEGIN:VEVENT
DTSTART;TZID=Europe/Ljubljana:20210424T180000
DTEND;TZID=Europe/Ljubljana:20210424T202000
DTSTAMP:20260425T031155
CREATED:20210406T074735Z
LAST-MODIFIED:20210513T203619Z
UID:7566-1619287200-1619295600@zupnija.trnovo.info
SUMMARY:info: BODO MNOGI REŠENI? ; virtualno srečanje s preroškim glasom Ralpha Martina
DESCRIPTION:Slovenija\, prebudimo se!Vabimo vas na izjemno virtualno srečanje z Ralphom Martinom\, ki bo 24. 4. 2021\, z začetkom ob 18.00 – BODO MNOGI REŠENI? \n\n\n\nŽivimo v turbolentnih časih\, ko je mnogo ljudi prestrašenih in zmedenih. Kaj se dogaja in kakšna je rešitev?Gre za vprašanje našega končnega bivanja in zveličanja. Ralph Martin bo spregovoril o prerokbi p. Michaela Scanlana iz leta 1976. Dogodki\, ki so bili napovedani pred 44 leti\, se odvijajo pred našimi očmi. Govorimo o vprašanju KDO IN KOLIKO LJUDI SE BO ZVELIČALO /REŠILO?Napovednik seminarja:  \n\n\n\n\n\n\n\n\n\nVeč informacij in prijave: https://www.krscanski-mozje.si/virtualno-srecanje-s-preroskim-glasom-ralpha-martina-bodo-mnogi-reseni/ \n\n\n\nSrečanje je odprto za vse (ne samo za može\, krščanski možje so le soorganizatorji). Na omenjeni spletni strani so objavljene prerokbe\, ki nas kličejo k širjenju Božjega kraljestva.Poglejmo si nekaj spodbud:“Sin človekov\, ali vidiš mesto\, ki propada? Si pripravljen videti vsa mesta uničena? Si pripravljen videti propad celotnega ekonomskega sistema\, na katerega se sedaj tako zanašaš? Propad\, ko denar več ne bo imel nobene vrednosti in te ne bo mogel več vzdrževati? Sin človekov\, vidiš tiste cerkvene zgradbe\, ki jih sedaj tako zlahka obiskuješ? Si jih pripravljen videti takšne\, da bodo imele zabita in zaprta vrata? Si pripravljen svoje življenje zasnovati samo na meni\, na nobeni drugi ustanovi ali strukturi? Si se pripravljen zanašati samo name\, ne na ustanove\, šole in župnije\, za katere se tako trudiš\, da bi jih negoval in obdržal?” (Besedilo iz leta 1976\, p. Michael Scanlan)“Rad bi vas pripravil na to\, kar prihaja. Temačni dnevi prihajajo na svet\, dnevi stiske … Ustanove\, ki sedaj stojijo\, ne bodo več stale. Razne oblike podpore\, na katere se ljudje danes opirajo\, ne bodo več obstajale. Rad bi\, dragi moji\, da bi bili pripravljeni\, da bi poznali samo mene\, da bi se me oklenili in bi imeli z menoj globlji odnos kot kadarkoli doslej…Na vas bom razlil vse darove svojega Duha. Sam vas bom pripravil na duhovni boj; pripravil vas bom na čas evengelizacije\, kakršne svet še nikoli ni videl … In ko ne boste imeli ničesar drugega\, razen mene\, boste imeli vse: zemljo\, polja\, domove in brate in sestre in ljubezen in veselje in mir – bolj kot kadarkoli prej. Bodite pripravljeni\, moje ljudstvo\, jaz sam vas želim usposobiti.“ (Prerokba iz leta 1975\, Ralph Martin) \n\n\n\nKdo je Ralph Martin? \n\n\n\nRalph Martin je močaN PREROŠKI DUH danes v Katoliški cerkvi. Je predsedni kmisijonske organizacije Renewal Ministries ter reden gost v ameriški tedenski katoliški televizijski oddaji The Choices We Face (Izzivi\, s katerimi se soočamo) in na radijskih programih\, ki se predvajajo po vsem svetu. Iz teologije je doktoriral na Papeški univerzi svetega Tomaža (Angelicum) v Rimu in je profesor in direktor podiplomskih teoloških programov o novi evangelizaciji v semenišču Sacred Heart v nadškofiji Detroit.VI. ga je imenoval za svetovalca Papeškega sveta za novo evangelizacijo\, imenovan je bil tudi za svetovalca izvedenca škofovske sinode o novi evangelizaciji. Ralph Martin je avtor številnih knjig\, med katerimi je najnovejša A Church in Crisis: Pathways Forward (Cerkev v krizi: pot naprej)\, nato The Fulfillment of All Desire (Izpolnitev vseh želja)\, The Urgency of the New Evangelization (Nujnost nove evangelizacije) in Will Many Be Saved? (Ali bodo mnogi rešeni?). Ob izvedbi velikega evangelizacijskega dogodka V ognju Duha leta 2001 v Sloveniji je s pomočjo misijonske organizacije Renewal Ministries Katoliška karizmatična prenova izdala in prevedla tudi nekaj njegovih knjižic: Blagovest evharistije\, Čudovita svoboda\, Upanje – tudi zame?\, Ali me Bog res ljubi?.Z ženo Anne imata šest otrok in šestnajst vnukov. Živijo v Ann Arbor v Michiganu. \n\n\n\nPohitite s prijavo in ne zamudite tega izrednega dogodka!Več informacij in prijave: https://www.krscanski-mozje.si/virtualno-srecanje-s-preroskim-glasom-ralpha-martina-bodo-mnogi-reseni/ \n\n\n\nKrščanski možje Slovenije.
URL:https://zupnija.trnovo.info/dogodek/bodo-mnogi-reseni/
CATEGORIES:Duhovnost in druženje,Izredni dogodki,Kateheza za odrasle
ATTACH;FMTTYPE=image/jpeg:https://zupnija.trnovo.info/wp-content/uploads/2021/04/BODO-MNOGI-RESENI_ralph-plakat-scaled.jpg
END:VEVENT
BEGIN:VEVENT
DTSTART;TZID=Europe/Ljubljana:20210425T000000
DTEND;TZID=Europe/Ljubljana:20210425T235959
DTSTAMP:20260425T031155
CREATED:20210403T194353Z
LAST-MODIFIED:20210413T075958Z
UID:7439-1619308800-1619395199@zupnija.trnovo.info
SUMMARY:4. velikonočna ned.\, - nedelja Dobrega Pastirja\, birma
DESCRIPTION:
URL:https://zupnija.trnovo.info/dogodek/4-velikonocna-ned-nedelja-dobrega-pastirja-birma/
END:VEVENT
BEGIN:VEVENT
DTSTART;TZID=Europe/Ljubljana:20210428T100000
DTEND;TZID=Europe/Ljubljana:20210506T190000
DTSTAMP:20260425T031155
CREATED:20210428T135729Z
LAST-MODIFIED:20210513T203523Z
UID:8597-1619604000-1620327600@zupnija.trnovo.info
SUMMARY:ARHITEKTURAinventura; paviljon Agape\, razstava v CD
DESCRIPTION:Društvo Finžgarjeva Galerija vabi na ogled pregledne razstave slovenske sodobne arhitekture\, ARHITEKTURAinventura\, kjer je razstavljen tudi paviljon Agape. Razstava je v Cankarjevem domu in bo odprta do 6.5. 2021.
URL:https://zupnija.trnovo.info/dogodek/athitekturainventura/
CATEGORIES:Izredni dogodki,Kultura in druženje
ATTACH;FMTTYPE=image/jpeg:https://zupnija.trnovo.info/wp-content/uploads/2021/04/IMG_20210426_130104-scaled.jpg
END:VEVENT
BEGIN:VEVENT
DTSTART;TZID=Europe/Ljubljana:20210429T000000
DTEND;TZID=Europe/Ljubljana:20210429T235959
DTSTAMP:20260425T031155
CREATED:20210403T194501Z
LAST-MODIFIED:20210403T194505Z
UID:7442-1619654400-1619740799@zupnija.trnovo.info
SUMMARY:Sv. Katarina Sienska
DESCRIPTION:
URL:https://zupnija.trnovo.info/dogodek/sv-katarina-sienska/
END:VEVENT
BEGIN:VEVENT
DTSTART;TZID=Europe/Ljubljana:20210501T000000
DTEND;TZID=Europe/Ljubljana:20210501T235900
DTSTAMP:20260425T031155
CREATED:20210423T192359Z
LAST-MODIFIED:20210427T163331Z
UID:8440-1619827200-1619913540@zupnija.trnovo.info
SUMMARY:Sv. Jožef Delavec\, začetek šmarnic
DESCRIPTION:Tudi letos smo se odločili\, da poleg jutranje in večerne ponudbe šmarnične duhovnosti\, mladim in družinam omogočimo kratko šmarnično dogajanje ob 17. uri Pod paviljonom.
URL:https://zupnija.trnovo.info/dogodek/sv-jozef-delavec-zacetek-smarnic/
ATTACH;FMTTYPE=image/jpeg:https://zupnija.trnovo.info/wp-content/uploads/2021/04/Gerrit_van_Honthorst_-_Childhood_of_Christ_-_WGA11656-770x324-1.jpg
END:VEVENT
BEGIN:VEVENT
DTSTART;TZID=Europe/Ljubljana:20210501T170000
DTEND;TZID=Europe/Ljubljana:20210531T170000
DTSTAMP:20260425T031155
CREATED:20210501T130057Z
LAST-MODIFIED:20210501T131124Z
UID:8707-1619888400-1622480400@zupnija.trnovo.info
SUMMARY:Šmarnice
DESCRIPTION:Vabljeni otroci in starši k ŠMARNICAM\, ki bodo vsak dan ob 17. uri pod Paviljonom agape.
URL:https://zupnija.trnovo.info/dogodek/smarnice/2021-05-01/
ATTACH;FMTTYPE=image/jpeg:https://zupnija.trnovo.info/wp-content/uploads/2021/05/smarnice-1-scaled.jpg
END:VEVENT
BEGIN:VEVENT
DTSTART;TZID=Europe/Ljubljana:20210502T000000
DTEND;TZID=Europe/Ljubljana:20210502T235959
DTSTAMP:20260425T031155
CREATED:20210423T193653Z
LAST-MODIFIED:20210501T175902Z
UID:8451-1619913600-1619999999@zupnija.trnovo.info
SUMMARY:5. velikonočna nedelja - pričetek agape po maši
DESCRIPTION:
URL:https://zupnija.trnovo.info/dogodek/5-velikonocna-nedelja/
ATTACH;FMTTYPE=image/jpeg:https://zupnija.trnovo.info/wp-content/uploads/2021/04/676_5_velikonocna_nedelja_b.jpg
END:VEVENT
BEGIN:VEVENT
DTSTART;TZID=Europe/Ljubljana:20210504T190000
DTEND;TZID=Europe/Ljubljana:20210504T200000
DTSTAMP:20260425T031155
CREATED:20210427T090842Z
LAST-MODIFIED:20211005T090035Z
UID:8554-1620154800-1620158400@zupnija.trnovo.info
SUMMARY:info FG: LADO JAKŠA - spletni koncert ob zaključku razstave SVETLOPISI
DESCRIPTION:Vabljeni na koncert člana društva Finžgarjeva galerija Lada Jakše ob zaključku razstave SVETLOPISI: Pred izložbenim oknom!\, ki je do 30. aprila na ogled v Kulturnem domu Franca Bernika v Domžalah. Koncert bo v torek\, 4. maja ob 19. uri V ŽIVO pred Galerijo Domžale in NA POVEZAVI: \n\n\n\n\n\n\n\n\n\n\n\n\n\n\n\n\n\nPred koncertom (V ŽIVO)\, bo od 18. ure dalje možen še zadnji ogled razstave.
URL:https://zupnija.trnovo.info/dogodek/info-lado-jaksa-pred-izlozbenim-oknom-koncert-ob-zakljucku-razstave-svetlopisi/
CATEGORIES:Izredni dogodki,Kultura in druženje
ATTACH;FMTTYPE=image/jpeg:https://zupnija.trnovo.info/wp-content/uploads/2021/05/Ladko-Jaksa-Pred-izlozbenim-oknom_koncert.jpg
END:VEVENT
BEGIN:VEVENT
DTSTART;TZID=Europe/Ljubljana:20210504T194500
DTEND;TZID=Europe/Ljubljana:20210504T210000
DTSTAMP:20260425T031155
CREATED:20210423T194805Z
LAST-MODIFIED:20210423T194806Z
UID:8457-1620157500-1620162000@zupnija.trnovo.info
SUMMARY:Sv. Florjan\, svet veroučne šole
DESCRIPTION:
URL:https://zupnija.trnovo.info/dogodek/sv-florjan-svet-veroucne-sole/
END:VEVENT
BEGIN:VEVENT
DTSTART;TZID=Europe/Ljubljana:20210504T203000
DTEND;TZID=Europe/Ljubljana:20210504T220000
DTSTAMP:20260425T031155
CREATED:20210428T204554Z
LAST-MODIFIED:20210513T203015Z
UID:8627-1620160200-1620165600@zupnija.trnovo.info
SUMMARY:info: 10+ HUDIH DILEM O MLADIH V CERKVI
DESCRIPTION:“Predrage in predragi. Spet imam čudovito vest. Nadaljujem s serijo pogovorov v živo in sicer tokrat debatiramo o mladih v Cerkvi. Pogovarjal se bom z Gašper M. Otrin\, ki je duhovnik\, salezijanec in najbrž nebodigatreba v dijaškem domu v Želimljah ter eno čudovito punco Neža Snoj\, ki bo tokrat glas mladih. Pogovarjali se bomo o sodobnih dilemah\, ki pestijo mlade katoličane\, o praznih Cerkvah\, o birmanskih dezerterjih\, o privlačnostih in neprivlačnostih znotraj cerkvenih zidov. Lepo povabljeni v torek 4.5. ob 20.30 na youtube z vprašanji\, mnenji… “Janez Zupan
URL:https://zupnija.trnovo.info/dogodek/info-10-hudih-dilem-mladih/
CATEGORIES:Izredni dogodki
ATTACH;FMTTYPE=image/jpeg:https://zupnija.trnovo.info/wp-content/uploads/2021/04/10-hudih-dilem-o-mladih-v-cerkvi.jpg
END:VEVENT
BEGIN:VEVENT
DTSTART;TZID=Europe/Ljubljana:20210506T194500
DTEND;TZID=Europe/Ljubljana:20210506T220000
DTSTAMP:20260425T031155
CREATED:20210423T195135Z
LAST-MODIFIED:20210513T203438Z
UID:8459-1620330300-1620338400@zupnija.trnovo.info
SUMMARY:FG: pogovorni večer - ODPOVEDANO
DESCRIPTION:
URL:https://zupnija.trnovo.info/dogodek/fg-pogovorni-vecer/
CATEGORIES:Finžgarjeva galerija,Kultura in druženje,ODPOVEDANO
END:VEVENT
BEGIN:VEVENT
DTSTART;TZID=Europe/Ljubljana:20210507T000000
DTEND;TZID=Europe/Ljubljana:20210507T235959
DTSTAMP:20260425T031155
CREATED:20210423T195213Z
LAST-MODIFIED:20210428T132240Z
UID:8461-1620345600-1620431999@zupnija.trnovo.info
SUMMARY:Prvi petek
DESCRIPTION:10 presenetljivih stvari\, ki se zgodijo ob redni adoraciji >>
URL:https://zupnija.trnovo.info/dogodek/prvi-petek-3/
ATTACH;FMTTYPE=image/jpeg:https://zupnija.trnovo.info/wp-content/uploads/2021/04/web3-monstrance-sunlight-gold-mari-tere.jpg
END:VEVENT
BEGIN:VEVENT
DTSTART;TZID=Europe/Ljubljana:20210508T000000
DTEND;TZID=Europe/Ljubljana:20210508T235959
DTSTAMP:20260425T031155
CREATED:20210423T195240Z
LAST-MODIFIED:20210423T195242Z
UID:8463-1620432000-1620518399@zupnija.trnovo.info
SUMMARY:Prva sobota
DESCRIPTION:
URL:https://zupnija.trnovo.info/dogodek/prva-sobota-2/
END:VEVENT
BEGIN:VEVENT
DTSTART;TZID=Europe/Ljubljana:20210508T083000
DTEND;TZID=Europe/Ljubljana:20210508T130000
DTSTAMP:20260425T031155
CREATED:20210505T200659Z
LAST-MODIFIED:20210506T065820Z
UID:8916-1620462600-1620478800@zupnija.trnovo.info
SUMMARY:Romanje k Cerkvi Marijinega vnebovzetja na Gori - VABLJENI
DESCRIPTION:V soboto\, 8. 5. vabljeni na romanje k Cerkvi Marijinega vnebovzetja na Gori. \n\n\n\nDobimo se ob 8.30 pred Trnovsko cerkvijo in se s svojimi avtomobili zapeljemo do izhodišča (Dolenčice v Poljanski dolini). Nato pa 1 h 5 min peš po lepi poti do vrha. \n\n\n\n\n\n\n\nhttp://zupnija-poljane.rkc.si/cerkev-marijinega-vnebovzetja-na-malenskem-vrhu/
URL:https://zupnija.trnovo.info/dogodek/romanje-k-cerkvi-marijinega-vnebovzetja-na-gori/
ATTACH;FMTTYPE=image/jpeg:https://zupnija.trnovo.info/wp-content/uploads/2021/05/Cerkev-Marijinega-vnebovzetja-na-Malenskem-vrhu.jpg
END:VEVENT
BEGIN:VEVENT
DTSTART;TZID=Europe/Ljubljana:20210509T000000
DTEND;TZID=Europe/Ljubljana:20210509T235959
DTSTAMP:20260425T031155
CREATED:20210423T195323Z
LAST-MODIFIED:20210423T205021Z
UID:8465-1620518400-1620604799@zupnija.trnovo.info
SUMMARY:6. velikonočna nedelja
DESCRIPTION:
URL:https://zupnija.trnovo.info/dogodek/6-velikonocna-nedelja/
END:VEVENT
BEGIN:VEVENT
DTSTART;TZID=Europe/Ljubljana:20210509T194500
DTEND;TZID=Europe/Ljubljana:20210509T220000
DTSTAMP:20260425T031155
CREATED:20210428T200605Z
LAST-MODIFIED:20210515T210015Z
UID:8613-1620589500-1620597600@zupnija.trnovo.info
SUMMARY:Agape v Trnovem - predstavitev knjige župnika Toneta Kompareta
DESCRIPTION:Agape v Trnovem in Društvo Finžgarjeva Galerija prijazno vabita na predstavitev knjige Toneta Kompareta KAKO SEM POSTAL ČUDAK\, ki bo 9. maja ob 19.45 uri\, pod paviljonom Agape.\n\n\n\n\n\n\n\nVsak človek je na svet poklican z določenim namenom. Kako to lahko odkrije in uresniči\, je skrivnost vsakega posameznika. Večino ljudi skozi življenje vodi tok\, kakor smeti v reki. Nekateri pa že zgodaj odkrijejo\, da je plavati proti toku zahtevnejše in počasnejše\, vendar je cilj jasen. Potrebno je vložiti več napora\, biti bolj pogumen in se ničesar ustrašiti. Sorazmerno temu je tudi osebno zadovoljstvo. Tako pot razumejo le tisti\, ki so odkrili svojo karizmo in ji sledijo. Naj branje moje knjige spodbudi k temu čim več ljudi! Tone Kompare\, avtor\n\n\n\n\n\n\n\n\n\n\nTa knjiga je veliko pričevanje. Kdorkoli jo bo bral\, bo imel lahko velike koristi. V njej je življenje\, tako kot je\, v njej je karizma duhovništva – edinstvena\, neponovljiva\, vsa darovana in ne-dolgovana. V njej je žrtev delavca v Gospodovem vinogradu. V njej je razumevanje\, nerazumevanje\, hvala in nasprotovanje. V njej je vse to\, kar pravi Marijin Sin: “Če so preganjali mene\, bodo preganjali tudi vas”. In dalje: “Ne bojte se\, jaz sem svet premagal!” dr. Stanislav Matičič\n\n\n\nOb vsem prebranem mi na misel prihaja le eno: “Kaj vse lahko Duhovnik ustanovi\, ustvari\, zgradi\, razvije\,.. če uporabi podarjene talente in predvsem sledi sebi in svoji odločitvi?” Zagotovo je vse skupaj podprto z molitvijo in delom sv. Duha. To knjigo bom predlagala vsem tistim\, (oz. kar posodila ) ki včasih pametujejo\, da bi morali biti duhovniki poročeni. Hvala g. Tone za pogum\, ki veje iz vaših besed in predvsem za življenjsko držo\, da ste vedno na prvo mesto postavljali ljubezen do ljudi in do Jezusa Kristusa. Romana Mirjam Urh\n\n\n\nTvojo knjigo berem in Ti moram čestitati. Najprej zaradi izredno domiselne sestave – res lucidna zamisel\, drugič pa zaradi berljivosti. Kakor si napovedal\, res knjige sinoči nisem mogel odložiti – bere se kot izredno zanimivo zgodbo o zanimivem “čudaku”. Jože Kurinčič\n\n\n\n\n\n\n\nKnjigo lahko dobite v župnijskem uradu ali pa jo naročite pri Ana Mariji na tel.: 030 375 974.
URL:https://zupnija.trnovo.info/dogodek/agape-v-trnovem-predstavitev-knjige-toneta-kompareta-kako-sem-postal-cudak/
CATEGORIES:Agape v Trnovem,Duhovnost in druženje,Finžgarjeva galerija
ATTACH;FMTTYPE=image/jpeg:https://zupnija.trnovo.info/wp-content/uploads/2021/04/KAKO-SEM-POSTAL-CUDAK_Kompare_predstavitev-knjige_FB_1.jpg
END:VEVENT
BEGIN:VEVENT
DTSTART;TZID=Europe/Ljubljana:20210513T000000
DTEND;TZID=Europe/Ljubljana:20210513T235959
DTSTAMP:20260425T031155
CREATED:20210423T195414Z
LAST-MODIFIED:20210513T160957Z
UID:8467-1620864000-1620950399@zupnija.trnovo.info
SUMMARY:Gospodov Vnebohod
DESCRIPTION:
URL:https://zupnija.trnovo.info/dogodek/gospodov-vnebohod/
ATTACH;FMTTYPE=image/jpeg:https://zupnija.trnovo.info/wp-content/uploads/2021/04/Vnebohod-e1620935823734.jpg
END:VEVENT
BEGIN:VEVENT
DTSTART;TZID=Europe/Ljubljana:20210514T190000
DTEND;TZID=Europe/Ljubljana:20210522T190000
DTSTAMP:20260425T031155
CREATED:20210423T195450Z
LAST-MODIFIED:20210514T200057Z
UID:8469-1621018800-1621710000@zupnija.trnovo.info
SUMMARY:Začetek binkoštne devetdnevnice
DESCRIPTION:Maša za birmance bo vsak dan ob 19 uri.
URL:https://zupnija.trnovo.info/dogodek/zacetek-binkostne-devetdnevnice/
ATTACH;FMTTYPE=image/jpeg:https://zupnija.trnovo.info/wp-content/uploads/2021/04/Binkostna-devetdnevnica_1.jpg
END:VEVENT
BEGIN:VEVENT
DTSTART;TZID=Europe/Ljubljana:20210515T200000
DTEND;TZID=Europe/Ljubljana:20210515T210000
DTSTAMP:20260425T031155
CREATED:20210514T171241Z
LAST-MODIFIED:20210514T180842Z
UID:9086-1621108800-1621112400@zupnija.trnovo.info
SUMMARY:info: Molitveni plesi na daljavo
DESCRIPTION:Dragi vsi\,V soboto\, 15. 5. 2021\, bomo spet imeli molitvene plese preko spleta.Malo pred 20. uro kliknite na spodnjo povezavo: https://arnes-si.zoom.us/j/94025659048?pwd=bmdMMFg1aWxobEMxNVFFRWgrM1Q5dz09Srečanje bo predvidoma potekalo eno uro.Vabljeni\, da zaplešete & molite s svojimi družinskimi člani!Upava\, da se vidimo.Mojca in Irena \n\n\n\n\n\n\n\nhttp://sskz.rkc.si/sskz/2020/04/22/molitveni-plesi/
URL:https://zupnija.trnovo.info/dogodek/info-molitveni-plesi-na-daljavo/
CATEGORIES:Duhovnost in druženje,Izredni dogodki
ATTACH;FMTTYPE=image/jpeg:https://zupnija.trnovo.info/wp-content/uploads/2021/05/Molitveni-plesi_IMG_6880-2048x1536-1-scaled-e1621015368483.jpg
END:VEVENT
END:VCALENDAR