BEGIN:VCALENDAR
VERSION:2.0
PRODID:-//Župnija Lj.-Trnovo - ECPv5.10.1//NONSGML v1.0//EN
CALSCALE:GREGORIAN
METHOD:PUBLISH
X-WR-CALNAME:Župnija Lj.-Trnovo
X-ORIGINAL-URL:https://zupnija.trnovo.info
X-WR-CALDESC:Events for Župnija Lj.-Trnovo
BEGIN:VTIMEZONE
TZID:Europe/Ljubljana
BEGIN:DAYLIGHT
TZOFFSETFROM:+0100
TZOFFSETTO:+0200
TZNAME:CEST
DTSTART:20230326T010000
END:DAYLIGHT
BEGIN:STANDARD
TZOFFSETFROM:+0200
TZOFFSETTO:+0100
TZNAME:CET
DTSTART:20231029T010000
END:STANDARD
BEGIN:DAYLIGHT
TZOFFSETFROM:+0100
TZOFFSETTO:+0200
TZNAME:CEST
DTSTART:20240331T010000
END:DAYLIGHT
BEGIN:STANDARD
TZOFFSETFROM:+0200
TZOFFSETTO:+0100
TZNAME:CET
DTSTART:20241027T010000
END:STANDARD
END:VTIMEZONE
BEGIN:VEVENT
DTSTART;TZID=Europe/Ljubljana:20240302T000000
DTEND;TZID=Europe/Ljubljana:20240303T235959
DTSTAMP:20260425T162305
CREATED:20240223T145657Z
LAST-MODIFIED:20240223T145659Z
UID:30412-1709337600-1709510399@zupnija.trnovo.info
SUMMARY:Duhovne vaje za prvo triado v Repnjah
DESCRIPTION:Zberemo se v soboto\, 2.3. ob 9.00 uri v  samostanu šolskih sester v Repnjah 27\, občina Vodice.
URL:https://zupnija.trnovo.info/dogodek/duhovne-vaje-za-prvo-triado-v-repnjah-2/
END:VEVENT
BEGIN:VEVENT
DTSTART;TZID=Europe/Ljubljana:20240226T190000
DTEND;TZID=Europe/Ljubljana:20240226T210000
DTSTAMP:20260425T162305
CREATED:20240223T145335Z
LAST-MODIFIED:20240223T145337Z
UID:30409-1708974000-1708981200@zupnija.trnovo.info
SUMMARY:Pogovor z odraslimi
DESCRIPTION:26. februarja ob 19.30 bosta Marjan Strnad in Marko Čož pripravila Pogovor z odraslimi.
URL:https://zupnija.trnovo.info/dogodek/pogovor-z-odraslimi-15/
CATEGORIES:Duhovnost in druženje,Kateheza za odrasle
END:VEVENT
BEGIN:VEVENT
DTSTART;TZID=Europe/Ljubljana:20240223T183000
DTEND;TZID=Europe/Ljubljana:20240223T190000
DTSTAMP:20260425T162305
CREATED:20240223T153644Z
LAST-MODIFIED:20240326T060835Z
UID:30421-1708713000-1708714800@zupnija.trnovo.info
SUMMARY:Križev pot
DESCRIPTION:V postnem času vsak petek v cerkvi ob 18.30 opravimo križev pot. To je bogata in čudovita postna vaja.
URL:https://zupnija.trnovo.info/dogodek/krizev-pot-5/2024-02-23/
ATTACH;FMTTYPE=image/jpeg:https://zupnija.trnovo.info/wp-content/uploads/2024/02/Krizev-pot-1.jpg
END:VEVENT
BEGIN:VEVENT
DTSTART;TZID=Europe/Ljubljana:20240219T000000
DTEND;TZID=Europe/Ljubljana:20240219T235959
DTSTAMP:20260425T162305
CREATED:20240129T073857Z
LAST-MODIFIED:20240129T073859Z
UID:30245-1708300800-1708387199@zupnija.trnovo.info
SUMMARY:Zimske počitnice
DESCRIPTION:
URL:https://zupnija.trnovo.info/dogodek/zimske-pocitnice/
END:VEVENT
BEGIN:VEVENT
DTSTART;TZID=Europe/Ljubljana:20240215T180000
DTEND;TZID=Europe/Ljubljana:20240215T210000
DTSTAMP:20260425T162305
CREATED:20240129T073734Z
LAST-MODIFIED:20240207T150135Z
UID:30233-1708020000-1708030800@zupnija.trnovo.info
SUMMARY:Otvoritev razstave Andreje Kranjec v Finžgarjevi galeriji
DESCRIPTION:15. februarja ob 18. uri bo v Finžgarjevi galeriji otvoritev razstave Andreje Kranjec. \n\n\n\nPesmi za mirno in radostno vodo \n\n\n\nVoda in mir. V času in prostoru\, v katerem se trenutno nahajamo\, sta to dve zelo pomembni temi\, ki zahtevata razmislek in spremembo. Slike so nastale kot odgovor na svetovno krizo\, kot meditacija za mir in radost\, ki ju človeštvo trenutno tako zelo potrebuje. \n\n\n\nČe poskrbimo zase in za svoj notranji svet\, se lahko odzovemo na stvari drugače. Če je misel predhodnica fizične stvari\, ali lahko sanjamo mir? Ali lahjko sanjamo čiste reke\, čista morja\, čisto pitno vodo? \n\n\n\nLikovna dela večjih formatov v akrilni tehniki simbolizirajo vodo\, vir življenja\, in z barvitimi vodnimi pokrajinami vabijo gledalca k temu\, da postoji pred sliko in opazuje barve in oblike\, ki se razkrivajo pred njim. Voda je skrivnostna živa snov\, ki pa sega onkraj zemlje. Velik del vode je namreč v vesolju\, nastaja kot stranski produkt nastajanja zvezd\, ki ga spremlja močan veter plina in prahu. Voda je bila odkrita tudi v medzvezdnih oblakih v naši galaksiji in je najbrž prisotna tudi v drugih galaksijah. Igrala sem se z mislijo\, kakšna je voda v vesolju in med zvezdami\, ki nato pade na zemljo in pristane v naših morjih\, rekah\, potokih? \n\n\n\nTudi sami smo sestavljeni iz več kot 70% vode. Voda je ključna snov za nadaljevanje življenja na Zemlji\, in na to včasih pozabimo. Kot lahko voda spreminja barvo\, obliko\, in prehaja iz enega stanja v drugega\, smo tudi sami sposobni premikov stanja in zavesti na bolj prisotne\, sočutne\, mirne ter ljubeče. Hkrati pa tudi bolj odločne in močne\, ko se gre za pravico in resnico\, in boj za čisti planet. \n\n\n\nSlike so povabilo na potop v pesmi vode. Naj vam bodo v navdih za sočutno sobivanje na tem planetu. \n\n\n\nAndreja Kranjec
URL:https://zupnija.trnovo.info/dogodek/otvoritev-razstave-andreje-kranjec-v-finzgarjevi-galeriji/
CATEGORIES:DFG,Finžgarjeva galerija,Kultura in druženje
ATTACH;FMTTYPE=image/jpeg:https://zupnija.trnovo.info/wp-content/uploads/2024/01/Kranjec-Andreja-Serenada-za-mirno-in-radostno-vodo-1-akril-na-platnu-100x70cm-scaled.jpeg
END:VEVENT
BEGIN:VEVENT
DTSTART;TZID=Europe/Ljubljana:20240214T000000
DTEND;TZID=Europe/Ljubljana:20240214T235959
DTSTAMP:20260425T162305
CREATED:20240129T072403Z
LAST-MODIFIED:20240129T073137Z
UID:30230-1707868800-1707955199@zupnija.trnovo.info
SUMMARY:PEPELNICA
DESCRIPTION:14. februarja bo Pepelnica – začetek štirideset dnevnega postnega časa. Na ta dan je strogi post. Vsak človek si bo izbral svoj način preživljanja te dobe odpovedovanja in premagovanja\, opravljanja dobrih del in obiska bogoslužij. V postnem času so vsi petki postni\, še najbolj pa Veliki petek\, dan Gospodove smrti. Vsak petek bo ob 18.30 križev pot.
URL:https://zupnija.trnovo.info/dogodek/pepelnica-3/
END:VEVENT
BEGIN:VEVENT
DTSTART;TZID=Europe/Ljubljana:20240212T200000
DTEND;TZID=Europe/Ljubljana:20240212T210000
DTSTAMP:20260425T162305
CREATED:20240210T184219Z
LAST-MODIFIED:20240210T184221Z
UID:30329-1707768000-1707771600@zupnija.trnovo.info
SUMMARY:Po Prešernovih stopinjah
DESCRIPTION:V ponedeljek\, 12. februarja 2024 ob 20.00 uri vabljeni na koncert v počastitev slovenskega kulturnega praznika z naslovom PO PREŠERNOVIH STOPINJAH\, ki ga organizirata Javni sklad za kulturne dejavnosti (JSKD) in Zveza kulturnih društev Ljubljana (ZKDL). Koncert bo v Trnovski cerkvi sv. Janeza Krstnika. 
URL:https://zupnija.trnovo.info/dogodek/po-presernovih-stopinjah/
CATEGORIES:DFG,Koncert,Kultura in druženje
ATTACH;FMTTYPE=image/jpeg:https://zupnija.trnovo.info/wp-content/uploads/2024/02/20240212_Po-Presernovih-stopinjah-scaled.jpg
END:VEVENT
BEGIN:VEVENT
DTSTART;TZID=Europe/Ljubljana:20240211T000000
DTEND;TZID=Europe/Ljubljana:20240211T235959
DTSTAMP:20260425T162305
CREATED:20240129T072305Z
LAST-MODIFIED:20240129T073036Z
UID:30227-1707609600-1707695999@zupnija.trnovo.info
SUMMARY:Svetovni dan bolnikov
DESCRIPTION:11. februarja se bomo spomnili Svetovnega dneva bolnikov. Primerno bo\, da za Lurško Mater Božjo starim in bolnim pokažemo\, kakšen zaklad so in kako drug drugega potrebujemo in se drug od drugega učimo živeti.
URL:https://zupnija.trnovo.info/dogodek/svetovni-dan-bolnikov/
END:VEVENT
BEGIN:VEVENT
DTSTART;TZID=Europe/Ljubljana:20240208T000000
DTEND;TZID=Europe/Ljubljana:20240208T235959
DTSTAMP:20260425T162305
CREATED:20240129T072157Z
LAST-MODIFIED:20240129T072919Z
UID:30224-1707350400-1707436799@zupnija.trnovo.info
SUMMARY:Slovenski kulturni dan
DESCRIPTION:8. februarja bomo praznovali Slovenski kulturni praznik in pripravili primerno obeležje tudi v cerkvi in v Župnijskem listu. \n\n\n\nIzobesimo zastave.
URL:https://zupnija.trnovo.info/dogodek/slovenski-kulturni-dan/
END:VEVENT
BEGIN:VEVENT
DTSTART;TZID=Europe/Ljubljana:20240205T190000
DTEND;TZID=Europe/Ljubljana:20240205T210000
DTSTAMP:20260425T162305
CREATED:20240128T220824Z
LAST-MODIFIED:20240129T072749Z
UID:30221-1707159600-1707166800@zupnija.trnovo.info
SUMMARY:Seja župnijskega pastoralnega sveta
DESCRIPTION:5. februarja ob 19.00 se bo sestal Župnijski pastoralni svet\, ki bo obravnaval potek vsebine pastoralnega leta\, ki je posvečen misijonski dejavnosti. Postni čas in velikonočni dnevi bodo ponovno zelo primerni za naše sporočilo someščanom in za medsebojno povezovanje in odprtost.
URL:https://zupnija.trnovo.info/dogodek/seja-zupnijskega-pastoralnega-sveta-3/
CATEGORIES:Seje župnijskih delovnih teles
END:VEVENT
BEGIN:VEVENT
DTSTART;TZID=Europe/Ljubljana:20240203T000000
DTEND;TZID=Europe/Ljubljana:20240203T235959
DTSTAMP:20260425T162305
CREATED:20240128T220726Z
LAST-MODIFIED:20240128T220728Z
UID:30218-1706918400-1707004799@zupnija.trnovo.info
SUMMARY:Duhovne vaje za drugo triado
DESCRIPTION:Duhovne vaje za drugo triado v Repnjah.
URL:https://zupnija.trnovo.info/dogodek/duhovne-vaje-za-drugo-triado/
END:VEVENT
BEGIN:VEVENT
DTSTART;TZID=Europe/Ljubljana:20240128T190000
DTEND;TZID=Europe/Ljubljana:20240128T203000
DTSTAMP:20260425T162305
CREATED:20240117T095614Z
LAST-MODIFIED:20240117T104146Z
UID:29878-1706468400-1706473800@zupnija.trnovo.info
SUMMARY:MAŠA S KLASIČNO GLASBO\, Pia Brodnik in Rebeka Dobravec
DESCRIPTION:Maša s klasično glasbo bo v nedeljo\, 28. januarja\, ob 19. uri v cerkvi sv. Janeza Krstnika. Nastopili bosta Pia Brodnik\, sopran in Rebeka Dobravec na klavirju.  \n\n\n\nPrisluhnili bomo skladbam na besedila svetniške kandidatke Cvetane Priol: \n\n\n\n\n\nU. Jašovec: KesanjeD. Novak: Z nami ostaniT. Bec: Kralj nebaU. Jašovec: Ljubo Božje DeteceD. Novak: Vladarju sveta \n\n\n\n\n\nT. Bec: UspavankaT. Bec: V pustinjahD. Novak: KrižaniT. Bec: Večer življenjaD. Novak: Večerna molitev \n\n\n\n\n\n \n\n\n\n\n\n\nSopranistka Pia Brodnik je pevsko in pedagoško znanje prejela v Kanadi in pri svetovno znanih mentorjih\, ga nadgrajevala na številnih koncertnih in opernih odrih doma in v tujini ter na svetovnih pevskih kongresih. V tridesetletni umetniški karieri je nastopila v mnogih opernih predstavah doma in v tujini in sodelovala s priznanimi tujimi in domačimi solisti\, dirigenti in orkestri. Za seboj ima na stotine recitalov in komornih koncertov. Posnela je tudi osem solističnih zgoščenk. Je redna profesorica petja na Akademiji za glasbo Univerze v Ljubljani in je vzgojila najmlajšo generacijo uspešnih slovenskih solistov. Napisala je nove učne načrte za univerzitetni študij petja po bolonjski reformi in bila recenzentka več domačih in tujih učnih načrtov. Piše strokovne članke o pevski pedagogiki in dikciji za domače in tuje publikacije\, vodi pevske seminarje in poletne šole\, je članica žirij pevskih tekmovanj doma in v tujini. Je tudi članica slovenskega\, evropskega in ameriškega združenja pevskih pedagogov. \n\n\n\nRebeka Dobravec študira klavir v razredu prof. Tatjane Ognjanovič na Akademijo za glasbo v Ljubljani. Pogosto nastopa kot solistka in kot članica različnih komornih skupin. Od leta 2019 z Nežo Nahtigal in Taro Korica igra v klavirskem Triu TRN\, s katerim dosegajo visoke rezultate na koncertnih in tekmovalnih odrih po celi Evropi (Slovenija\, Finska\, Bruselj\, Dunaj\, Italija…). Od leta 2021 sodeluje z bas-baritonistom Dimitrijem Savićem\, s katerim prav tako zmaguje na tekmovalnih odrih in koncertira. Poleg omenjenih stalnih zasedb redno spremlja še mnoge druge inštrumentaliste in pevce. Je tudi aktivna članica Komornega zbora KGBL\, s katerim se udeležuje turnej in tekmovanj po celem svetu. Zaradi svojih dosežkov je od leta 2018 štipendistka Mestne Občine Ljubljana.
URL:https://zupnija.trnovo.info/dogodek/masa-s-klasicno-glasbo-pia-brodnik-in-rebeka-dobravec-2/
CATEGORIES:DFG,Maša s klasično glasbo
ATTACH;FMTTYPE=image/jpeg:https://zupnija.trnovo.info/wp-content/uploads/2023/10/20231029_Rebeka-dobravec-in-Pia-Brodnik_prikazna-2.jpg
END:VEVENT
BEGIN:VEVENT
DTSTART;TZID=Europe/Ljubljana:20240119T200000
DTEND;TZID=Europe/Ljubljana:20240119T235900
DTSTAMP:20260425T162305
CREATED:20231227T105920Z
LAST-MODIFIED:20240104T055105Z
UID:29607-1705694400-1705708740@zupnija.trnovo.info
SUMMARY:VEČER ZA VAJU
DESCRIPTION:Večer za Vaju bo v petek\, 19. januarja ob 20.00 v Antonovem domu na Viču. Z nami bo družina Ceglar. Vabljeni zakonski pari in tisti\, ki ste zaročeni in se na poroko že lepo pripravljate. Večer bo za vse lepa spodbuda.
URL:https://zupnija.trnovo.info/dogodek/vecer-za-vaju-5/
CATEGORIES:Večer za Vaju
ATTACH;FMTTYPE=image/jpeg:https://zupnija.trnovo.info/wp-content/uploads/2023/12/Vecer-za-Vaju_vabilo-2024_fin_naslovna.jpg
END:VEVENT
BEGIN:VEVENT
DTSTART;TZID=Europe/Ljubljana:20240117T190000
DTEND;TZID=Europe/Ljubljana:20240117T210000
DTSTAMP:20260425T162305
CREATED:20231227T105700Z
LAST-MODIFIED:20231227T105702Z
UID:29604-1705518000-1705525200@zupnija.trnovo.info
SUMMARY:Seja Sveta Veroučne šole
DESCRIPTION:
URL:https://zupnija.trnovo.info/dogodek/seja-sveta-veroucne-sole-3/
END:VEVENT
BEGIN:VEVENT
DTSTART;TZID=Europe/Ljubljana:20240116T190000
DTEND;TZID=Europe/Ljubljana:20240116T210000
DTSTAMP:20260425T162305
CREATED:20231227T105604Z
LAST-MODIFIED:20231227T105606Z
UID:29601-1705431600-1705438800@zupnija.trnovo.info
SUMMARY:Priprava na krst
DESCRIPTION:
URL:https://zupnija.trnovo.info/dogodek/priprava-na-krst-12/
END:VEVENT
BEGIN:VEVENT
DTSTART;TZID=Europe/Ljubljana:20240114T000000
DTEND;TZID=Europe/Ljubljana:20240114T235959
DTSTAMP:20260425T162305
CREATED:20231227T105428Z
LAST-MODIFIED:20231227T105510Z
UID:29597-1705190400-1705276799@zupnija.trnovo.info
SUMMARY:Duhovne vaje za mladino in tretjo triado Veroučne šole
DESCRIPTION:Duhovne vaje na Zaplani za mladino in tretjo triado Veroučne šole.
URL:https://zupnija.trnovo.info/dogodek/duhovne-vaje-za-mladino-in-tretjo-triado-veroucne-sole/
CATEGORIES:Kateheza za otroke
END:VEVENT
BEGIN:VEVENT
DTSTART;TZID=Europe/Ljubljana:20240111T180000
DTEND;TZID=Europe/Ljubljana:20240111T210000
DTSTAMP:20260425T162305
CREATED:20231227T104746Z
LAST-MODIFIED:20240108T102126Z
UID:29594-1704996000-1705006800@zupnija.trnovo.info
SUMMARY:FOTOZGODBE NIKA GORŠIČA - otvoritev fotografske razstave
DESCRIPTION:Vabljeni v četrtek 11. 1. 2024 ob 18. uri v Finžgarjevo galerijo na otvoritev fotografske razstave igralca Nika Goršiča. \n\n\n\nNiko Goršič leta 1964 in 2023 \n\n\n\nFOTOZGODBE NIKA GORŠIČA \n\n\n\nNIKO GORŠIČ je igralec\, režiser\, performer\, pisec\, novinar\, urednik\, fotograf\, likovni in plesni kritik. Diplomiral je kot dramski igralec na ljubljanski Akademiji za gledališče\, radio\, film in televizijo (1962 – 1966)\, obiskoval pouk violine\, trobente in solopetja (1954 – 1969)\, likovni tečaj pri slikarju Bogadanu Borčiću (1958-60) in tečaj pantomime pri Andresu Valdesu (1965) ter bil študent na oddelku FF za umetnostno zgodovino (1971 -73). Bil je prvak v Slovenskem mladinskem gledališču (1970 – 2009)\, kjer je soustvarjal mednarodni fenomen tega gledališča. Ustanovil pa je tudi Globalni teater (1999) in Gledališče med zvezdami (2018).  Kot igralec in režiser (psevdonim Nick Upper) je nastopal v štiriintridesetih državah na okoli tristotih festivalih.  Je sinonim za alternativnega umetnika. V slovenkem prostoru deluje od samih začetkov modernega gledališča. V neoavantgardnem gibanju pa kot konceptualist in postkonceptualist in pozneje postmodernist  je ustvarjal umetniške akcije kot performer že od šestdesetih let naprej\, kot fotograf od leta 1964\, kot igralec od leta 1965\, kot pisec od leta 1974\, kot režiser od leta 1996. Prejel je sedemintrideset nagrad – desetino tudi mednarodnih. V zadnjih treh desetletjih kot igralec in režiser gradi kulturno paralelo od Slovenije do Bolgarije\, Slovaške\, Severne Makedonije\, Črne gore in Hrvaške. \n\n\n\nRazstava v ljubljanski Finžgarjevi galeriji (11.1. – 15.2.2024) predstavlja le delček Goršičevega fotografskega opusa. Koncentrira se na »filmske« konceptualne nize\, kateri segajo vse do leta 1964. Izbrane fotozgodbe in umetniške akcije so predstavljene v dokumentarnem načinu brez formalnih popravkov – kot je bilo to  značilno za takratne konceptualne začetke. Drugače je Niko Goršič objavljal fotografije v sobotnem Delu\, reviji Mladina in zagrebškem tedniku OKO. \n\n\n\nNaj spregovorijo spomini!
URL:https://zupnija.trnovo.info/dogodek/otvoritev-fotografske-razstave-igralca-nika-gorsica-v-fg/
CATEGORIES:DFG,Finžgarjeva galerija
ATTACH;FMTTYPE=image/jpeg:https://zupnija.trnovo.info/wp-content/uploads/2024/01/DSC_3630_naslovna.jpg
END:VEVENT
BEGIN:VEVENT
DTSTART;TZID=Europe/Ljubljana:20240107T190000
DTEND;TZID=Europe/Ljubljana:20240107T200000
DTSTAMP:20260425T162305
CREATED:20231227T104549Z
LAST-MODIFIED:20231227T104551Z
UID:29591-1704654000-1704657600@zupnija.trnovo.info
SUMMARY:Praznik Jezusovega krsta
DESCRIPTION:Praznik Jezusovega krsta – sklep božičnega časa.
URL:https://zupnija.trnovo.info/dogodek/praznik-jezusovega-krsta/
END:VEVENT
BEGIN:VEVENT
DTSTART;TZID=Europe/Ljubljana:20240106T000000
DTEND;TZID=Europe/Ljubljana:20240106T235959
DTSTAMP:20260425T162305
CREATED:20231227T104324Z
LAST-MODIFIED:20231227T104349Z
UID:29588-1704499200-1704585599@zupnija.trnovo.info
SUMMARY:Sveti trije kralji\, GOSPODOVO RAZGLAŠENJE
DESCRIPTION:Sveti trije kralji\, GOSPODOVO RAZGLAŠENJE\, maše ob 8.00 in ob 19.00.
URL:https://zupnija.trnovo.info/dogodek/sveti-trije-kralji-gospodovo-razglasenje/
END:VEVENT
BEGIN:VEVENT
DTSTART;TZID=Europe/Ljubljana:20240101T000000
DTEND;TZID=Europe/Ljubljana:20240101T235959
DTSTAMP:20260425T162305
CREATED:20231227T104146Z
LAST-MODIFIED:20231227T104436Z
UID:29585-1704067200-1704153599@zupnija.trnovo.info
SUMMARY:NOVO LETO\, praznik Božje Matere
DESCRIPTION:NOVO LETO\, praznik Božje Matere\, maše ob 8.00\, ob 10.00 in ob 19.00.
URL:https://zupnija.trnovo.info/dogodek/novo-leto-praznik-bozje-matere/
END:VEVENT
BEGIN:VEVENT
DTSTART;TZID=Europe/Ljubljana:20231231T190000
DTEND;TZID=Europe/Ljubljana:20231231T235900
DTSTAMP:20260425T162305
CREATED:20231203T194605Z
LAST-MODIFIED:20231203T194606Z
UID:29327-1704049200-1704067140@zupnija.trnovo.info
SUMMARY:Drugi Sveti večer
DESCRIPTION:Drugi Sveti večer bo v nedeljo\, 31. decembra. Ob 24. uri bo novoletna polnočnica. Praznujemo Novo leto\, praznik sv. Družine. Večerna maša bo spremljana s klasično glasbo. \n\n\n\nZa letošnje božično-novoletne praznike Vam želimo uspešno praznovanje Božjega učlovečenja in veselje\, da lahko za Jezusa naredimo nekaj lepega\, če ga priporočamo drug drugemu in ga sprejemamo z Njegovim sporočilom. Naj Vas misijonska misel in želja spremlja vse dni NOVEGA LETA 2024!   
URL:https://zupnija.trnovo.info/dogodek/drugi-sveti-vecer/
END:VEVENT
BEGIN:VEVENT
DTSTART;TZID=Europe/Ljubljana:20231228T080000
DTEND;TZID=Europe/Ljubljana:20240101T170000
DTSTAMP:20260425T162305
CREATED:20231203T194445Z
LAST-MODIFIED:20231203T194446Z
UID:29324-1703750400-1704128400@zupnija.trnovo.info
SUMMARY:Taizejsko srečanje mladih
DESCRIPTION:Od 28. decembra do 1. januarja bo v Ljubljani Taizejsko srečanje mladih iz vse Evrope. Tudi naša župnija bo odprta za sprejem mladih. Pripravili bomo poseben program molitve v cerkvi\, sprejeli bomo mlade na svoje domove in pokazali\, kako gostoljubni smo in veseli\, da naredimo nekaj lepega za Božje kraljestvo.
URL:https://zupnija.trnovo.info/dogodek/taizejsko-srecanje-mladih/
END:VEVENT
BEGIN:VEVENT
DTSTART;TZID=Europe/Ljubljana:20231227T170000
DTEND;TZID=Europe/Ljubljana:20231227T180000
DTSTAMP:20260425T162305
CREATED:20231224T113619Z
LAST-MODIFIED:20231224T113951Z
UID:29533-1703696400-1703700000@zupnija.trnovo.info
SUMMARY:KRAJI MOČI: zaključni dan razstave ukrajinskih umetnikov UARTIST
DESCRIPTION:Vabljeni 27. decembra na zaključni dan razstave ukrajinskih umetnikov in umetnic skupnosti UARTIST.Izkoristite priložnost in si oglejte slike\, ki pripovedujejo o krajih moči neverjetne države Ukrajine.Na razstavi boste lahko kupili umetniška dela\, ki vam bodo všeč. Tako boste v svoj dom vnesli delček upora in lepote. Lahko pa jih nekomu podarite. \nRazstava traja: 5.-27.12.2023Odpiralni čas galeriji: https://uartist83.com/exhibition-finzgarjeva/➭ naslov: Kolezijska ulica\, 1\, Ljubljana. \nRožnata jezera\, visoke gore\, stoletni hrasti\, neskončna polja\, slapovi\, različna mestna pročelja\, prijetne kavarne in domača dvorišča. To so kraji moči\, za katere se Ukrajinci borijo vsak dan. So naši viri okrevanja in odgovor na vprašanje\, Zakaj?.Na razstavi slikarskih grafik\, kolažev in fotografij 27 ukrajinskih umetnikov in umetnic boste spoznali fantastične in mogočne kotičke neverjetne države. Čakajo vas razgledi in zanimivosti\, ki vam bodo pustili pečat na srcu. Vabimo vas na potovanje\, da vse to vidite na lastne oči. \nZ nakupom boste podprli delovanje skupnosti ukrajinskih umetnikov in umetnic. \nRazstavo organizira UARTIST s podporo Finžgarjeve galerije. \nKuratorka: Anna Miklashevich \nUmetnice in umetniki:Viktoriia Berezina\, Galla Berezovska\, Iryna Bondar\, Delnara El\, Eugenie Eremeichuk\, Daria Habich\, Julia Kalinceva\, Maryna Karapetian\, Bozhena Kushnir\, Alina Lobanova\, Olha Matviienko\, Olena Nahorniuk\, Kateryna Nazarenko\, Natalka Nechay\, Halyna Nechyporuk\, Marianna Nerozna\, Olena Oleksiienko\, Oleksandra Oliinyk\, Liudmyla Popova\, Valeriia Prasol\, Bogdan Shiptenko\, Iuliia Shulga\, StellarSun\, Iryna Tatarenko\, Yuliia Ustymenko\, Rymma Vinogradova\, Nataliia Zasornova. \nNa naslovnici: kolaž “Homesick”\, Iuliia Shulga.
URL:https://zupnija.trnovo.info/dogodek/kraji-moci-zakljucni-dan-razstave-ukrajinskih-umetnikov-uartist/
CATEGORIES:DFG,Finžgarjeva galerija,Kultura in druženje
ATTACH;FMTTYPE=image/jpeg:https://zupnija.trnovo.info/wp-content/uploads/2023/12/Iuliia-Shulga_predstavna.jpg
END:VEVENT
BEGIN:VEVENT
DTSTART;TZID=Europe/Ljubljana:20231226T000000
DTEND;TZID=Europe/Ljubljana:20231226T235959
DTSTAMP:20260425T162305
CREATED:20231203T194300Z
LAST-MODIFIED:20231203T194904Z
UID:29320-1703548800-1703635199@zupnija.trnovo.info
SUMMARY:Sv. Štefan in Dan samostojnosti
DESCRIPTION:V torek\, 26. decembra\, goduje diakon sv. Štefan\, ta dan je tudi Dan samostojnosti\, na katero smo zelo ponosni. Maši ob 8.00 in ob 19.00.
URL:https://zupnija.trnovo.info/dogodek/sv-stefan-in-dan-samostojnosti/
CATEGORIES:Praznik
END:VEVENT
BEGIN:VEVENT
DTSTART;TZID=Europe/Ljubljana:20231225T000000
DTEND;TZID=Europe/Ljubljana:20231225T235959
DTSTAMP:20260425T162305
CREATED:20231203T193952Z
LAST-MODIFIED:20231203T194127Z
UID:29317-1703462400-1703548799@zupnija.trnovo.info
SUMMARY:BOŽIČ\, praznik Jezusovega rojstva
DESCRIPTION:V ponedeljek\, 25. decembra\, bo praznik Jezusovega rojstva – Božič. Maše bodo ob 8. uri\, ob 10. uri in ob 19. uri. V Domu Janeza Krstnika bo božična maša ob 15. uri. V tem tednu bodo božično-novoletne počitnice.
URL:https://zupnija.trnovo.info/dogodek/bozic-praznik-jezusovega-rojstva/
CATEGORIES:Praznik
END:VEVENT
BEGIN:VEVENT
DTSTART;TZID=Europe/Ljubljana:20231224T190000
DTEND;TZID=Europe/Ljubljana:20231224T235900
DTSTAMP:20260425T162305
CREATED:20231203T193857Z
LAST-MODIFIED:20231224T112419Z
UID:29314-1703444400-1703462340@zupnija.trnovo.info
SUMMARY:SVETI VEČER
DESCRIPTION:V nedeljo\, 24. decembra\, bo Sveti večer. Ob mraku se bo zbrala družina in blagoslovila stanovanje\, hišo in druge prostore\, ob 19. uri bo prva božična maša z božičnim programom\, po maši bo večerja za osamljene in brezdomce\, polnočnica bo imela od 23.30 poseben božični program\, ki mu bo sledila slovesna polnočnica. Ne pozabimo izobesiti slovenske zastave.
URL:https://zupnija.trnovo.info/dogodek/sveti-vecer-2/
CATEGORIES:Praznik
ATTACH;FMTTYPE=image/jpeg:https://zupnija.trnovo.info/wp-content/uploads/2022/12/20221225_111321-scaled.jpg
END:VEVENT
BEGIN:VEVENT
DTSTART;TZID=Europe/Ljubljana:20231220T190000
DTEND;TZID=Europe/Ljubljana:20231220T200000
DTSTAMP:20260425T162305
CREATED:20231203T193717Z
LAST-MODIFIED:20231203T193719Z
UID:29311-1703098800-1703102400@zupnija.trnovo.info
SUMMARY:Spokorno bogoslužje in spovedovanje pred Božičem
DESCRIPTION:V sredo\, 20. decembra\, ob 19. uri bo med večerno mašo spokorno bogoslužje\, priprava na sveto spoved\, sledilo bo spovedovanje. Tudi ta dogodek je bistvo božičnega praznika. Naj bomo gostoljubni do Jezusa in ga sprejmemo v svojo »hišo«\, da bo lahko pri nas prenočil in bo ostal dobrodošel.
URL:https://zupnija.trnovo.info/dogodek/spokorno-bogosluzje-in-spovedovanje-pred-bozicem/
END:VEVENT
BEGIN:VEVENT
DTSTART;TZID=Europe/Ljubljana:20231215T190000
DTEND;TZID=Europe/Ljubljana:20231215T200000
DTSTAMP:20260425T162305
CREATED:20231203T193233Z
LAST-MODIFIED:20231203T193602Z
UID:29304-1702666800-1702670400@zupnija.trnovo.info
SUMMARY:Začetek božične devetdnevnice
DESCRIPTION:V petek\, 15. decembra\, se bo začela božična devetdnevnica. Za doživljanje božičnih skrivnosti je ta priprava zelo dobrodošla\, posebej letos v letu\, ki je posvečeno misijonski dejavnosti. Pričakujemo največjega misijonarja na svetu.Maše bodo vsak dan ob 19.00 uri.
URL:https://zupnija.trnovo.info/dogodek/zacetek-bozicne-devetdnevnice/
END:VEVENT
BEGIN:VEVENT
DTSTART;TZID=Europe/Ljubljana:20231212T190000
DTEND;TZID=Europe/Ljubljana:20231212T210000
DTSTAMP:20260425T162305
CREATED:20231203T193054Z
LAST-MODIFIED:20231203T194804Z
UID:29301-1702407600-1702414800@zupnija.trnovo.info
SUMMARY:Priprava na krst
DESCRIPTION:
URL:https://zupnija.trnovo.info/dogodek/priprava-na-krst-11/
END:VEVENT
BEGIN:VEVENT
DTSTART;TZID=Europe/Ljubljana:20231208T000000
DTEND;TZID=Europe/Ljubljana:20231208T235959
DTSTAMP:20260425T162305
CREATED:20231203T193008Z
LAST-MODIFIED:20231203T193443Z
UID:29298-1701993600-1702079999@zupnija.trnovo.info
SUMMARY:Praznik Marijinega brezmadežnega spočetja
DESCRIPTION:8. decembra bomo obhajali praznik Marijinega brezmadežnega spočetja. Nanj smo se pripravljali z devetdnevnico. Praznik in priprava nanj je zelo potrebna za današnji čas zmedenosti s teorijami spola.Maši ob 8.00 in ob 19.00.
URL:https://zupnija.trnovo.info/dogodek/praznik-marijinega-brezmadeznega-spocetja/
CATEGORIES:Praznik
END:VEVENT
END:VCALENDAR