BEGIN:VCALENDAR
VERSION:2.0
PRODID:-//Župnija Lj.-Trnovo - ECPv5.10.1//NONSGML v1.0//EN
CALSCALE:GREGORIAN
METHOD:PUBLISH
X-WR-CALNAME:Župnija Lj.-Trnovo
X-ORIGINAL-URL:https://zupnija.trnovo.info
X-WR-CALDESC:Events for Župnija Lj.-Trnovo
BEGIN:VTIMEZONE
TZID:Europe/Ljubljana
BEGIN:DAYLIGHT
TZOFFSETFROM:+0100
TZOFFSETTO:+0200
TZNAME:CEST
DTSTART:20210328T010000
END:DAYLIGHT
BEGIN:STANDARD
TZOFFSETFROM:+0200
TZOFFSETTO:+0100
TZNAME:CET
DTSTART:20211031T010000
END:STANDARD
BEGIN:DAYLIGHT
TZOFFSETFROM:+0100
TZOFFSETTO:+0200
TZNAME:CEST
DTSTART:20220327T010000
END:DAYLIGHT
BEGIN:STANDARD
TZOFFSETFROM:+0200
TZOFFSETTO:+0100
TZNAME:CET
DTSTART:20221030T010000
END:STANDARD
END:VTIMEZONE
BEGIN:VEVENT
DTSTART;TZID=Europe/Ljubljana:20211107T100000
DTEND;TZID=Europe/Ljubljana:20211107T120000
DTSTAMP:20260425T141910
CREATED:20211002T190307Z
LAST-MODIFIED:20211105T070248Z
UID:13754-1636279200-1636286400@zupnija.trnovo.info
SUMMARY:Praznovanje obletnic porok - Zahvalna nedelja
DESCRIPTION:Zakonci se boste zahvalili Bogu za milost zakramenta in zakonskemu partnerju za podaritev ter obljubo. Odločili ste se\, da boste ob svojem možu in ob svoji ženi umirali samim sebi\, pozabljali nase in storili vse\, da bi vsak dan čim bolj vrednotili svojega dragega\, svojo drago. Tudi če ste v tem oziru kaj zamudili (to je človeško)\, je za to vsak dan še mnogo priložnosti. Samo odločiti se je potrebno. Le dozoreti morate za razumevanje svojega poslanstva. Po zahvalni maši se bomo v paviljonu Agape srečali še v dobrohotnem praznovanju.
URL:https://zupnija.trnovo.info/dogodek/zahvalna-nedelja-2/
CATEGORIES:IZPOSTAVLJENO
ATTACH;FMTTYPE=image/jpeg:https://zupnija.trnovo.info/wp-content/uploads/2021/10/Sveti_zakon.jpg
END:VEVENT
BEGIN:VEVENT
DTSTART;TZID=Europe/Ljubljana:20211108T190000
DTEND;TZID=Europe/Ljubljana:20211108T210000
DTSTAMP:20260425T141910
CREATED:20211030T181917Z
LAST-MODIFIED:20211030T182030Z
UID:14674-1636398000-1636405200@zupnija.trnovo.info
SUMMARY:Srečanje članov ŽPS
DESCRIPTION:Večerno bogoslužje in po njem srečanje članov komisij ŽPS.
URL:https://zupnija.trnovo.info/dogodek/srecanje-clanov-zps/
CATEGORIES:Seje župnijskih delovnih teles
END:VEVENT
BEGIN:VEVENT
DTSTART;TZID=Europe/Ljubljana:20211113T083000
DTEND;TZID=Europe/Ljubljana:20211113T130000
DTSTAMP:20260425T141910
CREATED:20211107T234433Z
LAST-MODIFIED:20211108T065111Z
UID:14840-1636792200-1636808400@zupnija.trnovo.info
SUMMARY:Romanje na sv. Lovrenc
DESCRIPTION:V soboto\, 13. novembra bomo romali na Sv. Lovrenca\, ki je najvišji vrh kraškega hribovja\, 1019 m. Zbor je ob 8.30 pred našo župnijsko cerkvijo.Pot od izhodišča v vasi Studeno\, je dolga 1 uro in 5 minut.Prisrčno vabljeni.
URL:https://zupnija.trnovo.info/dogodek/romanje-na-sv-lovrenc/
CATEGORIES:Romanja po cerkvah na okoliških gričih
ATTACH;FMTTYPE=image/jpeg:https://zupnija.trnovo.info/wp-content/uploads/2021/11/sv.Lovrenc.jpg
END:VEVENT
BEGIN:VEVENT
DTSTART;TZID=Europe/Ljubljana:20211113T200000
DTEND;TZID=Europe/Ljubljana:20211113T210000
DTSTAMP:20260425T141910
CREATED:20211026T085425Z
LAST-MODIFIED:20211108T152056Z
UID:14425-1636833600-1636837200@zupnija.trnovo.info
SUMMARY:Inavguracijski orgelski koncert RENATE BAUER
DESCRIPTION:V soboto\, 13. novembra ob 20.00\, bo v trnovski cerkvi inavguracijski orgelski koncert Renate Bauer ob imenovanju v naziv redna profesorica Akademije za glasbo. Program:Petr Eben (1929–2007)Koralna fantazija O Bože velikýOlivier Messiaen (1908–1992)Poveličana telesaIV. Boj med smrtjo in življenjemNicolas de Grigny (1672–1703)– Veni Creator Spiritus en taille à 5– Recit de Cromorne– Dialogue sur les grands JeuxJohann Sebastian Bach (1685–1750)Preludij in fuga v c-molu\, BWV 546Andrej Misson (1960)Variacije na pesem »V nebesih sem doma«Hubert Parry (1848–1918)Tokata in fuga na »The Wanderer«Prijazno vabljeni.OPOZORILO: Prosimo\, da glede COVID-19 upoštevate navodila NIJZ. Organizator lahko dogodek snema in javno objavi.
URL:https://zupnija.trnovo.info/dogodek/invaguracijski-orgelski-koncert-renate-bauer/
CATEGORIES:Finžgarjeva galerija,IZPOSTAVLJENO
ATTACH;FMTTYPE=image/jpeg:https://zupnija.trnovo.info/wp-content/uploads/2021/10/Inavguracijski-orgelski-koncert-Renate-Bauer_VABILO.jpg
END:VEVENT
BEGIN:VEVENT
DTSTART;TZID=Europe/Ljubljana:20211114T200000
DTEND;TZID=Europe/Ljubljana:20211114T220000
DTSTAMP:20260425T141910
CREATED:20211026T084717Z
LAST-MODIFIED:20211210T122542Z
UID:14422-1636920000-1636927200@zupnija.trnovo.info
SUMMARY:Agape v Trnovem: Predstavitev knjige BOŽJA LJUBEZEN ODPUŠČA IN OZDRAVLJA teologa Boštjana Harija
DESCRIPTION:V nedeljo\,14.11.2021\, ob 20.00 uri bo teolog Boštjan Hari predstavil svojo novo knjigo BOŽJA LJUBEZEN ODPUŠČA IN OZDRAVLJA. Pogovor bo vodila Mateja Žvipelj\, glasbene točke bo prispeval kitarski orkester MF. Pogovor bo v cerkvi\, vljudno vabljeni.OPOZORILO: Prosimo\, da glede COVID-19 upoštevate navodila NIJZ. Organizator lahko dogodek snema in javno objavi.
URL:https://zupnija.trnovo.info/dogodek/agape-v-trnovem-predstavitev-knjige-bozja-ljubezen-odpusca-in-ozdravlja-teologa-bostjana-harija/
CATEGORIES:Agape v Trnovem,Duhovnost in druženje,IZPOSTAVLJENO
ATTACH;FMTTYPE=image/jpeg:https://zupnija.trnovo.info/wp-content/uploads/2021/10/BOZJA-LJUBEZEN-ODPUSCA-IN-OZDRAVLJA-Bostjan-Hari_VABILO.jpg
END:VEVENT
BEGIN:VEVENT
DTSTART;TZID=Europe/Ljubljana:20211116T190000
DTEND;TZID=Europe/Ljubljana:20211116T210000
DTSTAMP:20260425T141910
CREATED:20211030T182142Z
LAST-MODIFIED:20211030T182737Z
UID:14681-1637089200-1637096400@zupnija.trnovo.info
SUMMARY:Priprava na krst
DESCRIPTION:Kako bi bilo na tem svetu\, če bi vsi starši\, vsi zakonci v trnovski župniji čutili potrebo\, da bi svoje otroke izročili Bogu\, naj jih posveti in obogati\, saj so najprej njegovi otroci. Staršem jih je zaupal le za kratek čas vzgoje za samostojnost. Naj starši tega nikdar ne pozabijo\, da njihovi otroci niso njihovi otroci.
URL:https://zupnija.trnovo.info/dogodek/kriprava-na-krst/
END:VEVENT
BEGIN:VEVENT
DTSTART;TZID=Europe/Ljubljana:20211121T080000
DTEND;TZID=Europe/Ljubljana:20211121T170000
DTSTAMP:20260425T141910
CREATED:20211030T182248Z
LAST-MODIFIED:20211030T183517Z
UID:14684-1637481600-1637514000@zupnija.trnovo.info
SUMMARY:Praznik Kristusa Kralja vesoljstva
DESCRIPTION:Dobrodelna prodaja adventnih venčkov. Podobno bo tudi v soboto pred Nedeljo Karitas in na prvo adventno nedeljo.
URL:https://zupnija.trnovo.info/dogodek/praznik-kristusa-kralja-vesoljstva-2/
ATTACH;FMTTYPE=image/jpeg:https://zupnija.trnovo.info/wp-content/uploads/2020/11/f14a7ee14d7922d29dc5.jpeg
END:VEVENT
BEGIN:VEVENT
DTSTART;TZID=Europe/Ljubljana:20211126T190000
DTEND;TZID=Europe/Ljubljana:20211126T210000
DTSTAMP:20260425T141910
CREATED:20211030T182333Z
LAST-MODIFIED:20211030T182335Z
UID:14687-1637953200-1637960400@zupnija.trnovo.info
SUMMARY:Seja ŽGS
DESCRIPTION:
URL:https://zupnija.trnovo.info/dogodek/seja-zgs-5/
END:VEVENT
BEGIN:VEVENT
DTSTART;TZID=Europe/Ljubljana:20211127T110000
DTEND;TZID=Europe/Ljubljana:20211128T200000
DTSTAMP:20260425T141910
CREATED:20211126T132213Z
LAST-MODIFIED:20211127T172609Z
UID:15340-1638010800-1638129600@zupnija.trnovo.info
SUMMARY:PRODAJA ADVENTNIH VENČKOV - KARITAS
DESCRIPTION:Adventni venčki so pripravljeni!V soboto med 11.00 – 13.00 uro jih lahko kupite pred Trnovsko cerkvijo. Venčke bomo prodajali tudi v nedeljo pred in po nedeljskih mašah. Karitas
URL:https://zupnija.trnovo.info/dogodek/prodaja-adventnih-venckov-karitas/
ATTACH;FMTTYPE=image/jpeg:https://zupnija.trnovo.info/wp-content/uploads/2021/11/IMG20211126122531-scaled.jpg
END:VEVENT
BEGIN:VEVENT
DTSTART;TZID=Europe/Ljubljana:20211128T000000
DTEND;TZID=Europe/Ljubljana:20211128T235959
DTSTAMP:20260425T141910
CREATED:20211030T182415Z
LAST-MODIFIED:20211030T182417Z
UID:14690-1638057600-1638143999@zupnija.trnovo.info
SUMMARY:Prva adventna nedelja
DESCRIPTION:
URL:https://zupnija.trnovo.info/dogodek/prva-adventna-nedelja/
END:VEVENT
BEGIN:VEVENT
DTSTART;TZID=Europe/Ljubljana:20211129T190000
DTEND;TZID=Europe/Ljubljana:20211129T210000
DTSTAMP:20260425T141910
CREATED:20211120T010023Z
LAST-MODIFIED:20211120T010227Z
UID:15133-1638212400-1638219600@zupnija.trnovo.info
SUMMARY:Pogovor z odraslimi
DESCRIPTION:Vabljeni k sveti maši\, ki ji sledi Pogovor z odraslimi. Ta je namenjen vsem odraslim\, ki želite poglobiti svojo versko izkušnjo\, posebej starši otrok Veroučne šole.
URL:https://zupnija.trnovo.info/dogodek/pogovor-z-odraslimi-5/
END:VEVENT
BEGIN:VEVENT
DTSTART;TZID=Europe/Ljubljana:20211201T190000
DTEND;TZID=Europe/Ljubljana:20211201T210000
DTSTAMP:20260425T141910
CREATED:20211030T182539Z
LAST-MODIFIED:20211030T182541Z
UID:14693-1638385200-1638392400@zupnija.trnovo.info
SUMMARY:Sestanek Sveta Veroučne šole
DESCRIPTION:Začeli ga bomo s sveto mašo.
URL:https://zupnija.trnovo.info/dogodek/sestanek-sveta-veroucne-sole/
END:VEVENT
BEGIN:VEVENT
DTSTART;TZID=Europe/Ljubljana:20211203T190000
DTEND;TZID=Europe/Ljubljana:20211203T220000
DTSTAMP:20260425T141910
CREATED:20211202T115219Z
LAST-MODIFIED:20211202T115712Z
UID:15503-1638558000-1638568800@zupnija.trnovo.info
SUMMARY:MOŽJE V CERKVI – vsi možje vabljeni na tretje srečanje
DESCRIPTION:Dragi možje\,Dragi moški\, Bog nas je nagovoril\, da smo pred dobrim tednom začeli on line seminar o osvoboditvi z našim braom iz ZDA Johnom Kazanjianom. Spodaj je link. Prvo predavanje je bilo na temo: ROJENI SMO V BITKO – to bi moral resno razumeti vsak krščanski moški. Veliko težav bi imeli manj. John nas bo obiskal v živo na naši moški skupini decembra\, 3. 12. 2021. Dobimo se v sejni sobi. \n\n\n\n\nMednarodni seminar za osvoboditev / International Deliverance Seminar – Slovenija 2021\n\n\n\n\nVabim vas\, da se prijavite na seminar\, tako vas bomo redno obveščali\, lahko pa si ogledate tudi posnetke.Včerajšnja tema je bila ODPUŠČANJE:https://www.youtube.com/watch?v=wYH71l16KykBog vas blagoslovi.Matej Križanič
URL:https://zupnija.trnovo.info/dogodek/mozje-v-cerkvi-2/
CATEGORIES:Duhovnost in druženje,Kateheza za odrasle
END:VEVENT
BEGIN:VEVENT
DTSTART;TZID=Europe/Ljubljana:20211205T100000
DTEND;TZID=Europe/Ljubljana:20211205T120000
DTSTAMP:20260425T141910
CREATED:20211030T182642Z
LAST-MODIFIED:20211030T182646Z
UID:14696-1638698400-1638705600@zupnija.trnovo.info
SUMMARY:2. adventna nedelja - obisk Miklavža
DESCRIPTION:
URL:https://zupnija.trnovo.info/dogodek/2-adventna-nedelja-obisk-miklavza/
END:VEVENT
BEGIN:VEVENT
DTSTART;TZID=Europe/Ljubljana:20211208T000000
DTEND;TZID=Europe/Ljubljana:20211208T235959
DTSTAMP:20260425T141910
CREATED:20211203T120821Z
LAST-MODIFIED:20211203T120823Z
UID:15544-1638921600-1639007999@zupnija.trnovo.info
SUMMARY:praznik Marije Brezmadežne
DESCRIPTION:V sredo\, 8. decembra bo praznik Marije Brezmadežne. Maše ob 8. in ob 19. uri.
URL:https://zupnija.trnovo.info/dogodek/praznik-marije-brezmadezne/
CATEGORIES:Nedelje in prazniki
END:VEVENT
BEGIN:VEVENT
DTSTART;TZID=Europe/Ljubljana:20211211T083000
DTEND;TZID=Europe/Ljubljana:20211211T123000
DTSTAMP:20260425T141910
CREATED:20211208T074205Z
LAST-MODIFIED:20211208T074344Z
UID:15724-1639211400-1639225800@zupnija.trnovo.info
SUMMARY:Romanje k sv. Miklavžu na Goropečah
DESCRIPTION:Če vam Miklavž ni prinesel darila\, ga pojdite iskat z nami.Družine z otroki bomo namreč romale k sv. Miklavžu na Goropečah.Pot je lahka\, najprej se vzpnemo 100 m na Križentaver\, potem se malo spustimo in hodimo veliko po ravnem in na koncu spet malo klanca do 401 m nad morjem.Dobimo se v soboto\, 11. 12. ob 8.30 pred našo župnijsko cerkvijo.Dobrodošli.Marina
URL:https://zupnija.trnovo.info/dogodek/romanje-k-sv-miklavzu-na-goropecah/
CATEGORIES:Romanja po cerkvah na okoliških gričih
ATTACH;FMTTYPE=image/jpeg:https://zupnija.trnovo.info/wp-content/uploads/2021/12/Sv.-Miklavz-na-Goropecah_2.jpg
END:VEVENT
BEGIN:VEVENT
DTSTART;TZID=Europe/Ljubljana:20211213T190000
DTEND;TZID=Europe/Ljubljana:20211213T210000
DTSTAMP:20260425T141910
CREATED:20211203T120941Z
LAST-MODIFIED:20211203T120942Z
UID:15547-1639422000-1639429200@zupnija.trnovo.info
SUMMARY:Seja ŽPS
DESCRIPTION:Seja Župnijskega pastoralnega sveta bo v ponedeljek\, 13. decembra. Začeli bomo z mašo ob 19. uri. Lepo je bilo videti člane ŽPS že prejšnji mesec pri maši. Tako kličete blagoslov na delo ŽPS.
URL:https://zupnija.trnovo.info/dogodek/seja-zps-5/
CATEGORIES:Seje župnijskih delovnih teles
END:VEVENT
BEGIN:VEVENT
DTSTART;TZID=Europe/Ljubljana:20211217T190000
DTEND;TZID=Europe/Ljubljana:20211225T190000
DTSTAMP:20260425T141910
CREATED:20211203T121301Z
LAST-MODIFIED:20211203T123154Z
UID:15550-1639767600-1640458800@zupnija.trnovo.info
SUMMARY:Božična devetdnevnica
DESCRIPTION:Božična devetdnevnica se bo začela 17. decembra. Združena bo z večerno mašo. Družine z otroki zelo lepo vabljene. Prav tako vsi\, ki bi radi Božič globoko doživeli. Kralja\, ki prihaja\, pridite\, molimo!
URL:https://zupnija.trnovo.info/dogodek/bozicna-devetdnevnica/
END:VEVENT
BEGIN:VEVENT
DTSTART;TZID=Europe/Ljubljana:20211222T190000
DTEND;TZID=Europe/Ljubljana:20211222T200000
DTSTAMP:20260425T141910
CREATED:20211203T121611Z
LAST-MODIFIED:20211218T110346Z
UID:15561-1640199600-1640203200@zupnija.trnovo.info
SUMMARY:Spokorno bogoslužje
DESCRIPTION:Spokorno bogoslužje pred Božičem bo 22. decembra ob 19. uri združeno z mašo. V prvem delu bo priprava na spoved\, nato bodo na voljo za spoved trije spovedniki. \n\n\n\nDel priprave v času božične devetdnevnice je skupno spokorno bogoslužje in priznanje grehov pred Gospodom. Vsak naš oseben greh povzroči\, da nekaj umre v nas in v naših medsebojnih odnosih\, zato ima skupno spokorno bogoslužje velik pomen. Osebno in kot občestvo se očiščujemo in drug drugega posvečujemo. Tako to bogoslužje ni le za tiste\, ki želijo na to opraviti tudi zakrament spovedi\, ampak za vse\, ki želimo povabiti Gospoda v svojo sredo in živeti v harmoniji drug z drugim. Naj bo ta večer kraj skupnega srečanja z Usmiljenim. Na voljo bodo trije spovedniki.
URL:https://zupnija.trnovo.info/dogodek/spokorno-bogosluzje/
END:VEVENT
BEGIN:VEVENT
DTSTART;TZID=Europe/Ljubljana:20211224T170000
DTEND;TZID=Europe/Ljubljana:20211224T235900
DTSTAMP:20260425T141910
CREATED:20211203T121902Z
LAST-MODIFIED:20211218T110800Z
UID:15564-1640365200-1640390340@zupnija.trnovo.info
SUMMARY:SVETI VEČER
DESCRIPTION:Prva božična maša bo na sveti večer ob 19. uri. Pri tej maši bodo mladi prispevali svoj program. Ob 20.30 bo večerja za osamljene in brezdomce. Ob 23.30 bo program pred polnočnico in polnočnica. Božične maše bodo še ob 8. uri\, ob 10. uri in ob 19. uri.Blagoslov hiš\, stanovanj\, družin.17.00: blagoslov doma in župnišča\, nato božična večerja s stanovalci doma19.00: prva božična maša z božičnico20.30: večerja za osamljene in ubogeSveti večer je najbolje praznovan v občestvu z drugimi. Zato že leta v župniji pripravljamo večerjo za osamljene in uboge.23.30: polnočnica s programom
URL:https://zupnija.trnovo.info/dogodek/sveti-vecer/
CATEGORIES:IZPOSTAVLJENO,Nedelje in prazniki
ATTACH;FMTTYPE=image/jpeg:https://zupnija.trnovo.info/wp-content/uploads/2020/11/jaslice-jezus.jpg
END:VEVENT
BEGIN:VEVENT
DTSTART;TZID=Europe/Ljubljana:20211225T000000
DTEND;TZID=Europe/Ljubljana:20211225T235959
DTSTAMP:20260425T141910
CREATED:20211203T122140Z
LAST-MODIFIED:20211218T150120Z
UID:15569-1640390400-1640476799@zupnija.trnovo.info
SUMMARY:BOŽIČ - PRAZNIK SV. DRUŽINE
DESCRIPTION:Na praznik sv. Družine bo ob 10. uri blagoslov družin in otrok. Lepo vabljeni k temu bogoslužju.»Ko angel oznanja\, da se je danes rodil Zveličar\, naznanja zarjo novega dne\, ki prihaja po navzočnosti Božjega kraljestva v ljudeh ter po Kristusovem javnem delovanju in bo pregnala temo« \n\n\n\nsv. Beda \n\n\n\nBožične praznične maše: 8.00\, 10.00\, 19.00
URL:https://zupnija.trnovo.info/dogodek/praznik-sv-druzine/
CATEGORIES:IZPOSTAVLJENO,Nedelje in prazniki
END:VEVENT
BEGIN:VEVENT
DTSTART;TZID=Europe/Ljubljana:20211229T200000
DTEND;TZID=Europe/Ljubljana:20211229T210000
DTSTAMP:20260425T141910
CREATED:20211218T084007Z
LAST-MODIFIED:20211218T162151Z
UID:16037-1640808000-1640811600@zupnija.trnovo.info
SUMMARY:IŠČEMO SREČO - skupni Božični koncert MPZ Trnovo in MPZ Cerknica
DESCRIPTION:MPZ Trnovo skupaj z MPZ Cerknica vabita na dva dobrodelna Božična koncerta\, ki bosta 27. decembra v cerkvi Marijinega rojstva v Cerknici ob 19. uri in 29. decembra v trnovski cerkvi sv. Janeza Krstnika po večerni sveti maši. Veselimo se vašega obiska! \n\n\n\nPovezava na fb dogodek: https://fb.me/e/20X9PILol
URL:https://zupnija.trnovo.info/dogodek/iscemo-sreco-skupni-bozicni-koncert-mpz-trnovo-in-mpz-cerknica/
CATEGORIES:IZPOSTAVLJENO
ATTACH;FMTTYPE=image/jpeg:https://zupnija.trnovo.info/wp-content/uploads/2021/12/My-Invitation.jpeg
END:VEVENT
BEGIN:VEVENT
DTSTART;TZID=Europe/Ljubljana:20211231T000000
DTEND;TZID=Europe/Ljubljana:20211231T235959
DTSTAMP:20260425T141910
CREATED:20211203T122302Z
LAST-MODIFIED:20211218T150015Z
UID:15572-1640908800-1640995199@zupnija.trnovo.info
SUMMARY:SILVESTROVO
DESCRIPTION:Tudi na Silvestrovo bo v naši cerkvi polnočnica kakor vsako leto. Zahvalili se bomo za bogato in nepozabno leto in prosili blagoslova\, da bi znali v letu 2022 čim bolj uspešno upoštevati zdravo pamet.
URL:https://zupnija.trnovo.info/dogodek/silvestrovo/
CATEGORIES:IZPOSTAVLJENO,Nedelje in prazniki
ATTACH;FMTTYPE=image/jpeg:https://zupnija.trnovo.info/wp-content/uploads/2021/12/SVETI-SILVESTER.jpg
END:VEVENT
BEGIN:VEVENT
DTSTART;TZID=Europe/Ljubljana:20220105T190000
DTEND;TZID=Europe/Ljubljana:20220105T200000
DTSTAMP:20260425T141910
CREATED:20220104T192101Z
LAST-MODIFIED:20220104T192235Z
UID:16357-1641409200-1641412800@zupnija.trnovo.info
SUMMARY:Tretji sveti večer
DESCRIPTION:V sredo bo tretji sveti večer. Ne pozabite na blagoslov hiš in stanovanj. K večerni maši naj otroci prinesejo darove za misijona ko trije kralji. Maši bosta ob 8.00 in ob 19.00.
URL:https://zupnija.trnovo.info/dogodek/tretji-sveti-vecer/
CATEGORIES:Nedelje in prazniki
END:VEVENT
BEGIN:VEVENT
DTSTART;TZID=Europe/Ljubljana:20220108T083000
DTEND;TZID=Europe/Ljubljana:20220108T130000
DTSTAMP:20260425T141910
CREATED:20220104T074201Z
LAST-MODIFIED:20220104T074312Z
UID:16336-1641630600-1641646800@zupnija.trnovo.info
SUMMARY:Romanje na Sv. Lovrenc nad Postojno
DESCRIPTION:Zopet vas vabim na romanje za družine in vse\, ki so vam pri srcu Slovenija\, hribčki\, cerkve in svetniki.V soboto\, 8. januarja je ponovno na vrsti Sv. Lovrenc nad Postojno\, ki smo ga novembra zaradi slabšega vremena zamenjali.Zbor je ob 8.30 pred trnovsko cerkvijo.Marina Trost
URL:https://zupnija.trnovo.info/dogodek/romanje-na-sv-lovrenc-nad-postojno/
CATEGORIES:Romanja po cerkvah na okoliških gričih
ATTACH;FMTTYPE=image/jpeg:https://zupnija.trnovo.info/wp-content/uploads/2022/01/Sv.-Lovrenc-nad-Postojno.jpg
END:VEVENT
BEGIN:VEVENT
DTSTART;TZID=Europe/Ljubljana:20220109T104500
DTEND;TZID=Europe/Ljubljana:20220109T120000
DTSTAMP:20260425T141910
CREATED:20211225T095137Z
LAST-MODIFIED:20220104T081607Z
UID:16204-1641725100-1641729600@zupnija.trnovo.info
SUMMARY:Predstavitev sakralne umetnosti CERKVE SV. JANEZA KRSTNIKA
DESCRIPTION:Vabljeni v nedeljo\, 9.1. po 10. maši na predstavitev sakralne umetnosti cerkve sv. Janeza Krstnika v Trnovem. Predstavitev bo vodila umetnostna zgodovinarka mag. Olga Paulič\, ki nas bo popeljala v preteklost s posebnim poudarkom na predstavitvi del Jožeta Plečnika ob njegovi 150 letnici rojstva. Glasbeni uvod in zaključek bo obogatila Renata Bauer. Predstavitev bo prilagojena za otroke in zanimiva za vse.Agape v Trnovem\, DFG
URL:https://zupnija.trnovo.info/dogodek/agape-v-trnovem-predstavitev-sakralne-umetnosti-cerkve-sv-janeza-krstnika/
CATEGORIES:Agape v Trnovem,Duhovnost in druženje,IZPOSTAVLJENO,Kultura in druženje
ATTACH;FMTTYPE=image/jpeg:https://zupnija.trnovo.info/wp-content/uploads/2021/12/Sakralna-umetnost-cerkve-sv.-Janeza-Krstnika_plakat_fin.jpg
END:VEVENT
BEGIN:VEVENT
DTSTART;TZID=Europe/Ljubljana:20220115T080000
DTEND;TZID=Europe/Ljubljana:20220116T170000
DTSTAMP:20260425T141910
CREATED:20220104T072753Z
LAST-MODIFIED:20220104T072754Z
UID:16321-1642233600-1642352400@zupnija.trnovo.info
SUMMARY:Duhovne vaje prve triade
DESCRIPTION:Prva triada naše Veroučne šole bo imela duhovne vaje v soboto 15. in v nedeljo 16. januarja.
URL:https://zupnija.trnovo.info/dogodek/duhovne-vaje-prve-triade/
END:VEVENT
BEGIN:VEVENT
DTSTART;TZID=Europe/Ljubljana:20220121T200000
DTEND;TZID=Europe/Ljubljana:20220121T235900
DTSTAMP:20260425T141910
CREATED:20220104T073134Z
LAST-MODIFIED:20220110T183341Z
UID:16324-1642795200-1642809540@zupnija.trnovo.info
SUMMARY:Večer za Vaju - PRESTAVLJEN NA 22. 4. 2022
DESCRIPTION:Večer za Vaju bo v petek\, 22. aprila ob 20. uri v Antonovem domu na Viču. Prisrčno vabljeni pari vseh generacij. Za prijeten program z besedo in glasbo poskrbimo mi\, za dobro družbo pa vi. Veselimo se Vajine navzočnosti. Gost večera bo Boštjan Hari\, glasbo bo oblikoval Franci Rotar.
URL:https://zupnija.trnovo.info/dogodek/vecer-za-vaju-2/
CATEGORIES:Duhovnost in druženje,IZPOSTAVLJENO,ODPOVEDANO
ATTACH;FMTTYPE=image/jpeg:https://zupnija.trnovo.info/wp-content/uploads/2022/01/Vecer-za-Vaju_2022-scaled.jpg
END:VEVENT
BEGIN:VEVENT
DTSTART;TZID=Europe/Ljubljana:20220123T194500
DTEND;TZID=Europe/Ljubljana:20220125T210000
DTSTAMP:20260425T141910
CREATED:20211210T073535Z
LAST-MODIFIED:20220120T205658Z
UID:15742-1642967100-1643144400@zupnija.trnovo.info
SUMMARY:SVETOPISEMSKI MARATON v trnovski cerkvi po večerni maši
DESCRIPTION:V trnovski cerkvi bomo brali Markov evangelij\, od nedelje do torka po večerni sv. maši\, vsak dan eno uro. 23.1.- 25.1. 2022. Vabljeni! \n\n\n\nTudi letos bomo imeli neprekinjeno branje SP bo po Zoomu. Prijavi se in izberi prost termin! WWW.SVETOPISEMSKIMARATON.SI
URL:https://zupnija.trnovo.info/dogodek/svetopisemski-maraton-2/
CATEGORIES:Duhovnost in druženje
ATTACH;FMTTYPE=image/jpeg:https://zupnija.trnovo.info/wp-content/uploads/2021/12/spm_plakat_4-scaled.jpg
END:VEVENT
BEGIN:VEVENT
DTSTART;TZID=Europe/Ljubljana:20220128T190000
DTEND;TZID=Europe/Ljubljana:20220128T210000
DTSTAMP:20260425T141910
CREATED:20220104T073430Z
LAST-MODIFIED:20220104T073431Z
UID:16330-1643396400-1643403600@zupnija.trnovo.info
SUMMARY:Seja ŽGS
DESCRIPTION:Seja ŽGS bo v petek\, 28. januarja ob 19. uri. Začeli bomo z bogoslužjem v cerkvi. 
URL:https://zupnija.trnovo.info/dogodek/seja-zgs-6/
CATEGORIES:Seje župnijskih delovnih teles
END:VEVENT
END:VCALENDAR