BEGIN:VCALENDAR
VERSION:2.0
PRODID:-//Župnija Lj.-Trnovo - ECPv5.10.1//NONSGML v1.0//EN
CALSCALE:GREGORIAN
METHOD:PUBLISH
X-WR-CALNAME:Župnija Lj.-Trnovo
X-ORIGINAL-URL:https://zupnija.trnovo.info
X-WR-CALDESC:Events for Župnija Lj.-Trnovo
BEGIN:VTIMEZONE
TZID:Europe/Ljubljana
BEGIN:DAYLIGHT
TZOFFSETFROM:+0100
TZOFFSETTO:+0200
TZNAME:CEST
DTSTART:20230326T010000
END:DAYLIGHT
BEGIN:STANDARD
TZOFFSETFROM:+0200
TZOFFSETTO:+0100
TZNAME:CET
DTSTART:20231029T010000
END:STANDARD
END:VTIMEZONE
BEGIN:VEVENT
DTSTART;TZID=Europe/Ljubljana:20230625T100000
DTEND;TZID=Europe/Ljubljana:20230625T120000
DTSTAMP:20260425T042615
CREATED:20230530T155711Z
LAST-MODIFIED:20230530T160151Z
UID:26501-1687687200-1687694400@zupnija.trnovo.info
SUMMARY:Župnijsko žegnanje
DESCRIPTION:
URL:https://zupnija.trnovo.info/dogodek/zupnijsko-zegnanje-3/
CATEGORIES:Duhovnost in druženje,Nedelje in prazniki
END:VEVENT
BEGIN:VEVENT
DTSTART;TZID=Europe/Ljubljana:20230624T190000
DTEND;TZID=Europe/Ljubljana:20230624T233000
DTSTAMP:20260425T042615
CREATED:20230530T155605Z
LAST-MODIFIED:20230611T172306Z
UID:26498-1687633200-1687649400@zupnija.trnovo.info
SUMMARY:KRESOVANJE – praznik Rojstva Janeza Krstnika in predvečer Dneva državnosti
DESCRIPTION:V soboto\, 24. junija ob 19.00 uri lepo vabljeni na mašo za domovino in tradicionalno kresovanje s kulturnim programom na župnijskem vrtu.
URL:https://zupnija.trnovo.info/dogodek/kresovanje-praznik-rojstva-janeza-krstnika-in-predvecer-dneva-drzavnosti-2/
CATEGORIES:Duhovnost in druženje,IZPOSTAVLJENO,Izredni dogodki,Kultura in druženje,Nedelje in prazniki,Praznik
ATTACH;FMTTYPE=image/jpeg:https://zupnija.trnovo.info/wp-content/uploads/2023/05/Kresovanje_PLAKAT_2023_fin-2.jpg
END:VEVENT
BEGIN:VEVENT
DTSTART;TZID=Europe/Ljubljana:20230614T200000
DTEND;TZID=Europe/Ljubljana:20230614T233000
DTSTAMP:20260425T042615
CREATED:20230530T154903Z
LAST-MODIFIED:20230613T141132Z
UID:26491-1686772800-1686785400@zupnija.trnovo.info
SUMMARY:Pogovor z arhitektom Janezom Koželjem\, je prestavljen v prostore Četrtne skupnosti Trnovo na Devinski ul. 1B
DESCRIPTION:Društvo Finžgarjeva galerija vabi v sredo\, 14. 6. 2023\, ob 20. uri na srečanje z arhitektom in podžupanom prof. Janezom Koželjem. \n\n\n\nPogovor bo potekal vzporedno s projekcijo nekaterih Koželjevih del in projektov\, ki so bili v času njegovega podžupanovanja izvedeni v Ljubljani. \n\n\n\nVečer nam bo s pesmimi popestril arhitekturni pevski zbor ARHIVOX\, pogovor pa bo povezoval arhitekt Uroš Pust. \n\n\n\nDogodek bo v dvorani Četrtne skupnosti Trnovo\, Devinska ulica 1B.Vstop prost\, lepo vabljeni! \n\n\n\nDruštvo Finžgarjeva galerija 
URL:https://zupnija.trnovo.info/dogodek/pogovor-z-arhitektom-janezom-kozeljem-dfg/
CATEGORIES:Finžgarjeva galerija,Kultura in druženje
ATTACH;FMTTYPE=image/jpeg:https://zupnija.trnovo.info/wp-content/uploads/2023/05/20230614_Janez-Kozelj_plakat_fin_slika.jpg
END:VEVENT
BEGIN:VEVENT
DTSTART;TZID=Europe/Ljubljana:20230611T100000
DTEND;TZID=Europe/Ljubljana:20230611T120000
DTSTAMP:20260425T042615
CREATED:20230530T154302Z
LAST-MODIFIED:20230530T160033Z
UID:26488-1686477600-1686484800@zupnija.trnovo.info
SUMMARY:Sveta birma
DESCRIPTION:
URL:https://zupnija.trnovo.info/dogodek/sveta-birma-2/
CATEGORIES:Nedelje in prazniki,Verouk
END:VEVENT
BEGIN:VEVENT
DTSTART;TZID=Europe/Ljubljana:20230607T200000
DTEND;TZID=Europe/Ljubljana:20230608T170000
DTSTAMP:20260425T042615
CREATED:20230530T154144Z
LAST-MODIFIED:20230530T160107Z
UID:26485-1686168000-1686243600@zupnija.trnovo.info
SUMMARY:Češčenje Sv. Rešnjega Telesa in procesija
DESCRIPTION:Češčenje Sv. Rešnjega Telesa in procesija ob 19.00
URL:https://zupnija.trnovo.info/dogodek/cescenje-sv-resnjega-telesa-in-procesija/
END:VEVENT
BEGIN:VEVENT
DTSTART;TZID=Europe/Ljubljana:20230607T180000
DTEND;TZID=Europe/Ljubljana:20230607T210000
DTSTAMP:20260425T042615
CREATED:20230530T154005Z
LAST-MODIFIED:20230601T192148Z
UID:26482-1686160800-1686171600@zupnija.trnovo.info
SUMMARY:Vsi za dediščino\, dediščina za vse; DFG in ALUO
DESCRIPTION:Vljudno vabljeni na odprtje razstave\, ki bo v sredo\, 7. junija 2023\, ob 18.00 v Finžgarjevi galeriji\, Kolezijska ulica 1\, Ljubljana. \n\n\n\nRazstava poteka v sklopu dogodkov Od blizu – od daleč. izvenevanje  in je del Konservatorsko-restavratorske transverzale.  \n\n\n\nJe prispevek k dogodkom ob Tednu slepih in slabovidnih in je dostopna za ranljive skupine. \n\n\n\nRazstavo smo pripravili:Akademija za likovno umetnost in oblikovanje Univerze v Ljubljani v sodelovanju s partnerji: Moderno galerijo v Ljubljani\, Naravoslovno tehnično fakulteto ter Fakulteto za kemijo in kemijsko tehnologijo Univerze v Ljubljani in Restavratorskim centrom Zavoda za varstvo kulturne dediščine Slovenije.
URL:https://zupnija.trnovo.info/dogodek/otvoritev-razstave-z-veccutnimi-vsebinami-dfg-in-aluo/
CATEGORIES:Finžgarjeva galerija,Kultura in druženje
ATTACH;FMTTYPE=image/jpeg:https://zupnija.trnovo.info/wp-content/uploads/2023/05/Salamun_fotka-za-vabilo-scaled.jpg
END:VEVENT
BEGIN:VEVENT
DTSTART;TZID=Europe/Ljubljana:20230606T180000
DTEND;TZID=Europe/Ljubljana:20230606T210000
DTSTAMP:20260425T042615
CREATED:20230530T153826Z
LAST-MODIFIED:20230601T064028Z
UID:26479-1686074400-1686085200@zupnija.trnovo.info
SUMMARY:Predstavitev tipanke Skrivnost rožnega venca; DFG in ZDSSS
DESCRIPTION:Vabljeni!
URL:https://zupnija.trnovo.info/dogodek/predstavitev-tipanke-skrivnost-roznega-venca-dfg-in-zdsss/
CATEGORIES:Duhovnost in druženje,Finžgarjeva galerija,Kultura in druženje
ATTACH;FMTTYPE=image/jpeg:https://zupnija.trnovo.info/wp-content/uploads/2023/05/20230404_152821_pop-scaled.jpg
END:VEVENT
BEGIN:VEVENT
DTSTART;TZID=Europe/Ljubljana:20230605T180000
DTEND;TZID=Europe/Ljubljana:20230605T200000
DTSTAMP:20260425T042615
CREATED:20230530T153651Z
LAST-MODIFIED:20230530T153652Z
UID:26476-1685988000-1685995200@zupnija.trnovo.info
SUMMARY:Srečanje z birmovalcem Stanislavom Hočevarjem 
DESCRIPTION:
URL:https://zupnija.trnovo.info/dogodek/srecanje-z-birmovalcem-stanislavom-hocevarjem/
END:VEVENT
BEGIN:VEVENT
DTSTART;TZID=Europe/Ljubljana:20230604T100000
DTEND;TZID=Europe/Ljubljana:20230604T170000
DTSTAMP:20260425T042615
CREATED:20230526T062029Z
LAST-MODIFIED:20230530T163029Z
UID:26336-1685872800-1685898000@zupnija.trnovo.info
SUMMARY:Dan družin z mašo ob zaključku veroučnega leta
DESCRIPTION:
URL:https://zupnija.trnovo.info/dogodek/dan-druzin-z-maso-ob-zakljucku-veroucnega-leta/
CATEGORIES:IZPOSTAVLJENO,Nedelje in prazniki,Verouk
ATTACH;FMTTYPE=image/jpeg:https://zupnija.trnovo.info/wp-content/uploads/2023/05/DAN-DRUZIN_plakat-3.jpg
END:VEVENT
BEGIN:VEVENT
DTSTART;TZID=Europe/Ljubljana:20230602T190000
DTEND;TZID=Europe/Ljubljana:20230602T200000
DTSTAMP:20260425T042615
CREATED:20230526T061830Z
LAST-MODIFIED:20230526T061832Z
UID:26333-1685732400-1685736000@zupnija.trnovo.info
SUMMARY:Pričetek devet dnevnice v čast Sv. Duhu
DESCRIPTION:
URL:https://zupnija.trnovo.info/dogodek/pricetek-devet-dnevnice-v-cast-sv-duhu/
END:VEVENT
BEGIN:VEVENT
DTSTART;TZID=Europe/Ljubljana:20230531T190000
DTEND;TZID=Europe/Ljubljana:20230531T200000
DTSTAMP:20260425T042615
CREATED:20230501T200607Z
LAST-MODIFIED:20230530T155919Z
UID:26045-1685559600-1685563200@zupnija.trnovo.info
SUMMARY:Zaključek šmarnic s procesijo
DESCRIPTION:
URL:https://zupnija.trnovo.info/dogodek/zakljucek-smarnic-s-procesijo/
END:VEVENT
BEGIN:VEVENT
DTSTART;TZID=Europe/Ljubljana:20230529T190000
DTEND;TZID=Europe/Ljubljana:20230529T210000
DTSTAMP:20260425T042615
CREATED:20230501T200509Z
LAST-MODIFIED:20230517T103600Z
UID:26042-1685386800-1685394000@zupnija.trnovo.info
SUMMARY:Pogovor z odraslimi
DESCRIPTION:
URL:https://zupnija.trnovo.info/dogodek/pogovor-z-odraslimi-13/
CATEGORIES:Duhovnost in druženje,Kateheza za odrasle
END:VEVENT
BEGIN:VEVENT
DTSTART;TZID=Europe/Ljubljana:20230528T190000
DTEND;TZID=Europe/Ljubljana:20230528T200000
DTSTAMP:20260425T042615
CREATED:20230501T200146Z
LAST-MODIFIED:20230525T181814Z
UID:26039-1685300400-1685304000@zupnija.trnovo.info
SUMMARY:Maša s klasično glasbo - Ana Novak\, Grega Vauhnik\, Matej Prevc\, Katja Konvalinka
DESCRIPTION:Poleg gregorijanske Misse de Angelis\, bomo slišali še: \n\n\n\nJ. Leban: Marijina – Ana Novak  \n\n\n\nA. Dvořak: Hospodin jest muj pastiř – Ana Novak \n\n\n\nF. Schubert: Aleluja – Ana Novak in Matej Prevc \n\n\n\nW. A. Mozart: Ave verum – Ana Novak in Grega Vauhnik \n\n\n\nF. Durante: Vergin tutto ampr – Grega Vauhnik \n\n\n\nJ. S. Bach: Quia respexit – Ana Novak \n\n\n\nW. Gomez: Ave Maria – Matej Prevc \n\n\n\nSopranistka Ana Novak se trenutno uči petja na Glasbeni šoli Vič-Rudnik. Pevsko pot je začela s petjem v zboru Carmina Slovenica in pri prof. Simoni Raffanelli Krajnc. Imela je več recitalov ter nastopila v krstni izvedbi prve slovenske opere Belin (Zupan). Redno se udeležuje pevskih tekmovanj\, kjer dosega visoke rezultate. Je tudi članica vokalno inštrumentalne zasedbe Nova Schola Labacensis. Poleg svojega pevskega udejstvovanja opravlja doktorski študij na Biotehniški fakulteti\, kjer je tudi zaposlena. \n\n\n\nBaritonist Matej Prevc je magistriral na Filozofski fakulteti v Ljubljani in je zaposlen v SNG Opera in balet kot asistent režije. Že vse življenje se ukvarja z glasbo\, igra več inštrumentov ter se uči solopetja. Nastopil je v več opernih produkcijah\, npr. Kandid\, (Bernstein)\, Ženitev (Martinu)\, Hobit (Burry)\, Veveriček posebne sorte (Kocen)\, Všeč si mi (Močnik) in na mnogih koncertih. \n\n\n\nBaritonist Grega Vauhnik\, sicer magister prava\, zaposlen na Okrožnem sodišču v Ljubljani\, se je s petjem najprej srečal v mladinskem pevskem zboru Župnije Radovljica in kasneje pel tudi v okviru drugih zborovskih sestavov. Od leta 2018 se uči petja na Glasbeni šoli Vič-Rudnik. Poleg nastopov na recitalih in udeležbe na različnih pevskih tekmovanjih med vidnejše dosežke šteje nastope v krstni izvedbi opere Julija (Makovec) ter v opereti Kandid (Bernstein).  \n\n\n\nNa klavirju bo pevce spremljala njihova mentorica prof. Katja Konvalinka.
URL:https://zupnija.trnovo.info/dogodek/masa-s-klasicno-glasbo-ana-novak-grega-vauhnik-matej-prevc-katja-konvalinka/
CATEGORIES:Maša s klasično glasbo
ATTACH;FMTTYPE=image/jpeg:https://zupnija.trnovo.info/wp-content/uploads/2023/05/20230528_Ana-Novak-Grega-Vauhnik-Matej-Prevc-2.jpg
END:VEVENT
BEGIN:VEVENT
DTSTART;TZID=Europe/Ljubljana:20230528T100000
DTEND;TZID=Europe/Ljubljana:20230528T120000
DTSTAMP:20260425T042615
CREATED:20230501T200020Z
LAST-MODIFIED:20230501T200022Z
UID:26036-1685268000-1685275200@zupnija.trnovo.info
SUMMARY:Binkošti\, praznik Sv. Duha\, PRVO OBHAJILO
DESCRIPTION:
URL:https://zupnija.trnovo.info/dogodek/binkosti-praznik-sv-duha-prvo-obhajilo/
CATEGORIES:Nedelje in prazniki,Sveto obhajilo
END:VEVENT
BEGIN:VEVENT
DTSTART;TZID=Europe/Ljubljana:20230522T180000
DTEND;TZID=Europe/Ljubljana:20230522T210000
DTSTAMP:20260425T042615
CREATED:20230501T195653Z
LAST-MODIFIED:20230518T210341Z
UID:26033-1684778400-1684789200@zupnija.trnovo.info
SUMMARY:Finžgarjeva galerija - Otvoritev razstave JSKD
DESCRIPTION:V prostorih Finžgarjeve galerije bomo od 22. do 29. maja 2023 gostili razstavo likovnih del natečaja za osnovnošolce “V objemu zvoka in slike 2022”. Na otvoritvi razstave bodo organizatorji natečaja (JSKD in ARS) predstavili potek natečaja in podelili priznanja.Vabljeni! \n\n\n\n\n\n\n\n\n\n\n\n\n\n\n\nZLOŽENKA >>
URL:https://zupnija.trnovo.info/dogodek/finzgarjeva-galerija-otvoritev-razstave-jskd/
CATEGORIES:Finžgarjeva galerija,Kultura in druženje
ATTACH;FMTTYPE=image/jpeg:https://zupnija.trnovo.info/wp-content/uploads/2023/05/Vabilo-na-razstavo_22.maj_2023_page-0001.jpg
END:VEVENT
BEGIN:VEVENT
DTSTART;TZID=Europe/Ljubljana:20230521T180000
DTEND;TZID=Europe/Ljubljana:20230521T210000
DTSTAMP:20260425T042615
CREATED:20230501T195610Z
LAST-MODIFIED:20230511T061945Z
UID:26030-1684692000-1684702800@zupnija.trnovo.info
SUMMARY:Agape v Trnovem: SIMBOLIKA ŠMARNIC V UMETNOSTI\, Olga Paulič
DESCRIPTION:Vabimo vas na predavanje mag. OLGE PAULIČ o simboliki šmarnic v umetnosti\, ki bo v nedeljo 21. maja 2023 ob 18.00 pod paviljonom Agape\, v primeru slabega vremena pa v Finžgarjevi galeriji. \n\n\n\nOlga Paulič je mag. umetnostne zgodovine in profesorica zgodovine. Njena posebna ljubezen je cvetje in njegova simbolika v umetnosti\, kar raziskuje že vrsto let in predstavlja na različnih kulturnih dogodkih. Predstavila vam bo delček svojih ugotovitev. \n\n\n\nVeselimo se srečanja z vami! \n\n\n\nPredavanje je brezplačno. \n\n\n\n\n\n\n\n\n\n\n\n\n\n\n\nŠmarnica je cvetlica brez antične preteklosti\, saj je ne grški ne rimski pisci v svojih delih ne omenjajo. \n\n\n\nV srednjeveški cvetlični ikonografiji je bila šmarnica eden od najbolj priljubljenih marijanskih simbolov. Njeno ljudsko ime \,Gospejine solzice‘ v različnih jezikih govori\, da so šmarnice simbol Marijine žalosti in bolečine\, ki ju je pretrpela ob izgubi sina. S snežno belino simbolizirajo Marijino deviškost\, z omamnim vonjem pa milino in sladkost njene ljubezni.
URL:https://zupnija.trnovo.info/dogodek/agape-v-trnovem-simbolika-smarnic-olga-paulic/
CATEGORIES:Agape v Trnovem,Duhovnost in druženje,Kultura in druženje
ATTACH;FMTTYPE=image/jpeg:https://zupnija.trnovo.info/wp-content/uploads/2023/05/Smarnice_Durer-2.jpg
END:VEVENT
BEGIN:VEVENT
DTSTART;TZID=Europe/Ljubljana:20230519T190000
DTEND;TZID=Europe/Ljubljana:20230519T193000
DTSTAMP:20260425T042615
CREATED:20230501T195512Z
LAST-MODIFIED:20230501T195514Z
UID:26027-1684522800-1684524600@zupnija.trnovo.info
SUMMARY:Začetek binkoštne devet dnevnice
DESCRIPTION:
URL:https://zupnija.trnovo.info/dogodek/zacetek-binkostne-devet-dnevnice/
END:VEVENT
BEGIN:VEVENT
DTSTART;TZID=Europe/Ljubljana:20230518T000000
DTEND;TZID=Europe/Ljubljana:20230518T235959
DTSTAMP:20260425T042615
CREATED:20230501T195420Z
LAST-MODIFIED:20230518T050117Z
UID:26024-1684368000-1684454399@zupnija.trnovo.info
SUMMARY:Gospodov vnebohod\, praznik
DESCRIPTION:Maši ob 8.00 in 19.00. \n\n\n\n\n\nJošt Snoj
URL:https://zupnija.trnovo.info/dogodek/gospodov-vnebohod-praznik/
CATEGORIES:Praznik
ATTACH;FMTTYPE=image/jpeg:https://zupnija.trnovo.info/wp-content/uploads/2022/05/20b_Jost_Snoj_IMG20220420103032-2-scaled.jpg
END:VEVENT
BEGIN:VEVENT
DTSTART;TZID=Europe/Ljubljana:20230515T190000
DTEND;TZID=Europe/Ljubljana:20230517T170000
DTSTAMP:20260425T042615
CREATED:20230501T195311Z
LAST-MODIFIED:20230501T195313Z
UID:26021-1684177200-1684342800@zupnija.trnovo.info
SUMMARY:Prošnji dnevi s procesijo
DESCRIPTION:
URL:https://zupnija.trnovo.info/dogodek/prosnji-dnevi-s-procesijo/
END:VEVENT
BEGIN:VEVENT
DTSTART;TZID=Europe/Ljubljana:20230514T100000
DTEND;TZID=Europe/Ljubljana:20230514T120000
DTSTAMP:20260425T042615
CREATED:20230501T195223Z
LAST-MODIFIED:20230501T195225Z
UID:26018-1684058400-1684065600@zupnija.trnovo.info
SUMMARY:Dan služenja
DESCRIPTION:
URL:https://zupnija.trnovo.info/dogodek/dan-sluzenja-3/
END:VEVENT
BEGIN:VEVENT
DTSTART;TZID=Europe/Ljubljana:20230513T090000
DTEND;TZID=Europe/Ljubljana:20230513T100000
DTSTAMP:20260425T042615
CREATED:20230501T195139Z
LAST-MODIFIED:20230501T195140Z
UID:26015-1683968400-1683972000@zupnija.trnovo.info
SUMMARY:Prva spoved
DESCRIPTION:
URL:https://zupnija.trnovo.info/dogodek/prva-spoved/
END:VEVENT
BEGIN:VEVENT
DTSTART;TZID=Europe/Ljubljana:20230510T190000
DTEND;TZID=Europe/Ljubljana:20230510T210000
DTSTAMP:20260425T042615
CREATED:20230501T195047Z
LAST-MODIFIED:20230501T195049Z
UID:26012-1683745200-1683752400@zupnija.trnovo.info
SUMMARY:Svet veroučne šole Trnovo
DESCRIPTION:
URL:https://zupnija.trnovo.info/dogodek/svet-veroucne-sole-trnovo/
END:VEVENT
BEGIN:VEVENT
DTSTART;TZID=Europe/Ljubljana:20230506T090000
DTEND;TZID=Europe/Ljubljana:20230507T170000
DTSTAMP:20260425T042615
CREATED:20230501T195004Z
LAST-MODIFIED:20230501T195005Z
UID:26009-1683363600-1683478800@zupnija.trnovo.info
SUMMARY:Duhovne vaje v Repnjah za tretjo triado Veroučne šole Trnovo
DESCRIPTION:
URL:https://zupnija.trnovo.info/dogodek/duhovne-vaje-v-repnjah-za-tretjo-triado-veroucne-sole-trnovo/
END:VEVENT
BEGIN:VEVENT
DTSTART;TZID=Europe/Ljubljana:20230430T190000
DTEND;TZID=Europe/Ljubljana:20230430T200000
DTSTAMP:20260425T042615
CREATED:20230401T123405Z
LAST-MODIFIED:20230428T100920Z
UID:25661-1682881200-1682884800@zupnija.trnovo.info
SUMMARY:MAŠA S KLASIČNO GLASBO - Rebeka Dobravec
DESCRIPTION:V nedeljo\, 30. 4. 2023 pri večerni maši ob 19.00\, bo v sklopu cikla Maše sklasično glasbo Rebeka Dobravec na klavirju predstavila sonate Domenica Scarlettija. \n\n\n\n\n\n\n\n\n\n\n\n\n\n\n\nRebeka Dobravec študira klavir v razredu prof. Tatjane Ognjanovič. Pogosto nastopa kot solistka in kot članica različnih komornih skupin. Od leta 2019 z Nežo Nahtigal in Taro Korica igra v klavirskem Triu TRN\, s katerim so letos so na mednarodnem tekmovanju Ilmari Hannikainen na Finskem igrale v polfinalu\, na državnem tekmovanju TEMSIG pa dosegle srebrno priznanje. V letu 2021 je začela sodelovati tudi z bas-baritonistom Dimitrijem Savićem\, s katerim sta junija 2022 osvojila drugo nagrado na mednarodnem tekmovanju SGSM v kategoriji samospevi. Zaradi svojih dosežkov je od leta 2018 štipendistka Mestne Občine Ljubljana. \n\n\n\nItalijanski baročni skladatelj Domenico Scarlatti (1685-1757) je večino življenja preživel v Španiji\, kjer je ustvarjal za kraljevski dvor v Madridu. Bil je eden večjih virtuozov svojega časa na čembalu\, ta inštrument naj bi igral celo bolje kot G. F. Handel. Čeprav je skladal tudi opere\, cantate in liturgična dela\, je danes najbolj poznan po svojih 555 sonatah za inštrumente s tipkami\, večina katerih je napisana za čembalo. V sonatah sta stalno prisotna vpliv španske in portugalske ljudske glasbe ter oponašanje kitare. Kratke\, enostavčne\, skladbe so tipično dvodelne\, napisane v galantnem slogu.
URL:https://zupnija.trnovo.info/dogodek/masa-s-klasicno-glasbo-rebeka-dobravec/
CATEGORIES:Maša s klasično glasbo
ATTACH;FMTTYPE=image/jpeg:https://zupnija.trnovo.info/wp-content/uploads/2023/04/DSC_0790-3-scaled.jpg
END:VEVENT
BEGIN:VEVENT
DTSTART;TZID=Europe/Ljubljana:20230420T200000
DTEND;TZID=Europe/Ljubljana:20230420T220000
DTSTAMP:20260425T042615
CREATED:20230401T123005Z
LAST-MODIFIED:20230421T210841Z
UID:25656-1682020800-1682028000@zupnija.trnovo.info
SUMMARY:NE ZAMUDITE TRENUTKOV - odprtje razstave Barbare Gregurič Silič
DESCRIPTION:Finžgarjeva galerija vabi na otvoritev fotografske razstave Barbare Gregurič Silič.Predstavitev Nuša Podgornik\, flavta Mila Vučko.  \n\n\n\nBarbara Gregurič Silič\, mojstrica fotografije Fotografske zveze Slovenije z razstavljalskim nazivom EFIAP mednarodne zveze za fotografsko umetnost FIAP in univerzitetna diplomirana mikrobiologinja\, se na področju fotografije posveča ulični fotografiji in fotografiji otrok. Ker portreti otrok predstavljajo glavnino njenega opusa\, je razstava v Finžgarjevi galeriji v celoti posvečena prav njim. Njeno slogovno in avtorsko prepoznavnost močno zaznamuje občutje\, da so fotografije nastale v nekem drugem\, preteklem času\, na katerega spominjajo arhitektura\, ambienti\, obleke in atributi otrok… Kar nam svetuje na svoji spletni strani  – Ne zamudite trenutkov! – velja tudi zanjo\, zato v izrazih otrok zaznava\, opazi in s kamero ujame tisto posebno\, drugačno milino\, v kateri slutimo nekaj\, kar je izza pogleda in onkraj izraza – trenutke brez/vsečasnosti\, ki navdahnejo\, saj ve\, da se – in nam to tudi zaželi – prav vsak izmed njih vtisne globoko v srce in spomin.  \n\n\n\nNuša Podgornik \n\n\n\nKatalog >>
URL:https://zupnija.trnovo.info/dogodek/odprtje-razstave-barbare-greguric-silic/
CATEGORIES:Finžgarjeva galerija,Kultura in druženje
ATTACH;FMTTYPE=image/jpeg:https://zupnija.trnovo.info/wp-content/uploads/2023/04/IMG_3872-copy-d-v_pop-scaled.jpg
END:VEVENT
BEGIN:VEVENT
DTSTART;TZID=Europe/Ljubljana:20230412T100000
DTEND;TZID=Europe/Ljubljana:20230412T113000
DTSTAMP:20260425T042615
CREATED:20230401T081824Z
LAST-MODIFIED:20230401T081825Z
UID:25653-1681293600-1681299000@zupnija.trnovo.info
SUMMARY:Obletnica delovanja Doma Janeza Krstnika
DESCRIPTION:
URL:https://zupnija.trnovo.info/dogodek/obletnica-delovanja-doma-janeza-krstnika/
CATEGORIES:Praznik
END:VEVENT
BEGIN:VEVENT
DTSTART;TZID=Europe/Ljubljana:20230411T190000
DTEND;TZID=Europe/Ljubljana:20230411T210000
DTSTAMP:20260425T042615
CREATED:20230401T081715Z
LAST-MODIFIED:20230401T081717Z
UID:25650-1681239600-1681246800@zupnija.trnovo.info
SUMMARY:PRIPRAVA NA KRST
DESCRIPTION:
URL:https://zupnija.trnovo.info/dogodek/priprava-na-krst-8/
CATEGORIES:Kateheza za odrasle
END:VEVENT
BEGIN:VEVENT
DTSTART;TZID=Europe/Ljubljana:20230409T000000
DTEND;TZID=Europe/Ljubljana:20230409T235959
DTSTAMP:20260425T042615
CREATED:20230401T081509Z
LAST-MODIFIED:20230401T081511Z
UID:25645-1680998400-1681084799@zupnija.trnovo.info
SUMMARY:VELIKA NOČ
DESCRIPTION:Velikonočna procesija ob 7.30\, nato maša\, maše še ob 10.00\, ob 15.00 v DJK in ob 19.00.
URL:https://zupnija.trnovo.info/dogodek/velika-noc-3/
CATEGORIES:Nedelje in prazniki
ATTACH;FMTTYPE=image/jpeg:https://zupnija.trnovo.info/wp-content/uploads/2023/04/headline.jpg
END:VEVENT
BEGIN:VEVENT
DTSTART;TZID=Europe/Ljubljana:20230408T000000
DTEND;TZID=Europe/Ljubljana:20230408T235959
DTSTAMP:20260425T042615
CREATED:20230401T075707Z
LAST-MODIFIED:20230401T081600Z
UID:25630-1680912000-1680998399@zupnija.trnovo.info
SUMMARY:VELIKA SOBOTA\, blagoslovi vode in ognja\, jedil\, VIGILIJA
DESCRIPTION:Blagoslov vode in ognja ob 7. 00\, blagoslovi jedil ob 11.00\, 13.00\, 14.00 in 15.00 in VIGILIJA ob 19.00.
URL:https://zupnija.trnovo.info/dogodek/velika-sobota/
CATEGORIES:Nedelje in prazniki
ATTACH;FMTTYPE=image/jpeg:https://zupnija.trnovo.info/wp-content/uploads/2022/04/IMG20220415202908-scaled.jpg
END:VEVENT
BEGIN:VEVENT
DTSTART;TZID=Europe/Ljubljana:20230407T150000
DTEND;TZID=Europe/Ljubljana:20230407T203000
DTSTAMP:20260425T042615
CREATED:20230401T073400Z
LAST-MODIFIED:20230401T075957Z
UID:25622-1680879600-1680899400@zupnija.trnovo.info
SUMMARY:VELIKI PETEK
DESCRIPTION:Križev pot ob 15.00 in Obredi Velikega petka ob 19.00.
URL:https://zupnija.trnovo.info/dogodek/veliki-petek-2/
CATEGORIES:Nedelje in prazniki
ATTACH;FMTTYPE=image/jpeg:https://zupnija.trnovo.info/wp-content/uploads/2023/04/Krizev-pot-.jpg
END:VEVENT
END:VCALENDAR