BEGIN:VCALENDAR
VERSION:2.0
PRODID:-//Župnija Lj.-Trnovo - ECPv5.10.1//NONSGML v1.0//EN
CALSCALE:GREGORIAN
METHOD:PUBLISH
X-WR-CALNAME:Župnija Lj.-Trnovo
X-ORIGINAL-URL:https://zupnija.trnovo.info
X-WR-CALDESC:Events for Župnija Lj.-Trnovo
BEGIN:VTIMEZONE
TZID:Europe/Ljubljana
BEGIN:DAYLIGHT
TZOFFSETFROM:+0100
TZOFFSETTO:+0200
TZNAME:CEST
DTSTART:20260329T010000
END:DAYLIGHT
BEGIN:STANDARD
TZOFFSETFROM:+0200
TZOFFSETTO:+0100
TZNAME:CET
DTSTART:20261025T010000
END:STANDARD
END:VTIMEZONE
BEGIN:VEVENT
DTSTART;TZID=Europe/Ljubljana:20260402T000000
DTEND;TZID=Europe/Ljubljana:20260402T235959
DTSTAMP:20260423T072343
CREATED:20260324T203102Z
LAST-MODIFIED:20260324T203104Z
UID:36001-1775088000-1775174399@zupnija.trnovo.info
SUMMARY:Veliki četrtek - spomin zadnje večerje
DESCRIPTION:Jn 13\,1-16. \n\n\n\nZadnja večerja ob 19. uri je prvi sveti dan velikonočnega tridnevja. Zahvaljujemo se za sveto evharistijo\, ki je največji Jezusov dar za naše vsakdanje življenje. V ospredju bo postavitev tega zakramenta\, ki ga bodo otroci tretjega razreda prvič prejeli. V središču bo umivanje nog. Dogodek je tako pomemben\, da ga Cerkev postavlja v evangelij namesto dogodka postavitve svete evharistije. Vsi obhajamo obletnice svojega obhajila. Letošnji kandidati se nam bodo predstavili. Na koncu bogoslužja bomo Najsvetejše prenesli na “Oljsko goro”\, na levi stranski oltar\, kjer bo bedenje.
URL:https://zupnija.trnovo.info/dogodek/veliki-cetrtek-spomin-zadnje-vecerje/
END:VEVENT
BEGIN:VEVENT
DTSTART;TZID=Europe/Ljubljana:20260403T000000
DTEND;TZID=Europe/Ljubljana:20260403T235959
DTSTAMP:20260423T072343
CREATED:20260324T203218Z
LAST-MODIFIED:20260324T203219Z
UID:36005-1775174400-1775260799@zupnija.trnovo.info
SUMMARY:Veliki petek - dan Jezusove smrti\, strogi post
DESCRIPTION:Jn 18\,1-19\,42. \n\n\n\nOb 15. uri bo v cerkvi križev pot. Zvečer ob 19.00 bo bogoslužje Božje Besede s pasijonom\, slovesne prošnje\, razkrivanje križa in čaščenje\, obhajilo\, prenos v božji grob …
URL:https://zupnija.trnovo.info/dogodek/veliki-petek-dan-jezusove-smrti-strogi-post/
END:VEVENT
BEGIN:VEVENT
DTSTART;TZID=Europe/Ljubljana:20260404T000000
DTEND;TZID=Europe/Ljubljana:20260404T235959
DTSTAMP:20260423T072343
CREATED:20260324T203403Z
LAST-MODIFIED:20260324T203404Z
UID:36009-1775260800-1775347199@zupnija.trnovo.info
SUMMARY:Velika sobota - velikonočna vigilija
DESCRIPTION:Mt 28\,1-10. \n\n\n\nZjutraj ob 7.00 bo izpostavitev Najsvetejšega v božjem grobu\, blagoslov vode\, soli in ognja. Jezus počiva v grobu. Ves dan ga prihajamo častiti in se mu zahvaljevati za njegovo odrešenjsko delo. Z močjo njegove milosti bomo blagoslovili jedila ob 12.00 \, ob 13.00\, ob 14.00\, ob 15.00 in v Domu Janeza Krstnika ob 16.00. Slovesna vigilija bo ob 19.00\, med katero bodo zakramente prejeli naši letošnji katehumeni.
URL:https://zupnija.trnovo.info/dogodek/velika-sobota-velikonocna-vigilija/
END:VEVENT
BEGIN:VEVENT
DTSTART;TZID=Europe/Ljubljana:20260405T000000
DTEND;TZID=Europe/Ljubljana:20260405T235959
DTSTAMP:20260423T072343
CREATED:20260324T203505Z
LAST-MODIFIED:20260324T203507Z
UID:36013-1775347200-1775433599@zupnija.trnovo.info
SUMMARY:Velika noč - praznik Jezusovega vstajenja
DESCRIPTION:Jn 20\,1-9.  \n\n\n\nVstajenjska procesija bo ob 7.30\, nato jutranja velikonočna maša. Druga dnevna velikonočna maša bo ob 10.00\, v Domu Janeza Krstnika ob 15.00 in četrta maša zvečer ob 19.00.
URL:https://zupnija.trnovo.info/dogodek/velika-noc-praznik-jezusovega-vstajenja/
END:VEVENT
BEGIN:VEVENT
DTSTART;TZID=Europe/Ljubljana:20260406T000000
DTEND;TZID=Europe/Ljubljana:20260406T235959
DTSTAMP:20260423T072343
CREATED:20260324T203558Z
LAST-MODIFIED:20260324T203740Z
UID:36017-1775433600-1775519999@zupnija.trnovo.info
SUMMARY:Velikonočni ponedeljek
DESCRIPTION:Mt 28\,8-15.  \n\n\n\nMaša ob 8.00\, v Domu na Koleziji ob 10.00 in v župnijski cerkvi ob 19.00. Do Bele nedelje ali Nedelje Božjega usmiljenja bo velikonočna osmina. Veroučna šola ima velikonočne počitnice. Vabljeni k večernim mašam.
URL:https://zupnija.trnovo.info/dogodek/velikonocni-ponedeljek-2/
END:VEVENT
BEGIN:VEVENT
DTSTART;TZID=Europe/Ljubljana:20260423T180000
DTEND;TZID=Europe/Ljubljana:20260423T200000
DTSTAMP:20260423T072343
CREATED:20260414T100234Z
LAST-MODIFIED:20260416T051846Z
UID:36091-1776967200-1776974400@zupnija.trnovo.info
SUMMARY:Dr. Stane Repše\, Oražnovec\, kirurg\, v sliki in besedi
DESCRIPTION:Veliko slišimo o zdravnikih – a koliko zares poznamo njihovo pot? \n\n\n\nZa prijaznim obrazom dr. Staneta Repšeta se skriva izjemna življenjska zgodba: od mladeniča z roba Dolenjske do vrhunskega strokovnjaka abdominalne kirurgije\, pionirja sodobnih pristopov in predanega mentorja mlajšim generacijam. \n\n\n\nSvojo pot je ujel tudi v knjigi\, ki jo je lani izdala Beletrina. Zdaj pa jo bo v živo delil z nami. \n\n\n\nPridružite se pogovoru v Finžgarjevi galeriji\, Kolezijska 1 v četrtek\, 23. aprila ob 18. uri\, in stopite na časovni vlak njegove navdihujoče zgodbe. \n\n\n\nVljudno vabljeni.
URL:https://zupnija.trnovo.info/dogodek/dr-stane-repse-oraznovec-kirurg-v-sliki-in-besedi/
CATEGORIES:DFG,Kultura in druženje,Pogovorni večer
ATTACH;FMTTYPE=image/jpeg:https://zupnija.trnovo.info/wp-content/uploads/2026/04/20260423_Stane-Repse_Neva-Muzic_naslovna.jpg
END:VEVENT
END:VCALENDAR