BEGIN:VCALENDAR
VERSION:2.0
PRODID:-//Župnija Lj.-Trnovo - ECPv5.10.1//NONSGML v1.0//EN
CALSCALE:GREGORIAN
METHOD:PUBLISH
X-WR-CALNAME:Župnija Lj.-Trnovo
X-ORIGINAL-URL:https://zupnija.trnovo.info
X-WR-CALDESC:Events for Župnija Lj.-Trnovo
BEGIN:VTIMEZONE
TZID:Europe/Ljubljana
BEGIN:DAYLIGHT
TZOFFSETFROM:+0100
TZOFFSETTO:+0200
TZNAME:CEST
DTSTART:20210328T010000
END:DAYLIGHT
BEGIN:STANDARD
TZOFFSETFROM:+0200
TZOFFSETTO:+0100
TZNAME:CET
DTSTART:20211031T010000
END:STANDARD
END:VTIMEZONE
BEGIN:VEVENT
DTSTART;TZID=Europe/Ljubljana:20210110T000000
DTEND;TZID=Europe/Ljubljana:20210110T235959
DTSTAMP:20260424T214103
CREATED:20201120T194050Z
LAST-MODIFIED:20210102T123029Z
UID:1169-1610236800-1610323199@zupnija.trnovo.info
SUMMARY:Nedelja Jezusovega krsta
DESCRIPTION:Bog človeku ponuja pravičnost. Ta se izpolni\, ko mu jo ljudstvo vrne. Janez sicer želi prepustiti milost izpolnitve Bogu samemu. Če pa je potrebna pri tem njegova pokorščina\, bo »popustil«. Zemska voda je potrebna. Učlovečeni Sin privzame stara znamenja\, ki so rešilna: rešilna voda skozi vesoljni potop\, potopitev ljudstva v brezno morja in Janezov krst (prim. Mr 1\,7-11).
URL:https://zupnija.trnovo.info/dogodek/nedelja-jezusovega-krsta/
LOCATION:Kolezijska ulica 1\, Ljubljana
CATEGORIES:Nedelje in prazniki
ATTACH;FMTTYPE=image/jpeg:https://zupnija.trnovo.info/wp-content/uploads/2020/11/jesus-baptism.jpg
END:VEVENT
BEGIN:VEVENT
DTSTART;TZID=Europe/Ljubljana:20210110T200000
DTEND;TZID=Europe/Ljubljana:20210110T220000
DTSTAMP:20260424T214103
CREATED:20201231T103215Z
LAST-MODIFIED:20201231T103216Z
UID:1600-1610308800-1610316000@zupnija.trnovo.info
SUMMARY:Večer pod paviljonom
DESCRIPTION:
URL:https://zupnija.trnovo.info/dogodek/vecer-pod-paviljonom/
END:VEVENT
BEGIN:VEVENT
DTSTART;TZID=Europe/Ljubljana:20210111T193000
DTEND;TZID=Europe/Ljubljana:20210111T210000
DTSTAMP:20260424T214103
CREATED:20201120T195128Z
LAST-MODIFIED:20201120T195128Z
UID:1199-1610393400-1610398800@zupnija.trnovo.info
SUMMARY:Katehumenat
DESCRIPTION:
URL:https://zupnija.trnovo.info/dogodek/katehumenat-2/
LOCATION:Kolezijska ulica 1\, Ljubljana
CATEGORIES:Kateheza za odrasle
END:VEVENT
BEGIN:VEVENT
DTSTART;TZID=Europe/Ljubljana:20210117T000000
DTEND;TZID=Europe/Ljubljana:20210117T235959
DTSTAMP:20260424T214103
CREATED:20201120T194117Z
LAST-MODIFIED:20210102T122357Z
UID:1172-1610841600-1610927999@zupnija.trnovo.info
SUMMARY:2. ned. med letom\, krščevanje
DESCRIPTION:Hoja za Jezusom pomeni teči za Jezusom\, ne da bi vedel kaj več\, da si poslan. Vpraševati moraš: Učenik\, kje stanuješ? Pridita in poglejta! Povabilo k skupni hoji. Samo tisti\, ki hodi z Njim\, bo videl( prim. Jn 1\,35-42).
URL:https://zupnija.trnovo.info/dogodek/2-ned-med-letom-krscevanje/
LOCATION:Kolezijska ulica 1\, Ljubljana
CATEGORIES:Nedelje in prazniki
END:VEVENT
BEGIN:VEVENT
DTSTART;TZID=Europe/Ljubljana:20210118T193000
DTEND;TZID=Europe/Ljubljana:20210118T210000
DTSTAMP:20260424T214103
CREATED:20201120T195153Z
LAST-MODIFIED:20201120T195153Z
UID:1202-1610998200-1611003600@zupnija.trnovo.info
SUMMARY:Katehumenat
DESCRIPTION:
URL:https://zupnija.trnovo.info/dogodek/katehumenat-3/
LOCATION:Kolezijska ulica 1\, Ljubljana
CATEGORIES:Kateheza za odrasle
END:VEVENT
BEGIN:VEVENT
DTSTART;TZID=Europe/Ljubljana:20210119T194500
DTEND;TZID=Europe/Ljubljana:20210119T210000
DTSTAMP:20260424T214103
CREATED:20201120T194706Z
LAST-MODIFIED:20210117T205403Z
UID:1190-1611085500-1611090000@zupnija.trnovo.info
SUMMARY:Seja ŽPS
DESCRIPTION:Seja bo potekala preko povezave Zoom s pričetkom ob ca 19.45.  \n\n\n\nhttps://us05web.zoom.us/j/83591804160?pwd=SnN1Uld4RTdLM2RrUGd4SFNLM3RJZz09 \n\n\n\nMeeting ID: 835 9180 4160Passcode: 3X5VMF \n\n\n\nV kolikor bo prekinilo po 40 minutah\, se povežite ponovno preko povezave:https://us05web.zoom.us/j/87227665692?pwd=WmFsY2wrN1FTWUxWc2JIZW1oc05OUT09 \n\n\n\nMeeting ID: 872 2766 5692Passcode: 8jUZU4
URL:https://zupnija.trnovo.info/dogodek/seja-zps/
LOCATION:Kolezijska ulica 1\, Ljubljana
CATEGORIES:Seje župnijskih delovnih teles
END:VEVENT
BEGIN:VEVENT
DTSTART;TZID=Europe/Ljubljana:20210122T200000
DTEND;TZID=Europe/Ljubljana:20210122T235900
DTSTAMP:20260424T214103
CREATED:20201120T194348Z
LAST-MODIFIED:20210127T200728Z
UID:1181-1611345600-1611359940@zupnija.trnovo.info
SUMMARY:Večer za Vaju tokrat kot spletni dogodek!
DESCRIPTION:Vsako leto smo V Antonovem domu z veliko ljubezni pripravljaliv dvorani vse potrebno\, da sta se na dogodku počutila prijetno v telesu in duši. Tokrat vaju vabimo\, da to storimo s skupnimi močmi\, zato predlagamo\, da: \n\n\n\nsi že pred večerom vzameta čas in se na dogodek pripravita z ogledom posnetka\, kjer nastopa naša letošnja gostja.si pripravita večerjo ali prigrizek\, kozarček najljubše pijače ter ustvarita prijeten ambient za vajin večer (mogoče celo v soju sveč 😉).v petek\, 22. 1. 2021\, ob 20h odpreta Zoom povezavo.se prepustita Njegovemu objemu in uživata!\n\n\n\nVeselimo se vaju\, ker sta dragocena! \n\n\n\nV primeru tehničnih težav se lahko obrnete na: marina.trost@gmail.com
URL:https://zupnija.trnovo.info/dogodek/vecer-za-vaju/
LOCATION:Kolezijska ulica 1\, Ljubljana
CATEGORIES:Duhovnost in druženje
ATTACH;FMTTYPE=image/jpeg:https://zupnija.trnovo.info/wp-content/uploads/2020/11/Vecer-za-Vaju-2021_vabilo.jpg
END:VEVENT
BEGIN:VEVENT
DTSTART;VALUE=DATE:20210124
DTEND;VALUE=DATE:20210125
DTSTAMP:20260424T214103
CREATED:20201120T194145Z
LAST-MODIFIED:20210102T122614Z
UID:1175-1611446400-1611532799@zupnija.trnovo.info
SUMMARY:3. ned. med letom
DESCRIPTION:Tudi kristjani\, ki ostanejo znotraj svojih svetnih poklicev\, so poklicani v službo kraljestva\, ki ga oznanja Jezus. Potrebujejo nenavezanost. Kdor prime za plug\, in se ozira nazaj\, ni primeren za božje kraljestvo (prim. Mr 1\, 14-20).
URL:https://zupnija.trnovo.info/dogodek/3-ned-med-letom/
LOCATION:Kolezijska ulica 1\, Ljubljana
CATEGORIES:Nedelje in prazniki
END:VEVENT
BEGIN:VEVENT
DTSTART;TZID=Europe/Ljubljana:20210124T173000
DTEND;TZID=Europe/Ljubljana:20210124T183000
DTSTAMP:20260424T214103
CREATED:20210111T191024Z
LAST-MODIFIED:20210128T092720Z
UID:1889-1611509400-1611513000@zupnija.trnovo.info
SUMMARY:Svetopisemski maraton
DESCRIPTION:Tudi v naši župniji smo organizirali mini svetopisemski maraton\, v tednu od 24.1.-29.1.2021. \n\n\n\nBrali bomo Matejev evangelij eno uro na dan\, od 17.30-18.30. Lahko se nam pridružiš v naši cerkvi ali bereš doma. Z branjem začnemo 24.1. ob 17.30.  \n\n\n\nBožja beseda je živa Heb 4\,12 \n\n\n\nVeč na strani: https://www.svetopisemskimaraton.si/
URL:https://zupnija.trnovo.info/dogodek/svetopisemski-maraton/2021-01-24/
ATTACH;FMTTYPE=image/png:https://zupnija.trnovo.info/wp-content/uploads/2021/01/SPM2021-arts.png
END:VEVENT
BEGIN:VEVENT
DTSTART;TZID=Europe/Ljubljana:20210125T193000
DTEND;TZID=Europe/Ljubljana:20210125T210000
DTSTAMP:20260424T214103
CREATED:20201120T194619Z
LAST-MODIFIED:20210124T140718Z
UID:1187-1611603000-1611608400@zupnija.trnovo.info
SUMMARY:Pogovori za odrasle
DESCRIPTION:Pogovori za odrasle bodo tokrat v cerkvi. Vabljeni.
URL:https://zupnija.trnovo.info/dogodek/pogovori-za-odrasle/
LOCATION:Kolezijska ulica 1\, Ljubljana
CATEGORIES:Kateheza za odrasle
ATTACH;FMTTYPE=image/jpeg:https://zupnija.trnovo.info/wp-content/uploads/2020/11/20201130_pogovori-za-odrasle-1-scaled.jpg
END:VEVENT
BEGIN:VEVENT
DTSTART;TZID=Europe/Ljubljana:20210128T193000
DTEND;TZID=Europe/Ljubljana:20210128T210000
DTSTAMP:20260424T214103
CREATED:20201120T194431Z
LAST-MODIFIED:20210111T083158Z
UID:1184-1611862200-1611867600@zupnija.trnovo.info
SUMMARY:FG - ODPOVEDANO: Evgen Bavčar in Katja Bednarik Sudec (razstava)
DESCRIPTION:
URL:https://zupnija.trnovo.info/dogodek/fg-evgen-bavcar-in-katja-bednarik-sudec-razstava/
LOCATION:Kolezijska ulica 1\, Ljubljana
CATEGORIES:Finžgarjeva galerija
END:VEVENT
BEGIN:VEVENT
DTSTART;VALUE=DATE:20210131
DTEND;VALUE=DATE:20210201
DTSTAMP:20260424T214103
CREATED:20201120T194220Z
LAST-MODIFIED:20210102T122717Z
UID:1178-1612051200-1612137599@zupnija.trnovo.info
SUMMARY:4. nedelja med letom
DESCRIPTION:Novi nauk. V njem samem je že »božja oblast«. To\, kar novi nauk terja\, je radikalizem pokorščine Bogu. Ne zahteva bega pred svetom\, ampak sredi sveta zahteva nedeljeno življenje za Boga in po njegovi zapovedi: »Ljubi Boga nad vse in bližnjega kakor samega sebe.« (prim. Mr 1\, 21-28) .Vsem župljanom in prebivalcem Trnovske četrtne skupnosti želim\, da bi Vas Božji otrok nežno privil k sebi in Vas napolnil s toplino in nežnostjo. Mi pa mu recimo: »Gospod\, rad/a/ te imam. Ti si moj Gospod in Bog.« Taka je Božja ljubezen. Naj bo naša tudi temu primerna.
URL:https://zupnija.trnovo.info/dogodek/4-ned-med-letom/
LOCATION:Kolezijska ulica 1\, Ljubljana
CATEGORIES:Nedelje in prazniki
END:VEVENT
BEGIN:VEVENT
DTSTART;TZID=Europe/Ljubljana:20210201T080000
DTEND;TZID=Europe/Ljubljana:20210201T210000
DTSTAMP:20260424T214103
CREATED:20210128T085344Z
LAST-MODIFIED:20210128T085346Z
UID:2148-1612166400-1612213200@zupnija.trnovo.info
SUMMARY:Katehumenat
DESCRIPTION:
URL:https://zupnija.trnovo.info/dogodek/katehumenat-4/
END:VEVENT
BEGIN:VEVENT
DTSTART;TZID=Europe/Ljubljana:20210202T000000
DTEND;TZID=Europe/Ljubljana:20210202T235959
DTSTAMP:20260424T214103
CREATED:20210128T085503Z
LAST-MODIFIED:20210203T101257Z
UID:2151-1612224000-1612310399@zupnija.trnovo.info
SUMMARY:Jezusovo darovanje
DESCRIPTION:
URL:https://zupnija.trnovo.info/dogodek/jezusovo-darovanje/
ATTACH;FMTTYPE=image/jpeg:https://zupnija.trnovo.info/wp-content/uploads/2021/01/378df2001f9afae9a289dde61d20eb85be55d882.jpg
END:VEVENT
BEGIN:VEVENT
DTSTART;TZID=Europe/Ljubljana:20210203T000000
DTEND;TZID=Europe/Ljubljana:20210203T235959
DTSTAMP:20260424T214103
CREATED:20210128T085823Z
LAST-MODIFIED:20210128T085825Z
UID:2158-1612310400-1612396799@zupnija.trnovo.info
SUMMARY:Sv. Blaž
DESCRIPTION:
URL:https://zupnija.trnovo.info/dogodek/sv-blaz/
END:VEVENT
BEGIN:VEVENT
DTSTART;TZID=Europe/Ljubljana:20210203T080000
DTEND;TZID=Europe/Ljubljana:20210203T210000
DTSTAMP:20260424T214103
CREATED:20210128T085638Z
LAST-MODIFIED:20210128T085749Z
UID:2154-1612339200-1612386000@zupnija.trnovo.info
SUMMARY:Karitas\, svetopisemska sk.
DESCRIPTION:
URL:https://zupnija.trnovo.info/dogodek/sv-blaz-karitas-svetopisemska-sk/
END:VEVENT
BEGIN:VEVENT
DTSTART;TZID=Europe/Ljubljana:20210205T000000
DTEND;TZID=Europe/Ljubljana:20210205T235959
DTSTAMP:20260424T214103
CREATED:20210128T085914Z
LAST-MODIFIED:20210128T090255Z
UID:2161-1612483200-1612569599@zupnija.trnovo.info
SUMMARY:Prvi petek
DESCRIPTION:
URL:https://zupnija.trnovo.info/dogodek/prvi-petek-2/
END:VEVENT
BEGIN:VEVENT
DTSTART;TZID=Europe/Ljubljana:20210206T000000
DTEND;TZID=Europe/Ljubljana:20210206T235959
DTSTAMP:20260424T214103
CREATED:20210128T085950Z
LAST-MODIFIED:20210128T090720Z
UID:2164-1612569600-1612655999@zupnija.trnovo.info
SUMMARY:Prva sobota
DESCRIPTION:
URL:https://zupnija.trnovo.info/dogodek/prva-sobota/
END:VEVENT
BEGIN:VEVENT
DTSTART;TZID=Europe/Ljubljana:20210207T000000
DTEND;TZID=Europe/Ljubljana:20210207T235959
DTSTAMP:20260424T214103
CREATED:20210128T090137Z
LAST-MODIFIED:20210211T081557Z
UID:2167-1612656000-1612742399@zupnija.trnovo.info
SUMMARY:5. nedelja med letom
DESCRIPTION:Ta dan vabi k razmišljanju o Jezusovem obisku v shodnici\, od koder je obiskal bolno Petrovo taščo. Njegov dotik z roko je ozdravljal. Moč\, ki jo je dobil v shodnici\, je obogatila množico ljudi\, ki so se zvečer zbrali na dvorišču pred hišo. Ozdravljal je bolne in pomagal drugim trpečim z različnimi težavami. Čutil se je zopet izpraznjenega in ni mu kazalo drugega\, kot da je šel in si z molitvijo zopet »napolnil akumulator«. Nam to kaj pove za naše osebno življenje?
URL:https://zupnija.trnovo.info/dogodek/5-nedelja-med-letom/
CATEGORIES:Nedelje in prazniki
ATTACH;FMTTYPE=image/jpeg:https://zupnija.trnovo.info/wp-content/uploads/2021/02/Christ_Healing_the_Mother_of_Simon_Peters_Wife_by_John_Bridges_pop1.jpg
END:VEVENT
BEGIN:VEVENT
DTSTART;TZID=Europe/Ljubljana:20210208T000000
DTEND;TZID=Europe/Ljubljana:20210208T235959
DTSTAMP:20260424T214103
CREATED:20210128T090830Z
LAST-MODIFIED:20210203T080452Z
UID:2170-1612742400-1612828799@zupnija.trnovo.info
SUMMARY:Prešernov dan
DESCRIPTION:
URL:https://zupnija.trnovo.info/dogodek/presernov-dan/
ATTACH;FMTTYPE=image/jpeg:https://zupnija.trnovo.info/wp-content/uploads/2021/01/Presernov-dan.jpg
END:VEVENT
BEGIN:VEVENT
DTSTART;TZID=Europe/Ljubljana:20210209T000000
DTEND;TZID=Europe/Ljubljana:20210209T235900
DTSTAMP:20260424T214103
CREATED:20210208T182735Z
LAST-MODIFIED:20211214T081545Z
UID:2379-1612828800-1612915140@zupnija.trnovo.info
SUMMARY:Fran Saleški Finžgar – 150 let
DESCRIPTION:V društvu Finžgarjeva galerija smo 150. obletnico rojstva našega velikega pisatelja in župnika Trnovske fare obeležili na prav poseben način. V veliko veselje in čast nam je\, da njegovo plodovito življenje predstavljamo v kratkem video posnetku lastne produkcije. Zahvaljujemo se vsem sodelujočim in podpornikom ter vas vabimo k ogledu in branju spremne besede\, ki jo je zapisal sedanji župnik\, Tone Kompare.Več v prispevku
URL:https://zupnija.trnovo.info/dogodek/2379/
CATEGORIES:Finžgarjeva galerija,IZPOSTAVLJENO
ATTACH;FMTTYPE=image/jpeg:https://zupnija.trnovo.info/wp-content/uploads/2021/02/FSFinzgar_150_FG-scaled.jpg
END:VEVENT
BEGIN:VEVENT
DTSTART;TZID=Europe/Ljubljana:20210214T000000
DTEND;TZID=Europe/Ljubljana:20210214T235959
DTSTAMP:20260424T214103
CREATED:20210211T081143Z
LAST-MODIFIED:20210211T081213Z
UID:2394-1613260800-1613347199@zupnija.trnovo.info
SUMMARY:6. nedelja med letom
DESCRIPTION:Jezus zopet preseneča z ozdravitvijo gobavca. V teh primerih ni šlo predvsem za samo ozdravljenje\, pač pa zato\, da so njegova dela kazala\, kdo je. Čudeži in njegova močna dela so ljudi napolnjevala z občudovanjem in preko teh znamenj so počasi spoznavali\, da je Božji mož\, morda je kdo že spregledal\, da je prišel obljubljeni in pričakovani Mesija. Za nas je zelo pomembno\, da se od njega učimo iskanja samote in priložnosti za molitev\, brez katere je človekovo življenje prazno in brez moči.
URL:https://zupnija.trnovo.info/dogodek/6-nedelja-med-letom/
CATEGORIES:Nedelje in prazniki
END:VEVENT
BEGIN:VEVENT
DTSTART;TZID=Europe/Ljubljana:20210215T200000
DTEND;TZID=Europe/Ljubljana:20210215T213000
DTSTAMP:20260424T214103
CREATED:20210128T091003Z
LAST-MODIFIED:20210214T201201Z
UID:2173-1613419200-1613424600@zupnija.trnovo.info
SUMMARY:Seja ŽPS
DESCRIPTION:Špela Kert Pust vas vabi na Zoom srečanje. \n\n\n\nŽPS \n\n\n\nČas: Feb 15\, 2021 20:00  \n\n\n\nPridružite se Zoom srečanju \n\n\n\nhttps://us05web.zoom.us/j/87398073511?pwd=SGJtckdBQ0RqNnhxbmU3c3Z2Sm1jdz09 \n\n\n\nMeeting ID: 873 9807 3511 \n\n\n\nPasscode: 4ckMDX
URL:https://zupnija.trnovo.info/dogodek/seja-zps-2/
CATEGORIES:Seje župnijskih delovnih teles
ATTACH;FMTTYPE=image/jpeg:https://zupnija.trnovo.info/wp-content/uploads/2021/01/unnamed-4.jpg
END:VEVENT
BEGIN:VEVENT
DTSTART;TZID=Europe/Ljubljana:20210217T000000
DTEND;TZID=Europe/Ljubljana:20210217T235959
DTSTAMP:20260424T214103
CREATED:20210128T091245Z
LAST-MODIFIED:20210211T170219Z
UID:2176-1613520000-1613606399@zupnija.trnovo.info
SUMMARY:Pepelnica
DESCRIPTION:V postni čas vstopamo na pepelnično sredo. To bodo lahko zares prave duhovne vaje. Kjerkoli bomo\, karkoli bomo delali\, v kakršnihkoli okoliščinah bomo živeli\, povsod bomo lahko več molili\, se postili in delali dobra dela. Prijaznost\, odprtost do sočloveka\, spoštovanje … bo najlepši post.
URL:https://zupnija.trnovo.info/dogodek/pepelnica/
ATTACH;FMTTYPE=image/jpeg:https://zupnija.trnovo.info/wp-content/uploads/2021/01/Cista-srijeda-ili-Pepelnica.jpg
END:VEVENT
BEGIN:VEVENT
DTSTART;TZID=Europe/Ljubljana:20210221T000000
DTEND;TZID=Europe/Ljubljana:20210221T235959
DTSTAMP:20260424T214103
CREATED:20210211T082250Z
LAST-MODIFIED:20210211T082254Z
UID:2403-1613865600-1613951999@zupnija.trnovo.info
SUMMARY:1. postna nedelja
DESCRIPTION:Ta dan nas vabi\, naj gremo z Jezusom v puščavo\, kjer bomo doživeli hudičeve zvijače in tolažbo angelov. V vsakem duhovnem boju je oboje navzoče. Človek napreduje predvsem takrat\, ko zmaguje hudobijo in dobiva za to notranjo tolažbo in srečo. Zato je tudi naša moč v spreobrnjenju.
URL:https://zupnija.trnovo.info/dogodek/1-postna-nedelja-2/
CATEGORIES:Nedelje in prazniki
ATTACH;FMTTYPE=image/jpeg:https://zupnija.trnovo.info/wp-content/uploads/2021/02/RCMFastingJesus-770x439_c-e1613933248707.jpg
END:VEVENT
BEGIN:VEVENT
DTSTART;TZID=Europe/Ljubljana:20210223T194500
DTEND;TZID=Europe/Ljubljana:20210223T210000
DTSTAMP:20260424T214103
CREATED:20210214T193108Z
LAST-MODIFIED:20210223T100259Z
UID:2475-1614109500-1614114000@zupnija.trnovo.info
SUMMARY:Seja ŽGS
DESCRIPTION:Seja bo potekala v živo. Za vse\, ki se seje ne morete udeležiti\, pa bo omogočeno  sodelovanje preko Zoom povezave: https://us05web.zoom.us/j/88492748143?pwd=QlByaGx6WVByWVJaUU9idndtdisvdz09 \n\n\n\nMeeting ID: 884 9274 8143Passcode: 7wBhiQ
URL:https://zupnija.trnovo.info/dogodek/seja-zgs-2/
CATEGORIES:Seje župnijskih delovnih teles
ATTACH;FMTTYPE=image/jpeg:https://zupnija.trnovo.info/wp-content/uploads/2021/02/gospodarstvo.jpg
END:VEVENT
BEGIN:VEVENT
DTSTART;TZID=Europe/Ljubljana:20210224T000000
DTEND;TZID=Europe/Ljubljana:20210224T235959
DTSTAMP:20260424T214104
CREATED:20210222T161440Z
LAST-MODIFIED:20210222T161744Z
UID:2544-1614124800-1614211199@zupnija.trnovo.info
SUMMARY:Sv. Matija\, apostol
DESCRIPTION:
URL:https://zupnija.trnovo.info/dogodek/sv-matija-apostol/
CATEGORIES:Izpostavljeni godovnjaki
ATTACH;FMTTYPE=image/jpeg:https://zupnija.trnovo.info/wp-content/uploads/2021/02/sveti-matija-svetac-dana-book-evangelizacija-990x658-1.jpg
END:VEVENT
BEGIN:VEVENT
DTSTART;TZID=Europe/Ljubljana:20210226T183000
DTEND;TZID=Europe/Ljubljana:20210226T190000
DTSTAMP:20260424T214104
CREATED:20210222T161917Z
LAST-MODIFIED:20210222T161920Z
UID:2550-1614364200-1614366000@zupnija.trnovo.info
SUMMARY:Križev pot
DESCRIPTION:
URL:https://zupnija.trnovo.info/dogodek/krizev-pot/
END:VEVENT
BEGIN:VEVENT
DTSTART;TZID=Europe/Ljubljana:20210228T000000
DTEND;TZID=Europe/Ljubljana:20210228T235959
DTSTAMP:20260424T214104
CREATED:20210222T160634Z
LAST-MODIFIED:20210222T160636Z
UID:2541-1614470400-1614556799@zupnija.trnovo.info
SUMMARY:2. postna nedelja
DESCRIPTION:
URL:https://zupnija.trnovo.info/dogodek/2-postna-nedelja/
END:VEVENT
BEGIN:VEVENT
DTSTART;TZID=Europe/Ljubljana:20210305T180000
DTEND;TZID=Europe/Ljubljana:20210305T190000
DTSTAMP:20260424T214104
CREATED:20210307T204020Z
LAST-MODIFIED:20210307T204022Z
UID:2943-1614967200-1614970800@zupnija.trnovo.info
SUMMARY:Križev pot
DESCRIPTION:
URL:https://zupnija.trnovo.info/dogodek/krizev-pot-4/
END:VEVENT
END:VCALENDAR