BEGIN:VCALENDAR
VERSION:2.0
PRODID:-//Župnija Lj.-Trnovo - ECPv5.10.1//NONSGML v1.0//EN
CALSCALE:GREGORIAN
METHOD:PUBLISH
X-WR-CALNAME:Župnija Lj.-Trnovo
X-ORIGINAL-URL:https://zupnija.trnovo.info
X-WR-CALDESC:Events for Župnija Lj.-Trnovo
BEGIN:VTIMEZONE
TZID:Europe/Ljubljana
BEGIN:DAYLIGHT
TZOFFSETFROM:+0100
TZOFFSETTO:+0200
TZNAME:CEST
DTSTART:20250330T010000
END:DAYLIGHT
BEGIN:STANDARD
TZOFFSETFROM:+0200
TZOFFSETTO:+0100
TZNAME:CET
DTSTART:20251026T010000
END:STANDARD
END:VTIMEZONE
BEGIN:VEVENT
DTSTART;TZID=Europe/Ljubljana:20251106T180000
DTEND;TZID=Europe/Ljubljana:20251106T210000
DTSTAMP:20260425T180049
CREATED:20251029T075534Z
LAST-MODIFIED:20251029T075535Z
UID:35146-1762452000-1762462800@zupnija.trnovo.info
SUMMARY:Otvoritev razstave BARVNI KROKIJI AKTOV - INVENTURA _ Ljubomir Zidar
DESCRIPTION:Vabljeni na otvoritev razstave akademskega kiparja\, konservatorja – restavratorja in magistra umetnosti Ljubomirja Zidarja\, ki bo v četrtek\, 6. novembra ob 18. uri\, v Finžgarjevi galeriji. \n\n\n\n\n\n\n\n\n\n\nBarvni krokiji aktov – inventuraRojen 14. 11. 1950 v Vižmarjih nad Ljubljano. 1972 končal srednjo šolo za oblikovanje v Ljubljani\, 1977 diplomiral na likovni akademiji v Ljubljani – oddelek kiparstvo\, 1983 zaključil na restavratorski specialki na likovni akademiji v Ljubljani. Od leta 1975 se je se začel ukvarjati z restavratorstvom vse do danes\, vmes pa je deloval kot kipar\, slikar izvajal različne likovno pedagoške vzgojne programe za mladino in odrasle. V letih od 2003–2010 je bil predsednik zveze likovnih društev Slovenije in s tem organizator mnogih razstav in dogodkov. Od leta 1991 – 2000 je kot restavrator deloval v prvem privatnem restavratorskem podjetju Ulrih&Co. \n\n\n\nKot kipar je sodeloval na večjih skupinskih razstavah zlasti na septembrskih razstavah v ljubljanskem magistratu\, ki jih je organiziral Zavod za kiparstvo. V letih od 2007–2015 je bil aktiven v organiziranju mednarodnih dogodkov v smislu promocije vzhodno evropske umetnosti zlasti med Ukrajino in Slovenijo (organizacija razstav in mednarodnih slikarskih kolonij). Sam je ob tem imel nekaj manjših samostojnih kiparsko in kiparsko – slikarskih razstav. \n\n\n\nDanašnjo razstavo slik\, ki so reprodukcija originalov imenuje „Inventura“. Ob pregledu minulega dela je prišel do ideje\, da je dobro vzeti iz pozabe tudi dela iz preteklosti zlasti še iz študentskih let. Razstavljene slike so krokiji aktov\, ki jih je kasneje obdelal s lavirnimi tuši. Nastala je zbirka dvajsetih aktov zanimivih barvitosti. Originali so na formatu A4 vendar pa je s povečavo želel večji poudarek v učinkovitosti barvnih ploskev. \n\n\n\nIvančna Gorica\, 25.11.2025
URL:https://zupnija.trnovo.info/dogodek/otvoritev-razstave-barvni-krokiji-aktov-inventura-_-ljubomir-zidar/
CATEGORIES:DFG,Finžgarjeva galerija,Kultura in druženje
ATTACH;FMTTYPE=image/jpeg:https://zupnija.trnovo.info/wp-content/uploads/2025/10/4552_Ljubomir-Zidar-–-prikazna-scaled.jpg
END:VEVENT
END:VCALENDAR