BEGIN:VCALENDAR
VERSION:2.0
PRODID:-//Župnija Lj.-Trnovo - ECPv5.10.1//NONSGML v1.0//EN
CALSCALE:GREGORIAN
METHOD:PUBLISH
X-WR-CALNAME:Župnija Lj.-Trnovo
X-ORIGINAL-URL:https://zupnija.trnovo.info
X-WR-CALDESC:Events for Župnija Lj.-Trnovo
BEGIN:VTIMEZONE
TZID:Europe/Ljubljana
BEGIN:DAYLIGHT
TZOFFSETFROM:+0100
TZOFFSETTO:+0200
TZNAME:CEST
DTSTART:20250330T010000
END:DAYLIGHT
BEGIN:STANDARD
TZOFFSETFROM:+0200
TZOFFSETTO:+0100
TZNAME:CET
DTSTART:20251026T010000
END:STANDARD
END:VTIMEZONE
BEGIN:VEVENT
DTSTART;TZID=Europe/Ljubljana:20251113T180000
DTEND;TZID=Europe/Ljubljana:20251113T210000
DTSTAMP:20260423T203936
CREATED:20251104T060529Z
LAST-MODIFIED:20251104T060532Z
UID:35153-1763056800-1763067600@zupnija.trnovo.info
SUMMARY:DOTIK BESED _ predstavitev knjige
DESCRIPTION:Vabljeni na predstavitev knjige Dušana M. Brešarja\, DOTIK BESED\, v kateri avtor predstavi zgodovino opismenjevanja slepih in slabovidnih. Dogodek bo v četrtek\, 13. novmbra ob 18. uri.
URL:https://zupnija.trnovo.info/dogodek/dotik-besed-_-predstavitev-knjige/
CATEGORIES:DFG,Finžgarjeva galerija,Kultura in druženje
ATTACH;FMTTYPE=image/jpeg:https://zupnija.trnovo.info/wp-content/uploads/2025/11/Dotik-01-–-kopija.jpg
END:VEVENT
BEGIN:VEVENT
DTSTART;TZID=Europe/Ljubljana:20251114T190000
DTEND;TZID=Europe/Ljubljana:20251114T210000
DTSTAMP:20260423T203936
CREATED:20251105T201138Z
LAST-MODIFIED:20251105T201144Z
UID:35161-1763146800-1763154000@zupnija.trnovo.info
SUMMARY:SEJA ŽPS
DESCRIPTION:
URL:https://zupnija.trnovo.info/dogodek/seja-zps-13/
CATEGORIES:Seje župnijskih delovnih teles
END:VEVENT
BEGIN:VEVENT
DTSTART;TZID=Europe/Ljubljana:20251116T100000
DTEND;TZID=Europe/Ljubljana:20251116T113000
DTSTAMP:20260423T203936
CREATED:20251105T201735Z
LAST-MODIFIED:20251105T201737Z
UID:35165-1763287200-1763292600@zupnija.trnovo.info
SUMMARY:PRAZNOVANJE OBLETNIC KRSTOV
DESCRIPTION:Dragi krščenci in starši ! \n\n\n\nŽupnija Trnovo vas vabi k slovesnosti obletnice krstov\, k sv. maši v nedeljo\, 16. novembra 2025\, ob 10. uri. Spomnili se bomo krstov najmlajših in se Bogu zahvalili za dar sv.krsta\, po katerem smo postali ljubljeni Božji otroci. \n\n\n\nTo bo praznik otrok\, ki so prejeli sv.krst v zadnjih letih. Ob vhodu v cerkev navedite\, da ste povabljeni\, krščenec tako dobi svečko. \n\n\n\nPo sv.maši bo za vse srečanje in pogostitev v paviljonu Agape\, v primeru slabega vremena pa v župnišču. \n\n\n\nVaš župnik
URL:https://zupnija.trnovo.info/dogodek/praznovanje-obletnic-krstov-2/
CATEGORIES:Praznik
ATTACH;FMTTYPE=image/png:https://zupnija.trnovo.info/wp-content/uploads/2025/11/catholic-baptism-clipart-xl.png
END:VEVENT
END:VCALENDAR