BEGIN:VCALENDAR
VERSION:2.0
PRODID:-//Župnija Lj.-Trnovo - ECPv5.10.1//NONSGML v1.0//EN
CALSCALE:GREGORIAN
METHOD:PUBLISH
X-WR-CALNAME:Župnija Lj.-Trnovo
X-ORIGINAL-URL:https://zupnija.trnovo.info
X-WR-CALDESC:Events for Župnija Lj.-Trnovo
BEGIN:VTIMEZONE
TZID:Europe/Ljubljana
BEGIN:DAYLIGHT
TZOFFSETFROM:+0100
TZOFFSETTO:+0200
TZNAME:CEST
DTSTART:20260329T010000
END:DAYLIGHT
BEGIN:STANDARD
TZOFFSETFROM:+0200
TZOFFSETTO:+0100
TZNAME:CET
DTSTART:20261025T010000
END:STANDARD
END:VTIMEZONE
BEGIN:VEVENT
DTSTART;TZID=Europe/Ljubljana:20260218T000000
DTEND;TZID=Europe/Ljubljana:20260218T235959
DTSTAMP:20260423T041725
CREATED:20260218T060358Z
LAST-MODIFIED:20260218T060530Z
UID:35833-1771372800-1771459199@zupnija.trnovo.info
SUMMARY:PEPELNICA - začetek postnega časa
DESCRIPTION:Pepelnica\, 18. februar 2026\, začetek postnega časa \n\n\n\nPepelnica je prvi dan\, za katerega je Cerkev že od nekdaj uveljavila strogi post. To pomeni najbolj spokoren in resen dan v letu. Kristjan ali tudi nekristjan starejši od 14. leta je povabljen\, da se ta dan vzdrži vsake mesne jedi\, da se le enkrat na dan naje do sitega in da dan preživi v spokornem in molitvenem duhu\, ki naj bo poln ljubezni in veselja. Ta dan ne sme biti čemeren. Slaba volja mora proč\, pozornost do sočloveka mora biti največja v letu in tudi vsako najmanjše delo naj bo opravljeno z ljubeznijo. Iz tega so izvzeti otroci in odrasli od izpolnjenega 75. leta. Bolniki in starejši niso vezani\, čeprav je vse odvisno od posameznika\, kako se počuti in kaj želi prispevati v skupno duhovno dobro.Zelo pomembna je udeležba pri bogoslužju s pepeljenjem\, sveta spoved in prejem svetega obhajila. Vsebinsko bogata Pepelnica močno vpliva na vse dni postnega časa in izbrana postna vaja\, ki si jo vsak sam izbere\, dobi večjo moč in močnejši zagon.
URL:https://zupnija.trnovo.info/dogodek/pepelnica-zacetek-postnega-casa/
CATEGORIES:Praznik
ATTACH;FMTTYPE=image/png:https://zupnija.trnovo.info/wp-content/uploads/2026/02/pepelnica.png
END:VEVENT
BEGIN:VEVENT
DTSTART;TZID=Europe/Ljubljana:20260220T000000
DTEND;TZID=Europe/Ljubljana:20260220T235959
DTSTAMP:20260423T041725
CREATED:20260218T060923Z
LAST-MODIFIED:20260218T060948Z
UID:35840-1771545600-1771631999@zupnija.trnovo.info
SUMMARY:POSTNI PETEK - postni dan
DESCRIPTION:Navadni postni dan se od strogega posta razlikuje v tem\, da nam postava nalaga\, naj tisti dan ne jemo nobenih mesnih jedi. Zaželjeno je\, da se udeležimo pobožnosti križevega pota in da premišljujemo oJezusovem trpljenju. \n\n\n\nPo večernem bogoslužju bo seja Župnijskega gospodarskega sveta.
URL:https://zupnija.trnovo.info/dogodek/postni-petek-postni-dan/
ATTACH;FMTTYPE=image/jpeg:https://zupnija.trnovo.info/wp-content/uploads/2026/02/get_img.jpg
END:VEVENT
BEGIN:VEVENT
DTSTART;TZID=Europe/Ljubljana:20260222T000000
DTEND;TZID=Europe/Ljubljana:20260222T235959
DTSTAMP:20260423T041725
CREATED:20260218T061136Z
LAST-MODIFIED:20260218T061250Z
UID:35845-1771718400-1771804799@zupnija.trnovo.info
SUMMARY:1. POSTNA NEDELJA
DESCRIPTION:V postnem času lahko pričakujemo\, da nas bodo oblegale posebne in velike skušnjave\, ki bi nam rade iztrgale ali nam nevtralizirale naše dobre duhovne sklepe. To se bo najbolj močno pokazalo v družinskih odnosih. Ostra beseda\, graja\, slaba volja\, neopravljene družinske dolžnosti in mnogo drugih razlogov bo hotelo spodnesti lepo vzdušje in navzočnost pripravljenosti za duhovni boj. Zato naj bo Postno velikonočni koledar na vidnem mestu v družini\, da se bo lažje spomniti in se izogniti stvarem\, ki jih sicer nihče ne želi\, vendar jih v človeški slabosti težko premagamo.  \n\n\n\nTo nedeljo bodo tudi volitve novih članov Župnijskega pastoralnega sveta.
URL:https://zupnija.trnovo.info/dogodek/1-postna-nedelja-3/
CATEGORIES:Nedelje in prazniki
END:VEVENT
BEGIN:VEVENT
DTSTART;TZID=Europe/Ljubljana:20260222T190000
DTEND;TZID=Europe/Ljubljana:20260222T210000
DTSTAMP:20260423T041725
CREATED:20260215T104627Z
LAST-MODIFIED:20260215T105214Z
UID:35803-1771786800-1771794000@zupnija.trnovo.info
SUMMARY:TAIZEJSKI NAPEVI
DESCRIPTION:Maša s klasično glasbo\, v izvedbi Mladinskega pevskega zbora Župnije Trnovo\, bo v nedeljo\, 22. 2. 2026 ob 19:00\, v cerkvi sv. Janeza Krstnika.  \n\n\n\nVabljeni! \n\n\n\n\n\n\n\n\n\n\n\n\n\n\nMaša s klasično glasbo 22.2. ob 19h – predstavitev zbora \n\n\n\nMladinski pevski zbor Župnije Trnovo že vrsto let združuje srednješolce\, študente in mlade starše\, ki s svojim petjem bogatijo nedeljska bogoslužja. Zbor je bil ustanovljen leta 2004 in je dolgo časa deloval pod vodstvom Maje Krevs\, kasneje pa je vodenje prevzela Martina Rot. S sodelovanjem pri mašah\, na duhovnih vajah\, slavljenjih in molitvah je zbor postal ena izmed najbolj stanovitnih skupin v naši župniji. Kljub različnim življenskim potem pevcev vse člane druži ljubezen do zborovskega petja\, druženja in poglabljanja osebne vere. Od sezone 2022/2023 pevski zbor vodita Ana in Manca Kosmač. \n\n\n\nVsebina \n\n\n\nTaizejski napevi izhajajo iz ekumenske skupnosti Taizé v Franciji\, ki jo je brat Roger ustanovil leta 1954. Skupnost se je v tej francoski vasici sprva oblikovala kot zatočišče beguncem v času druge svetovne vojne\, kasneje pa je postala center delovanja skupnosti in zbirališče romarjev s celega sveta. Skupnost bratov iz Taizeja vse od svoje ustanovitve poudarja pomen skupnosti\, sobivanja\, branja Božje besede in preprostosti.  \n\n\n\nPosebnost taizejskih spevov\, ki jih bomo danes slišali tekom bogoslužja\, je v njihovi preprostosti. Namen harmoničnih melodij\, ki verniku hitro postanejo znane\, služi predvsem zavestnemu ponotranjenju besedila\, ki izvira iz Svetega pisma ali molitvenih besedil. Značilnost izvajanja taizejskih spevov je v njihovem ponavljanju vedno istega besedila; prav to pa posamezniku omogoči\, da globoka besedila prodrejo v njegovo zavest in odpiranja srca za molitev. Največkrat napev spremljajo tudi različni instrumenti\, vselej pa so k izvajanju spevov vabljeni tudi prisotni verniki\, ki s sodelovanjem gradijo skupnost in vstopajo v stik z Bogom. \n\n\n\nTaizejski spevi pogosto presegajo jezikovne in kulturne meje — pojejo se v različnih jezikih\, kar poudarja njihovo ekumensko razsežnost in sporočilo edinosti. Zlasti pa se njihova večjezična uporaba izrazi na evropskih srečanjih mladih\, ki smo ga v Ljubljani gostili leta 2023. \n\n\n\nV svetu neprestanega hitenja\, nasičenosti in potrebe po vedno novem nam taizejski spevi v svoji preprostosti odpirajo pot do srca\, predstavljajo nam način pristne skupne molitve\, nas spodbujajo k razmisleku\, edinosti in miru. \n\n\n\nProgram: \n\n\n\nVSTOP: Blizu je Bog \n\n\n\nPSALM: v Gospodu je moja moč \n\n\n\nDAROVANJE: Bog je Ljubezen \n\n\n\nOBHAJILO: V tebi je izvir življenja; kjer dobrota je \n\n\n\nKONEC: Daj nam mir Gospod
URL:https://zupnija.trnovo.info/dogodek/taizejski-napevi/
CATEGORIES:DFG,Duhovnost in druženje,Maša s klasično glasbo
ATTACH;FMTTYPE=image/jpeg:https://zupnija.trnovo.info/wp-content/uploads/2026/02/Mladinski-pevski-zbor-Zupnije-Trnovo_16-6-2024-scaled.jpg
END:VEVENT
END:VCALENDAR