BEGIN:VCALENDAR
VERSION:2.0
PRODID:-//Župnija Lj.-Trnovo - ECPv5.10.1//NONSGML v1.0//EN
CALSCALE:GREGORIAN
METHOD:PUBLISH
X-WR-CALNAME:Župnija Lj.-Trnovo
X-ORIGINAL-URL:https://zupnija.trnovo.info
X-WR-CALDESC:Events for Župnija Lj.-Trnovo
BEGIN:VTIMEZONE
TZID:Europe/Ljubljana
BEGIN:DAYLIGHT
TZOFFSETFROM:+0100
TZOFFSETTO:+0200
TZNAME:CEST
DTSTART:20260329T010000
END:DAYLIGHT
BEGIN:STANDARD
TZOFFSETFROM:+0200
TZOFFSETTO:+0100
TZNAME:CET
DTSTART:20261025T010000
END:STANDARD
END:VTIMEZONE
BEGIN:VEVENT
DTSTART;TZID=Europe/Ljubljana:20260306T000000
DTEND;TZID=Europe/Ljubljana:20260306T235959
DTSTAMP:20260423T004432
CREATED:20260303T214412Z
LAST-MODIFIED:20260303T214413Z
UID:35873-1772755200-1772841599@zupnija.trnovo.info
SUMMARY:Postni petek
DESCRIPTION:Mt 21\,33-43.45-46. \n\n\n\nPoleg udeležbe pobožnosti križevega pota je ta dan tudi prvi petek. Pozornost na Jezusovo prebodeno srce\, ki se je darovalo za nas\, se je močno razvila na začetku novega veka\, ko je bilo človeštvo pijano od uspehov na tehničnem področju\, na področju znanosti in tehnike prepričano\, da bo samo s svojimi sposobnostmi uspelo doseči popolno neodvisnost ob Božje pomoči in Božjih načrtov. Kot odgovor na to zablodo\, ki ponekod v določenih krogih družbe še vedno ni doumelo\, da je človek brez Boga revček in da prej povzroči sebi hude traume kot pa rešitve. Z redno udeležbo devetih prvih petkov je v spodbudo zagotovilo srečno smrt in srečno zadnjo uro.  
URL:https://zupnija.trnovo.info/dogodek/postni-petek/
END:VEVENT
BEGIN:VEVENT
DTSTART;TZID=Europe/Ljubljana:20260308T000000
DTEND;TZID=Europe/Ljubljana:20260308T235959
DTSTAMP:20260423T004432
CREATED:20260303T214602Z
LAST-MODIFIED:20260303T214604Z
UID:35877-1772928000-1773014399@zupnija.trnovo.info
SUMMARY:3. Postna nedelja
DESCRIPTION:Jn 4\,5-42.    \n\n\n\nJezusovo srečanje s Samarijanko je odprlo več vprašanj in dalo mnogo odgovorov. Najprej sporočilo\, da se noben dogodek ne zgodi slučajno. Jezus je pri vodnjaku ostal sam. Učenci so šli v vas v trgovino. To je prvo veliko znamenje. Pogovor se ne bi mogel tako razviti v globino in k bistvu\, če bi bili učenci poleg. Drugo znamenje je čudenje apostolov\, da je bil sam z žensko\, tujko in nevernico. Jezus pokaže\, da predsodki neke kulture ne smejo biti ovira pri reševanju duš. Živela je z neporočenim moškim\, a zelo odprta za resnico\, bolj kot mnoge njene prijateljice iz urejenih zakonskih zvez. Po pogovoru z Jezusom je pustila vse in postala misijonarka vaščanom: “Poglejte človeka\, ki je vse vedel  o meni. Kaj če ni on Mesija?” Bog nam govori po čisto vsakdanjih dogodkih\, a mi tega pogosto ne opazimo. Ta teden bodimo posebej pozorni na to! 10. marec: v torek\, 10. marca\, bo ob 19. uri priprava na krst.
URL:https://zupnija.trnovo.info/dogodek/3-postna-nedelja-2/
END:VEVENT
BEGIN:VEVENT
DTSTART;TZID=Europe/Ljubljana:20260308T000000
DTEND;TZID=Europe/Ljubljana:20260308T235959
DTSTAMP:20260423T004432
CREATED:20260307T080039Z
LAST-MODIFIED:20260307T080040Z
UID:35889-1772928000-1773014399@zupnija.trnovo.info
SUMMARY:3. Postna nedelja
DESCRIPTION:Jn 4\,5-42   \n\n\n\nJezusovo srečanje s Samarijanko je odprlo več vprašanj in dalo mnogo odgovorov. Najprej sporočilo\, da se noben dogodek ne zgodi slučajno. Jezus je pri vodnjaku ostal sam. Učenci so šli v vas v trgovino. To je prvo veliko znamenje. Pogovor se ne bi mogel tako razviti v globino in k bistvu\, če bi bili učenci poleg. Drugo znamenje je čudenje apostolov\, da je bil sam z žensko\, tujko in nevernico. Jezus pokaže\, da predsodki neke kulture ne smejo biti ovira pri reševanju duš. Živela je z neporočenim moškim\, a zelo odprta za resnico\, bolj kot mnoge njene prijateljice iz urejenih zakonskih zvez. Po pogovoru z Jezusom je pustila vse in postala misijonarka vaščanom: “Poglejte človeka\, ki je vse vedel  o meni. Kaj če ni on Mesija?” Bog nam govori po čisto vsakdanjih dogodkih\, a mi tega pogosto ne opazimo. Ta teden bodimo posebej pozorni na to!
URL:https://zupnija.trnovo.info/dogodek/3-postna-nedelja-3/
CATEGORIES:Nedelje in prazniki
ATTACH;FMTTYPE=image/jpeg:https://zupnija.trnovo.info/wp-content/uploads/2026/03/Posnetek-zaslona-2026-03-07-085902.jpg
END:VEVENT
END:VCALENDAR